Workbook

Sheet 1B
A1: Fold increase in luminescence
A2: 2.1723584
A3: 2.0960119
A4: 2.0751458
A5: 2.0657324
A6: 1.9209311
A7: 1.9192245
A8: 1.8528221
A9: 1.8455005
A10: 1.833873
A11: 1.8264057
A12: 1.8240122
A13: 1.7889652
... A2580: 0.001565

Sheet 1C_BRCT 7-8-PHF8-C
B1: Gilteritinib (ASP2215) | C1: Toremifene Citrate | D1: Lapatinib (GW-572016) Ditosylate | E1: Pazopanib HCl (GW786034 HCl) | F1: Escin | G1: Mefloquine HCl | H1: Calcein-AM 10mM | I1: CB-5083 | J1: Nintedanib Ethanesulfonate Salt | K1: Quinacrine 2HCl | L1: Lomitapide Mesylate | M1: Bifonazole | N1: Digoxigenin | O1: Regorafenib | P1: Sunitinib | Q1: Sunitinib Malate | R1: Lomitapide | S1: Rilpivirine | T1: Digoxin | U1: Anlotinib (AL3818) dihydrochloride | V1: Sorafenib | W1: Regorafenib Monohydrate | X1: Benidipine HCl | Y1: Dronedarone | Z1: Lapatinib | AA1: Lacidipine | AB1: Sorafenib Tosylate | AC1: Manidipine | AD1: Cilnidipine | AE1: Penfluridol | AF1: Octenidine Dihydrochloride | AG1: Saikosaponin D | AH1: Terfenadine | AI1: Verteporfin | AJ1: Ceritinib (LDK378) | AK1: Saikosaponin A | AL1: Tegaserod Maleate | AM1: Mitoxantrone 2HCl | AN1: Proflavine Hemisulfate | AO1: Etravirine (TMC125) | AP1: Homoharringtonine | AQ1: Halofuginone | AR1: Harringtonine | AS1: Ponatinib (AP24534) | AT1: Auranofin | AU1: Sanguinarine | AV1: Zinc Pyrithione | AW1: Sanguinarine chloride
A2: Repeat1 | B2: 0.531889 | C2: 0.344731 | D2: 0.481748 | E2: 0.620033 | F2: 0.485283 | G2: 0.483594 | H2: 0.494076 | I2: 0.454418 | J2: 0.473785 | K2: 0.416296 | L2: 0.239565 | M2: 0.434114 | N2: 0.289348 | O2: 0.296677 | P2: 0.253841 | Q2: 0.289548 | R2: 0.216625 | S2: 0.233267 | T2: 0.336831 | U2: 0.226178 | V2: 0.25668 | W2: 0.222529 | X2: 0.245451 | Y2: 0.158017 | Z2: 0.240274 | AA2: 0.152849 | AB2: 0.222574 | AC2: 0.217689 | AD2: 0.236124 | AE2: 0.108962 | AF2: 0.073705 | AG2: 0.122388 | AH2: 0.127504 | AI2: 0.080637 | AJ2: 0.07952 | AK2: 0.072589 | AL2: 0.064892 | AM2: 0.086507 | AN2: 0.040917 | AO2: 0.026366 | AP2: 0.008715 | AQ2: 0.003918 | AR2: 0.00605 | AS2: 0.007469 | AT2: 0.003378 | AU2: 0.000795 | AV2: 0.001084 | AW2: 0.000753
A3: Repeat2 | B3: 0.592687 | C3: 0.586762 | D3: 0.532054 | E3: 0.321333 | F3: 0.362057 | G3: 0.499777 | H3: 0.534812 | I3: 0.397944 | J3: 0.38789 | K3: 0.297235 | L3: 0.382596 | M3: 0.298087 | N3: 0.234328 | O3: 0.217381 | P3: 0.248969 | Q3: 0.219216 | R3: 0.354064 | S3: 0.288715 | T3: 0.153147 | U3: 0.308181 | V3: 0.163011 | W3: 0.218772 | X3: 0.245839 | Y3: 0.226037 | Z3: 0.253314 | AA3: 0.29422 | AB3: 0.163957 | AC3: 0.200866 | AD3: 0.164939 | AE3: 0.206595 | AF3: 0.18068 | AG3: 0.203528 | AH3: 0.16963 | AI3: 0.125649 | AJ3: 0.104894 | AK3: 0.125908 | AL3: 0.099089 | AM3: 0.051198 | AN3: 0.022399 | AO3: 0.021244 | AP3: 0.005454 | AQ3: 0.003297 | AR3: 0.006769 | AS3: 0.007205 | AT3: 0.003724 | AU3: 0.002845 | AV3: 0.001219 | AW3: 0.001205
A4: Repeat3 | B4: 0.666612 | C4: 0.617847 | D4: 0.535327 | E4: 0.570912 | F4: 0.630666 | G4: 0.472395 | H4: 0.388278 | I4: 0.385576 | J4: 0.336236 | K4: 0.312302 | L4: 0.396615 | M4: 0.280972 | N4: 0.403983 | O4: 0.373794 | P4: 0.366837 | Q4: 0.351281 | R4: 0.281655 | S4: 0.305694 | T4: 0.333699 | U4: 0.255023 | V4: 0.358498 | W4: 0.321633 | X4: 0.256739 | Y4: 0.328629 | Z4: 0.210505 | AA4: 0.256217 | AB4: 0.312851 | AC4: 0.234041 | AD4: 0.151896 | AE4: 0.183887 | AF4: 0.2352 | AG4: 0.143725 | AH4: 0.160843 | AI4: 0.166767 | AJ4: 0.172707 | AK4: 0.092214 | AL4: 0.087758 | AM4: 0.070266 | AN4: 0.029832 | AO4: 0.034858 | AP4: 0.019769 | AQ4: 0.022476 | AR4: 0.014399 | AS4: 0.010908 | AT4: 0.007928 | AU4: 0.006003 | AV4: 0.002663 | AW4: 0.002602

Sheet 1C_BRCT 7-8-FANCJ-C
B1: Saikosaponin D | C1: Terfenadine | D1: Octenidine Dihydrochloride | E1: Saikosaponin A | F1: Mitoxantrone 2HCl | G1: Homoharringtonine | H1: Escin | I1: Digoxin | J1: Digoxigenin | K1: Gilteritinib (ASP2215) | L1: Dronedarone | M1: Toremifene Citrate | N1: CB-5083 | O1: Verteporfin | P1: Pazopanib HCl (GW786034 HCl) | Q1: Regorafenib Monohydrate | R1: Sorafenib Tosylate | S1: Quinacrine 2HCl | T1: Lapatinib (GW-572016) Ditosylate | U1: Harringtonine | V1: Regorafenib | W1: Tegaserod Maleate | X1: Lomitapide Mesylate | Y1: Proflavine Hemisulfate | Z1: Rilpivirine | AA1: Sorafenib | AB1: Lomitapide | AC1: Mefloquine HCl | AD1: Halofuginone | AE1: Sunitinib Malate | AF1: Sunitinib | AG1: Anlotinib (AL3818) dihydrochloride | AH1: Nintedanib Ethanesulfonate Salt | AI1: Bifonazole | AJ1: Lapatinib | AK1: Penfluridol | AL1: Calcein-AM 10mM | AM1: Manidipine | AN1: Benidipine HCl | AO1: Lacidipine | AP1: Cilnidipine | AQ1: Ponatinib (AP24534) | AR1: Ceritinib (LDK378) | AS1: Zinc Pyrithione | AT1: Auranofin | AU1: Etravirine (TMC125) | AV1: Sanguinarine chloride | AW1: Sanguinarine
A2: Repeat1 | B2: 1.672089 | C2: 1.187885 | D2: 1.365939 | E2: 1.422559 | F2: 1.282389 | G2: 1.296519 | H2: 1.30091 | I2: 1.080446 | J2: 1.041745 | K2: 0.96949 | L2: 1.119069 | M2: 1.000343 | N2: 0.584539 | O2: 0.883965 | P2: 0.769695 | Q2: 0.70453 | R2: 0.708935 | S2: 0.770626 | T2: 0.721733 | U2: 0.772653 | V2: 0.605845 | W2: 0.86418 | X2: 0.560855 | Y2: 0.697303 | Z2: 0.733739 | AA2: 0.860828 | AB2: 0.592222 | AC2: 0.464386 | AD2: 0.575868 | AE2: 0.59072 | AF2: 0.572202 | AG2: 0.706748 | AH2: 0.676707 | AI2: 0.555456 | AJ2: 0.579786 | AK2: 0.452633 | AL2: 0.422392 | AM2: 0.35068 | AN2: 0.324677 | AO2: 0.242697 | AP2: 0.165481 | AQ2: 0.202015 | AR2: 0.201643 | AS2: 0.025867 | AT2: 0.016658 | AU2: 0.013242 | AV2: 0.004599 | AW2: 0.005593
A3: Repeat2 | B3: 1.227421 | C3: 1.385057 | D3: 1.273412 | E3: 1.220359 | F3: 1.24705 | G3: 1.229733 | H3: 1.080305 | I3: 1.316727 | J3: 1.244431 | K3: 1.061262 | L3: 1.0375 | M3: 0.958485 | N3: 0.903814 | O3: 1.014538 | P3: 1.047235 | Q3: 1.000539 | R3: 0.89853 | S3: 0.865821 | T3: 0.802814 | U3: 0.706295 | V3: 0.897017 | W3: 0.710048 | X3: 0.791561 | Y3: 0.760006 | Z3: 0.899514 | AA3: 0.604333 | AB3: 0.782662 | AC3: 0.820209 | AD3: 0.704342 | AE3: 0.716158 | AF3: 0.73091 | AG3: 0.597255 | AH3: 0.556492 | AI3: 0.439213 | AJ3: 0.576475 | AK3: 0.514645 | AL3: 0.365428 | AM3: 0.372564 | AN3: 0.296349 | AO3: 0.245112 | AP3: 0.245078 | AQ3: 0.16527 | AR3: 0.139959 | AS3: 0.012542 | AT3: 0.008512 | AU3: 0.018422 | AV3: 0.016018 | AW3: 0.004968
A4: Repeat3 | B4: 1.330377 | C4: 1.37717 | D4: 1.279601 | E4: 1.161477 | F4: 1.251464 | G4: 1.229733 | H4: 1.340327 | I4: 1.144361 | J4: 1.103787 | K4: 1.143263 | L4: 0.841667 | M4: 0.984161 | N4: 1.365461 | O4: 0.810143 | P4: 0.87717 | Q4: 0.895918 | R4: 0.933508 | S4: 0.882618 | T4: 0.881255 | U4: 0.87601 | V4: 0.800953 | W4: 0.701242 | X4: 0.901218 | Y4: 0.760006 | Z4: 0.576849 | AA4: 0.714898 | AB4: 0.77773 | AC4: 0.781778 | AD4: 0.767778 | AE4: 0.740973 | AF4: 0.663741 | AG4: 0.514386 | AH4: 0.442994 | AI4: 0.640399 | AJ4: 0.443297 | AK4: 0.536442 | AL4: 0.439231 | AM4: 0.280872 | AN4: 0.361314 | AO4: 0.299654 | AP4: 0.245419 | AQ4: 0.127567 | AR4: 0.080452 | AS4: 0.024723 | AT4: 0.021332 | AU4: 0.014711 | AV4: 0.004456 | AW4: 0.004936

Sheet 1D_Auranofin
A1: Time1 | B1: 12.5μM | C1: 25μM | D1: 50μM | E1: 100μM | F1: 200μM | G1: 12.5μM | H1: 25μM | I1: 50μM | J1: 100μM | K1: 200μM
B2: Data1 | C2: Data2 | D2: Data3 | E2: Data4 | F2: Data5 | G2: Fit1 | H2: Fit2 | I2: Fit3 | J2: Fit4 | K2: Fit5
A3: 330.01 | B3: 0.017054 | C3: 0.020243 | D3: 0.02861 | E3: 0.02908 | F3: 0.029874 | G3: 0 | H3: 0 | I3: 0 | J3: 0 | K3: 0
A4: 330.21 | B4: 0.020153 | C4: 0.023151 | D4: 0.0321 | E4: 0.032721 | F4: 0.034899 | G4: 0.001001 | H4: 0.001999 | I4: 0.003983 | J4: 0.007905 | K4: 0.015569
A5: 330.41 | B5: 0.022959 | C5: 0.026836 | D5: 0.036928 | E5: 0.035979 | F5: 0.040857 | G5: 0.001995 | H5: 0.003975 | I5: 0.007889 | J5: 0.015538 | K5: 0.030146
A6: 330.61 | B6: 0.02474 | C6: 0.029981 | D6: 0.04072 | E6: 0.039444 | F6: 0.047569 | G6: 0.002981 | H6: 0.005928 | I6: 0.01172 | J6: 0.02291 | K6: 0.043794
A7: 330.81 | B7: 0.028115 | C7: 0.034139 | D7: 0.045634 | E7: 0.043852 | F7: 0.055002 | G7: 0.003959 | H7: 0.007858 | I7: 0.015477 | J7: 0.030028 | K7: 0.056573
A8: 331.01 | B8: 0.03039 | C8: 0.038526 | D8: 0.050534 | E8: 0.049657 | F8: 0.063419 | G8: 0.00493 | H8: 0.009765 | I8: 0.019162 | J8: 0.036903 | K8: 0.068539
A9: 331.21 | B9: 0.032839 | C9: 0.042673 | D9: 0.055177 | E9: 0.053552 | F9: 0.071138 | G9: 0.005893 | H9: 0.011651 | I9: 0.022775 | J9: 0.043542 | K9: 0.079741
A10: 331.41 | B10: 0.034378 | C10: 0.047669 | D10: 0.058918 | E10: 0.059216 | F10: 0.077882 | G10: 0.006848 | H10: 0.013514 | I10: 0.02632 | J10: 0.049953 | K10: 0.090231
A11: 331.61 | B11: 0.03734 | C11: 0.051952 | D11: 0.06423 | E11: 0.064862 | F11: 0.084778 | G11: 0.007796 | H11: 0.015356 | I11: 0.029795 | J11: 0.056144 | K11: 0.100052
A12: 331.81 | B12: 0.040474 | C12: 0.054078 | D12: 0.068067 | E12: 0.068896 | F12: 0.090877 | G12: 0.008736 | H12: 0.017176 | I12: 0.033204 | J12: 0.062122 | K12: 0.109248
A13: 332.01 | B13: 0.042767 | C13: 0.055863 | D13: 0.071347 | E13: 0.073622 | F13: 0.096121 | G13: 0.009669 | H13: 0.018975 | I13: 0.036548 | J13: 0.067896 | K13: 0.117857
A14: 332.21 | B14: 0.045425 | C14: 0.057516 | D14: 0.073909 | E14: 0.078419 | F14: 0.101975 | G14: 0.010595 | H14: 0.020753 | I14: 0.039827 | J14: 0.073472 | K14: 0.125919
... A452: 419.81 | B452: 0.020345 | C452: 0.029453 | D452: 0.060803 | E452: 0.088453 | F452: 0.088338 | G452: 0.026852 | H452: 0.043037 | I452: 0.059286 | J452: 0.069472 | K452: 0.074077

Sheet 1D_Zinc Pyrithione
A1: Time1 | B1: 12.5μM | C1: 25μM | D1: 50μM | E1: 100μM | F1: 200μM | G1: 12.5μM | H1: 25μM | I1: 50μM | J1: 100μM | K1: 200μM
B2: Data1 | C2: Data2 | D2: Data3 | E2: Data4 | F2: Data5 | G2: Fit1 | H2: Fit2 | I2: Fit3 | J2: Fit4 | K2: Fit5
A3: 330.01 | B3: 0.05826 | C3: 0.090524 | D3: 0.127822 | E3: 0.145894 | F3: 0.134724 | G3: 0 | H3: 0 | I3: 0 | J3: 0 | K3: 0
A4: 330.21 | B4: 0.064921 | C4: 0.103259 | D4: 0.143917 | E4: 0.163184 | F4: 0.153 | G4: 0.019019 | H4: 0.037064 | I4: 0.070431 | J4: 0.127516 | K4: 0.211311
A5: 330.41 | B5: 0.073408 | C5: 0.11665 | D5: 0.160299 | E5: 0.180771 | F5: 0.172768 | G5: 0.036367 | H5: 0.069129 | I5: 0.125244 | J5: 0.207826 | K5: 0.298468
A6: 330.61 | B6: 0.08169 | C6: 0.131347 | D6: 0.177296 | E6: 0.198869 | F6: 0.194139 | G6: 0.05219 | H6: 0.096869 | I6: 0.167903 | J6: 0.258405 | K6: 0.334416
A7: 330.81 | B7: 0.091363 | C7: 0.147006 | D7: 0.195542 | E7: 0.216953 | F7: 0.21532 | G7: 0.066623 | H7: 0.120868 | I7: 0.201101 | J7: 0.290261 | K7: 0.349243
A8: 331.01 | B8: 0.100779 | C8: 0.16243 | D8: 0.212667 | E8: 0.234186 | F8: 0.235564 | G8: 0.079787 | H8: 0.141629 | I8: 0.226938 | J8: 0.310323 | K8: 0.355359
A9: 331.21 | B9: 0.110818 | C9: 0.176895 | D9: 0.229118 | E9: 0.25141 | F9: 0.255733 | G9: 0.091794 | H9: 0.15959 | I9: 0.247045 | J9: 0.322958 | K9: 0.357881
A10: 331.41 | B10: 0.121665 | C10: 0.191297 | D10: 0.243669 | E10: 0.267341 | F10: 0.273842 | G10: 0.102747 | H10: 0.175128 | I10: 0.262694 | J10: 0.330916 | K10: 0.358922
A11: 331.61 | B11: 0.130465 | C11: 0.20333 | D11: 0.256195 | E11: 0.279957 | F11: 0.289103 | G11: 0.112736 | H11: 0.18857 | I11: 0.274872 | J11: 0.335928 | K11: 0.359351
A12: 331.81 | B12: 0.138398 | C12: 0.212924 | D12: 0.266006 | E12: 0.289742 | F12: 0.299927 | G12: 0.121848 | H12: 0.200199 | I12: 0.28435 | J12: 0.339085 | K12: 0.359528
A13: 332.01 | B13: 0.145288 | C13: 0.220462 | D13: 0.272886 | E13: 0.297194 | F13: 0.307824 | G13: 0.130159 | H13: 0.21026 | I13: 0.291726 | J13: 0.341073 | K13: 0.359601
A14: 332.21 | B14: 0.149697 | C14: 0.225958 | D14: 0.275772 | E14: 0.300283 | F14: 0.311372 | G14: 0.13774 | H14: 0.218964 | I14: 0.297466 | J14: 0.342325 | K14: 0.359631
... A452: 419.81 | B452: -0.03149 | C452: -0.02074 | D452: -0.00978 | E452: -0.0059 | F452: 0.003877 | G452: 1.83e-06 | H452: 2.32e-06 | I452: 2.68e-06 | J452: 2.91e-06 | K452: 3.03e-06

Sheet 1D_Sanguinarine
A1: Time1 | B1: 12.5μM | C1: 25μM | D1: 50μM | E1: 100μM | F1: 200μM | G1: 12.5μM | H1: 25μM | I1: 50μM | J1: 100μM | K1: 200μM
B2: Data1 | C2: Data2 | D2: Data3 | E2: Data4 | F2: Data5 | G2: Fit1 | H2: Fit2 | I2: Fit3 | J2: Fit4 | K2: Fit5
A3: 330.01 | B3: 0.028602 | C3: 0 | D3: 0.036206 | E3: 0 | F3: 0.095174 | G3: 0 | H3: 0.172189 | I3: 0 | J3: 0.367034 | K3: 0
A4: 330.21 | B4: 0.031357 | C4: 0.007754 | D4: 0.042382 | E4: 0.015464 | F4: 0.102805 | G4: 0.030755 | H4: 0.188353 | I4: 0.060825 | J4: 0.380956 | K4: 0.118971
A5: 330.41 | B5: 0.033799 | C5: 0.01459 | D5: 0.049598 | E5: 0.029019 | F5: 0.111871 | G5: 0.057405 | H5: 0.205271 | I5: 0.112334 | J5: 0.397262 | K5: 0.215193
A6: 330.61 | B6: 0.035684 | C6: 0.020616 | D6: 0.057249 | E6: 0.040901 | F6: 0.122003 | G6: 0.080499 | H6: 0.223597 | I6: 0.155954 | J6: 0.414627 | K6: 0.293016
A7: 330.81 | B7: 0.037819 | C7: 0.025929 | D7: 0.065243 | E7: 0.051316 | F7: 0.131888 | G7: 0.100511 | H7: 0.24258 | I7: 0.192894 | J7: 0.43277 | K7: 0.355958
A8: 331.01 | B8: 0.040582 | C8: 0.030613 | D8: 0.07276 | E8: 0.060446 | F8: 0.141133 | G8: 0.117852 | H8: 0.260755 | I8: 0.224176 | J8: 0.450804 | K8: 0.406865
A9: 331.21 | B9: 0.042125 | C9: 0.034743 | D9: 0.079945 | E9: 0.068449 | F9: 0.15092 | G9: 0.132878 | H9: 0.278206 | I9: 0.250667 | J9: 0.468718 | K9: 0.448038
A10: 331.41 | B10: 0.044857 | C10: 0.038384 | D10: 0.087648 | E10: 0.075463 | F10: 0.160294 | G10: 0.145899 | H10: 0.293988 | I10: 0.273101 | J10: 0.485341 | K10: 0.481338
A11: 331.61 | B11: 0.047808 | C11: 0.041593 | D11: 0.093126 | E11: 0.081612 | F11: 0.16871 | G11: 0.157183 | H11: 0.308123 | I11: 0.2921 | J11: 0.500513 | K11: 0.50827
A12: 331.81 | B12: 0.050192 | C12: 0.044423 | D12: 0.09779 | E12: 0.087002 | F12: 0.175634 | G12: 0.16696 | H12: 0.319024 | I12: 0.308188 | J12: 0.513409 | K12: 0.530053
A13: 332.01 | B13: 0.052609 | C13: 0.046918 | D13: 0.101459 | E13: 0.091727 | F13: 0.180843 | G13: 0.175433 | H13: 0.327154 | I13: 0.321812 | J13: 0.523349 | K13: 0.547671
A14: 332.21 | B14: 0.054312 | C14: 0.049117 | D14: 0.103186 | E14: 0.095868 | F14: 0.184315 | G14: 0.182775 | H14: 0.331167 | I14: 0.33335 | J14: 0.530092 | K14: 0.56192
... A452: 419.81 | B452: 0.014135 | C452: 0 | D452: 0.011534 | E452: 0 | F452: 0.010662 | G452: 0 | H452: 0.014077 | I452: 0 | J452: 0.003839 | K452: 0

Sheet 1D_Sanguinarine chloride
A1: Time1 | B1: 12.5μM | C1: 25μM | D1: 50μM | E1: 100μM | F1: 200μM | G1: 12.5μM | H1: 25μM | I1: 50μM | J1: 100μM | K1: 200μM
B2: Data1 | C2: Data2 | D2: Data3 | E2: Data4 | F2: Data5 | G2: Fit1 | H2: Fit2 | I2: Fit3 | J2: Fit4 | K2: Fit5
A3: 330.01 | B3: 0.03426 | C3: 0 | D3: 0.042844 | E3: 0 | F3: 0.13097 | G3: 0 | H3: 0.286696 | I3: 0 | J3: 0.316396 | K3: 0
A4: 330.21 | B4: 0.039022 | C4: 0.016014 | D4: 0.052953 | E4: 0.031731 | F4: 0.143687 | G4: 0.062295 | H4: 0.303618 | I4: 0.120098 | J4: 0.339115 | K4: 0.223515
A5: 330.41 | B5: 0.043951 | C5: 0.029703 | D5: 0.064374 | E5: 0.05834 | F5: 0.157941 | G5: 0.112572 | H5: 0.322061 | I5: 0.209873 | J5: 0.363547 | K5: 0.366843
A6: 330.61 | B6: 0.048322 | C6: 0.041405 | D6: 0.076459 | E6: 0.080655 | F6: 0.172356 | G6: 0.153149 | H6: 0.342015 | I6: 0.27698 | J6: 0.388385 | K6: 0.458752
A7: 330.81 | B7: 0.052748 | C7: 0.051409 | D7: 0.088971 | E7: 0.099369 | F7: 0.186356 | G7: 0.185897 | H7: 0.362308 | I7: 0.327144 | J7: 0.413872 | K7: 0.517688
A8: 331.01 | B8: 0.05869 | C8: 0.05996 | D8: 0.100474 | E8: 0.115062 | F8: 0.200469 | G8: 0.212328 | H8: 0.382078 | I8: 0.364641 | J8: 0.43963 | K8: 0.55548
A9: 331.21 | B9: 0.062702 | C9: 0.06727 | D9: 0.11083 | E9: 0.128223 | F9: 0.214259 | G9: 0.233659 | H9: 0.401466 | I9: 0.392671 | J9: 0.464197 | K9: 0.579714
A10: 331.41 | B10: 0.067367 | C10: 0.073519 | D10: 0.121587 | E10: 0.13926 | F10: 0.227207 | G10: 0.250875 | H10: 0.418863 | I10: 0.413624 | J10: 0.48616 | K10: 0.595255
A11: 331.61 | B11: 0.070908 | C11: 0.07886 | D11: 0.130099 | E11: 0.148515 | F11: 0.23868 | G11: 0.26477 | H11: 0.434778 | I11: 0.429286 | J11: 0.504671 | K11: 0.60522
A12: 331.81 | B12: 0.074218 | C12: 0.083427 | D12: 0.136207 | E12: 0.156277 | F12: 0.247477 | G12: 0.275983 | H12: 0.447933 | I12: 0.440993 | J12: 0.518917 | K12: 0.61161
A13: 332.01 | B13: 0.076945 | C13: 0.08733 | D13: 0.140135 | E13: 0.162786 | F13: 0.252675 | G13: 0.285034 | H13: 0.457592 | I13: 0.449745 | J13: 0.528994 | K13: 0.615707
A14: 332.21 | B14: 0.077696 | C14: 0.090667 | D14: 0.141421 | E14: 0.168245 | F14: 0.25696 | G14: 0.292338 | H14: 0.463933 | I14: 0.456287 | J14: 0.533772 | K14: 0.618335
... A452: 419.81 | B452: 0.014006 | C452: 0 | D452: 0.012329 | E452: 0 | F452: 0.011876 | G452: 0 | H452: -0.00863 | I452: 0 | J452: -0.06564 | K452: 0

Sheet 1E_BRCT 7-8-APS
A1: Time1 | B1: 30μM | D1: 15μM | F1: 7.5μM | H1: 3.75μM | J1: 1.875μM | L1: DMSO
B2: Data1 | C2: Fit1 | D2: Data2 | E2: Fit2 | F2: Data3 | G2: Fit3 | H2: Data4 | I2: Fit4 | J2: Data5 | K2: Fit5 | L2: Data6 | M2: Fit6
A3: 210 | B3: -0.01768 | C3: 0 | D3: -0.00499 | E3: 0 | F3: -0.00419 | G3: 0 | H3: 0.000861 | I3: 0 | J3: -0.00152 | K3: 0 | L3: 0.00934 | M3: 0
A4: 210.2 | B4: -0.01593 | C4: 0.000449 | D4: -0.00302 | E4: 0.000776 | F4: -0.00171 | G4: 0.000922 | H4: 0.003543 | I4: 0.001296 | J4: 0.001837 | K4: 0.001195 | L4: 0.014573 | M4: 0.002184
A5: 210.4 | B5: -0.01414 | C5: 0.000897 | D5: -0.00077 | E5: 0.00155 | F5: 0.001575 | G5: 0.001842 | H5: 0.007022 | I5: 0.002589 | J5: 0.005866 | K5: 0.002387 | L5: 0.020351 | M5: 0.00436
A6: 210.6 | B6: -0.01214 | C6: 0.001345 | D6: 0.001728 | E6: 0.002323 | F6: 0.005132 | G6: 0.002761 | H6: 0.010416 | I6: 0.003879 | J6: 0.009629 | K6: 0.003577 | L6: 0.026319 | M6: 0.00653
A7: 210.8 | B7: -0.00952 | C7: 0.001792 | D7: 0.004097 | E7: 0.003094 | F7: 0.008626 | G7: 0.003678 | H7: 0.013897 | I7: 0.005167 | J7: 0.014168 | K7: 0.004766 | L7: 0.032728 | M7: 0.008693
A8: 211 | B8: -0.00705 | C8: 0.002238 | D8: 0.006629 | E8: 0.003864 | F8: 0.012387 | G8: 0.004594 | H8: 0.017446 | I8: 0.006451 | J8: 0.018873 | K8: 0.005952 | L8: 0.039057 | M8: 0.010849
A9: 211.2 | B9: -0.00478 | C9: 0.002684 | D9: 0.009275 | E9: 0.004632 | F9: 0.015996 | G9: 0.005508 | H9: 0.021349 | I9: 0.007732 | J9: 0.023469 | K9: 0.007135 | L9: 0.045755 | M9: 0.012998
A10: 211.4 | B10: -0.00275 | C10: 0.00313 | D10: 0.011971 | E10: 0.005399 | F10: 0.019648 | G10: 0.00642 | H10: 0.025056 | I10: 0.009011 | J10: 0.028139 | K10: 0.008317 | L10: 0.051937 | M10: 0.01514
A11: 211.6 | B11: -0.0008 | C11: 0.003574 | D11: 0.014496 | E11: 0.006164 | F11: 0.023014 | G11: 0.007331 | H11: 0.028614 | I11: 0.010286 | J11: 0.032249 | K11: 0.009497 | L11: 0.057797 | M11: 0.017275
A12: 211.8 | B12: 0.001482 | C12: 0.004019 | D12: 0.016879 | E12: 0.006928 | F12: 0.025906 | G12: 0.00824 | H12: 0.032204 | I12: 0.011558 | J12: 0.036234 | K12: 0.010674 | L12: 0.062951 | M12: 0.019403
A13: 212 | B13: 0.00311 | C13: 0.004462 | D13: 0.019174 | E13: 0.00769 | F13: 0.028112 | G13: 0.009148 | H13: 0.034942 | I13: 0.012828 | J13: 0.039421 | K13: 0.011849 | L13: 0.067357 | M13: 0.021525
A14: 212.2 | B14: 0.004219 | C14: 0.004905 | D14: 0.020857 | E14: 0.008451 | F14: 0.030003 | G14: 0.010054 | H14: 0.037223 | I14: 0.014095 | J14: 0.041922 | K14: 0.013022 | L14: 0.070846 | M14: 0.023639
... A1202: 449.81 | B1202: 0.171744 | C1202: 0.1678 | D1202: 0.252662 | E1202: 0.250491 | F1202: 0.338356 | G1202: 0.309961 | H1202: 0.387211 | I1202: 0.37997 | J1202: 0.41925 | K1202: 0.38414 | L1202: 0.503421 | M1202: 0.489033

Sheet 1E_BRCT 7-8-pFANCJ
A1: Time1 | B1: 50μM | D1: 25μM | F1: 12.5μM | H1: 6.25μM | J1: 3.125μM | L1: DMSO
B2: Data1 | C2: Fit1 | D2: Data2 | E2: Fit2 | F2: Data3 | G2: Fit3 | H2: Data4 | I2: Fit4 | J2: Data5 | K2: Fit5 | L2: Data6 | M2: Fit6
A3: 210 | B3: 0.009581 | C3: 0.009581 | D3: 0.014622 | E3: 0.014622 | F3: 0.007583 | G3: 0.007583 | H3: 0.007807 | I3: 0.007807 | J3: 0.005165 | K3: 0.005165 | L3: 1.98e-06 | M3: 1.98e-06
A4: 210.2 | B4: 0.010215 | C4: 0.010896 | D4: 0.015869 | E4: 0.016976 | F4: 0.009423 | G4: 0.01125 | H4: 0.010388 | I4: 0.012436 | J4: 0.008773 | K4: 0.011215 | L4: 0.004213 | M4: 0.009673
A5: 210.4 | B5: 0.01137 | C5: 0.012204 | D5: 0.017531 | E5: 0.01931 | F5: 0.011731 | G5: 0.014877 | H5: 0.013615 | I5: 0.017005 | J5: 0.013092 | K5: 0.017169 | L5: 0.009626 | M5: 0.01914
A6: 210.6 | B6: 0.0122 | C6: 0.013504 | D6: 0.019255 | E6: 0.021627 | F6: 0.014678 | G6: 0.018465 | H6: 0.016984 | I6: 0.021514 | J6: 0.017871 | K6: 0.023028 | L6: 0.015245 | M6: 0.028408
A7: 210.8 | B7: 0.013229 | C7: 0.014798 | D7: 0.021095 | E7: 0.023925 | F7: 0.018286 | G7: 0.022015 | H7: 0.021263 | I7: 0.025963 | J7: 0.023006 | K7: 0.028794 | L7: 0.021966 | M7: 0.03748
A8: 211 | B8: 0.01456 | C8: 0.016084 | D8: 0.023503 | E8: 0.026205 | F8: 0.021718 | G8: 0.025526 | H8: 0.02592 | I8: 0.030354 | J8: 0.028591 | K8: 0.034468 | L8: 0.029217 | M8: 0.04636
A9: 211.2 | B9: 0.015985 | C9: 0.017364 | D9: 0.026379 | E9: 0.028468 | F9: 0.025734 | G9: 0.029 | H9: 0.030841 | I9: 0.034687 | J9: 0.034577 | K9: 0.040052 | L9: 0.037043 | M9: 0.055054
A10: 211.4 | B10: 0.017616 | C10: 0.018637 | D10: 0.029024 | E10: 0.030713 | F10: 0.029972 | G10: 0.032436 | H10: 0.035774 | I10: 0.038963 | J10: 0.040684 | K10: 0.045547 | L10: 0.045132 | M10: 0.063564
A11: 211.6 | B11: 0.019118 | C11: 0.019902 | D11: 0.031498 | E11: 0.03294 | F11: 0.034282 | G11: 0.035835 | H11: 0.040531 | I11: 0.043183 | J11: 0.046795 | K11: 0.050954 | L11: 0.053542 | M11: 0.071894
A12: 211.8 | B12: 0.020524 | C12: 0.021161 | D12: 0.034094 | E12: 0.03515 | F12: 0.03859 | G12: 0.039198 | H12: 0.0453 | I12: 0.047347 | J12: 0.052652 | K12: 0.056276 | L12: 0.061894 | M12: 0.080049
A13: 212 | B13: 0.022469 | C13: 0.022414 | D13: 0.036823 | E13: 0.037343 | F13: 0.042857 | G13: 0.042525 | H13: 0.050491 | I13: 0.051457 | J13: 0.058279 | K13: 0.061512 | L13: 0.070534 | M13: 0.088032
A14: 212.2 | B14: 0.02477 | C14: 0.023659 | D14: 0.040032 | E14: 0.039519 | F14: 0.047374 | G14: 0.045816 | H14: 0.055569 | I14: 0.055512 | J14: 0.063896 | K14: 0.066666 | L14: 0.078727 | M14: 0.095846
... A602: 329.8 | B602: 0.139367 | C602: 0.139266 | D602: 0.163803 | E602: 0.16265 | F602: 0.157878 | G602: 0.160217 | H602: 0.128485 | I602: 0.130607 | J602: 0.113013 | K602: 0.118925 | L602: 0.085211 | M602: 0.0896

Sheet 2A_BRCT7-8-PHF8-C
A1: Auranofin | B1: 0 | E1: 0.5 | H1: 1 | K1: 2 | N1: 4 | Q1: 8
A2: Fold of luminescence score | B2: 1 | C2: 1 | D2: 1 | E2: 0.712308 | F2: 0.782787 | G2: 0.911166 | H2: 0.370744 | I2: 0.531611 | J2: 0.579118 | K2: 0.273122 | L2: 0.383443 | M2: 0.3733 | N2: 0.129924 | O2: 0.176528 | P2: 0.134362 | Q2: 0.032585 | R2: 0.03613 | S2: 0.039527

Sheet 2A_BRCT7-8-FANCJ-C
A1: Auranofin | B1: 0 | E1: 0.5 | H1: 1 | K1: 2 | N1: 4 | Q1: 8
A2: Fold of luminescence score | B2: 1 | C2: 1 | D2: 1 | E2: 0.926006 | F2: 0.954884 | G2: 0.998861 | H2: 0.625091 | I2: 0.629891 | J2: 0.745517 | K2: 0.367422 | L2: 0.408996 | M2: 0.569974 | N2: 0.141571 | O2: 0.206553 | P2: 0.222052 | Q2: 0.095424 | R2: 0.089358 | S2: 0.060467

Sheet 2G_BRCT 7-8-Wt-Auranofin
A1: Time1 | B1: 25μM | C1: 50μM | D1: 100μM | E1: 200μM | F1: 25μM | G1: 50μM | H1: 100μM | I1: 200μM
B2: Data1 | C2: Data2 | D2: Data3 | E2: Data4 | F2: Fit1 | G2: Fit2 | H2: Fit3 | I2: Fit4
A3: 330.01 | B3: 0.012027 | C3: 0.018638 | D3: 0.001929 | E3: 0.016877 | F3: 0 | G3: 0 | H3: 0 | I3: 0
A4: 330.21 | B4: 0.013593 | C4: 0.018477 | D4: 0.005888 | E4: 0.021799 | F4: 0.001054 | G4: 0.002103 | H4: 0.004191 | I4: 0.00832
A5: 330.41 | B5: 0.014732 | C5: 0.019598 | D5: 0.010788 | E5: 0.027696 | F5: 0.0021 | G5: 0.004184 | H5: 0.008305 | I5: 0.016365
A6: 330.61 | B6: 0.017177 | C6: 0.021249 | D6: 0.015655 | E6: 0.034382 | F6: 0.003138 | G6: 0.006241 | H6: 0.012344 | I6: 0.024145
A7: 330.81 | B7: 0.018749 | C7: 0.022829 | D7: 0.021495 | E7: 0.041583 | F7: 0.004169 | G7: 0.008276 | H7: 0.016308 | I7: 0.031667
A8: 331.01 | B8: 0.020669 | C8: 0.024966 | D8: 0.027427 | E8: 0.049982 | F8: 0.005192 | G8: 0.010289 | H8: 0.020199 | I8: 0.038942
A9: 331.21 | B9: 0.022868 | C9: 0.02781 | D9: 0.033094 | E9: 0.057363 | F9: 0.006208 | G9: 0.012279 | H9: 0.024019 | I9: 0.045976
A10: 331.41 | B10: 0.025576 | C10: 0.030463 | D10: 0.038471 | E10: 0.065551 | F10: 0.007217 | G10: 0.014247 | H10: 0.027769 | I10: 0.052779
A11: 331.61 | B11: 0.028072 | C11: 0.033678 | D11: 0.043321 | E11: 0.073209 | F11: 0.008218 | G11: 0.016194 | H11: 0.031449 | I11: 0.059356
A12: 331.81 | B12: 0.030105 | C12: 0.036162 | D12: 0.0476 | E12: 0.081925 | F12: 0.009212 | G12: 0.01812 | H12: 0.035062 | I12: 0.065717
A13: 332.01 | B13: 0.032145 | C13: 0.040271 | D13: 0.05071 | E13: 0.089389 | F13: 0.010199 | G13: 0.020024 | H13: 0.038609 | I13: 0.071868
A14: 332.21 | B14: 0.033625 | C14: 0.042812 | D14: 0.053238 | E14: 0.096203 | F14: 0.011178 | G14: 0.021908 | H14: 0.04209 | I14: 0.077815
... A452: 419.81 | B452: 0.061303 | C452: 0.063614 | D452: 0.089306 | E452: 0.101863 | F452: 0.033466 | G452: 0.053769 | H452: 0.074224 | I452: 0.086893

Sheet 2G_BRCT 7-8-F1411-Auranofin
A1: Time1 | B1: 25μM | D1: 50μM | F1: 100μM | H1: 200μM
B2: Data1 | C2: Fit1 | D2: Data2 | E2: Fit2 | F2: Data3 | G2: Fit3 | H2: Data4 | I2: Fit4
A3: 330.01 | B3: 0.002634 | C3: 0.00391 | D3: 0.000552 | E3: 0.013151 | F3: 0 | G3: 0 | H3: 0 | I3: 0
A4: 330.21 | B4: 0.003323 | C4: 0.003899 | D4: 0.001589 | E4: 0.012407 | F4: 0.001037 | G4: 0.002073 | H4: 0.004146 | I4: 0.008291
A5: 330.41 | B5: 0.003291 | C5: 0.003926 | D5: 0.002598 | E5: 0.012685 | F5: 0.002032 | G5: 0.004063 | H5: 0.008126 | I5: 0.016251
A6: 330.61 | B6: 0.003907 | C6: 0.003848 | D6: 0.004594 | E6: 0.014304 | F6: 0.002988 | G6: 0.005975 | H6: 0.011949 | I6: 0.023894
A7: 330.81 | B7: 0.003986 | C7: 0.004234 | D7: 0.006562 | E7: 0.016448 | F7: 0.003906 | G7: 0.007811 | H7: 0.015619 | I7: 0.031232
A8: 331.01 | B8: 0.00503 | C8: 0.005261 | D8: 0.009322 | E8: 0.019722 | F8: 0.004788 | G8: 0.009573 | H8: 0.019144 | I8: 0.038278
A9: 331.21 | B9: 0.005805 | C9: 0.007248 | D9: 0.011684 | E9: 0.024573 | F9: 0.005634 | G9: 0.011266 | H9: 0.022528 | I9: 0.045043
A10: 331.41 | B10: 0.006493 | C10: 0.008903 | D10: 0.015235 | E10: 0.031054 | F10: 0.006447 | G10: 0.012891 | H10: 0.025778 | I10: 0.051538
A11: 331.61 | B11: 0.00814 | C11: 0.009644 | D11: 0.019106 | E11: 0.03816 | F11: 0.007228 | G11: 0.014452 | H11: 0.028899 | I11: 0.057774
A12: 331.81 | B12: 0.008351 | C12: 0.010901 | D12: 0.02209 | E12: 0.045943 | F12: 0.007978 | G12: 0.015951 | H12: 0.031896 | I12: 0.063762
A13: 332.01 | B13: 0.009505 | C13: 0.012037 | D13: 0.026163 | E13: 0.054215 | F13: 0.008698 | G13: 0.017391 | H13: 0.034773 | I13: 0.069511
A14: 332.21 | B14: 0.010531 | C14: 0.012409 | D14: 0.029071 | E14: 0.063739 | F14: 0.00939 | G14: 0.018773 | H14: 0.037536 | I14: 0.075031
... A452: 419.81 | B452: -0.00846 | C452: 0.004219 | D452: -0.00075 | E452: -0.0019 | F452: 1.4e-07 | G452: 2.9e-07 | H452: 5.8e-07 | I452: 1.15e-06

Sheet 3A
A1: Replicate 1 | L1: Replicate 2 | W1: Replicate 3
A2: DMSO | B2: Auranofin | C2: Auranofin+NAC | D2: PMX464 | E2: Piperlongumine | F2: CPT | G2: CPT+Auranofin | H2: CPT+Auranofin+NAC | I2: CPT+PMX464 | J2: CPT+Piperlongumine | L2: DMSO | M2: Auranofin | N2: Auranofin+NAC | O2: PMX464 | P2: Piperlongumine | Q2: CPT | R2: CPT+Auranofin | S2: CPT+Auranofin+NAC | T2: CPT+PMX464 | U2: CPT+Piperlongumine | W2: DMSO | X2: Auranofin | Y2: Auranofin+NAC | Z2: PMX464 | AA2: Piperlongumine | AB2: CPT | AC2: CPT+Auranofin | AD2: CPT+Auranofin+NAC | AE2: CPT+PMX464 | AF2: CPT+Piperlongumine
A3: 1.89 | B3: 2.533 | C3: 2.352 | D3: 2.977 | E3: 2.222 | F3: 16.289 | G3: 2.842 | H3: 4.371 | I3: 12.714 | J3: 11.524 | L3: 2.966 | M3: 3.535 | N3: 1.715 | O3: 2.664 | P3: 2.556 | Q3: 11.2 | R3: 3.847 | S3: 2.952 | T3: 18.473 | U3: 11.085 | W3: 4.694 | X3: 3.21 | Y3: 3.493 | Z3: 3.65 | AA3: 3.332 | AB3: 10.06 | AC3: 8.917 | AD3: 8.636 | AE3: 13.093 | AF3: 19.783
A4: 2.216 | B4: 2.759 | C4: 2.291 | D4: 1.017 | E4: 2.244 | F4: 16.183 | G4: 2.172 | H4: 4.021 | I4: 12.974 | J4: 12.629 | L4: 3.047 | M4: 3.815 | N4: 2.616 | O4: 4.569 | P4: 2.778 | Q4: 9.594 | R4: 1.591 | S4: 1.899 | T4: 9.273 | U4: 12.336 | W4: 3.647 | X4: 2.513 | Y4: 2.703 | Z4: 1.96 | AA4: 2.224 | AB4: 9.545 | AC4: 4.862 | AD4: 3.515 | AE4: 12.312 | AF4: 20.938
A5: 3.086 | B5: 1.344 | C5: 2.373 | D5: 3.631 | E5: 2.324 | F5: 17.541 | G5: 2.178 | H5: 4.239 | I5: 14.863 | J5: 8.536 | L5: 2.421 | M5: 3.576 | N5: 2.207 | O5: 3.056 | P5: 2.689 | Q5: 19.041 | R5: 8.695 | S5: 2.498 | T5: 14.431 | U5: 13.704 | W5: 3.593 | X5: 3.144 | Y5: 2.307 | Z5: 2.36 | AA5: 0.889 | AB5: 12.96 | AC5: 2.195 | AD5: 4.674 | AE5: 14.455 | AF5: 10.838
A6: 2.833 | B6: 1.53 | C6: 2.444 | D6: 1.495 | E6: 2.224 | F6: 7.111 | G6: 4.31 | H6: 4.861 | I6: 15.682 | J6: 10.673 | L6: 3.599 | M6: 2.622 | N6: 3.683 | O6: 3.556 | P6: 2.55 | Q6: 11.021 | R6: 2.126 | S6: 2.386 | T6: 17.696 | U6: 12.524 | W6: 3.788 | X6: 2.645 | Y6: 2.03 | Z6: 2.35 | AA6: 1.325 | AB6: 12.76 | AC6: 3.359 | AD6: 4.19 | AE6: 17.37 | AF6: 10.521
A7: 2.255 | B7: 3.572 | C7: 2.924 | D7: 3.826 | E7: 2.53 | F7: 7.658 | G7: 2.39 | H7: 5.192 | I7: 8.095 | J7: 11.554 | L7: 3.048 | M7: 4.335 | N7: 1.84 | O7: 2.221 | P7: 3.024 | Q7: 15.417 | R7: 4.775 | S7: 9.211 | T7: 17.416 | U7: 13.589 | W7: 3.869 | X7: 3.427 | Y7: 3.433 | Z7: 4.02 | AA7: 2.564 | AB7: 10.459 | AC7: 5.999 | AD7: 5.067 | AE7: 17.546 | AF7: 9.914
A8: 3.466 | B8: 1.063 | C8: 3.827 | D8: 1.771 | E8: 2.587 | F8: 7.366 | G8: 5.502 | H8: 5.279 | I8: 18.693 | J8: 13.351 | L8: 1.567 | M8: 2.764 | N8: 2.548 | O8: 3.262 | P8: 2.698 | Q8: 10.422 | R8: 5.396 | S8: 9.705 | T8: 15.838 | U8: 8.75 | W8: 3.677 | X8: 3.027 | Y8: 2.516 | Z8: 2.55 | AA8: 2.665 | AB8: 15.134 | AC8: 3.469 | AD8: 4.82 | AE8: 13.16 | AF8: 16.606
A9: 2.79 | B9: 3.817 | C9: 2.932 | D9: 1.327 | E9: 2.456 | F9: 9.277 | G9: 2.995 | H9: 4.36 | I9: 6.804 | J9: 11.875 | L9: 2.169 | M9: 4.295 | N9: 2.594 | O9: 4.315 | P9: 4.22 | Q9: 16.866 | R9: 2.895 | S9: 8.597 | T9: 15.306 | U9: 11.108 | W9: 3.331 | X9: 2.635 | Y9: 3.159 | Z9: 1.36 | AA9: 3.241 | AB9: 15.928 | AC9: 5.506 | AD9: 4.559 | AE9: 14.27 | AF9: 15.487
A10: 2.863 | B10: 2.693 | C10: 1.978 | D10: 1.875 | E10: 2.004 | F10: 5.083 | G10: 2.949 | H10: 5.427 | I10: 18.438 | J10: 12.603 | L10: 1.571 | M10: 3.445 | N10: 2.307 | O10: 3.021 | P10: 1.56 | Q10: 7.345 | R10: 7.899 | S10: 7.71 | T10: 12.406 | U10: 11.169 | W10: 0.696 | X10: 2.133 | Y10: 2.67 | Z10: 0.996 | AA10: 3.021 | AB10: 11.158 | AC10: 5.246 | AD10: 4.409 | AE10: 6.359 | AF10: 7.055
A11: 3.22 | B11: 2.058 | C11: 1.197 | D11: 1.17 | E11: 1.22 | F11: 7.815 | G11: 2.028 | H11: 4.706 | I11: 11.006 | J11: 11.243 | L11: 4.432 | M11: 3.764 | N11: 4.633 | O11: 1.226 | P11: 2.33 | Q11: 15.085 | R11: 5.892 | S11: 3.356 | T11: 14.84 | U11: 12.565 | W11: 0.955 | X11: 2.632 | Y11: 3.796 | Z11: 3.54 | AA11: 3.221 | AB11: 16.421 | AC11: 5.223 | AD11: 2.299 | AE11: 8.331 | AF11: 10.336
A12: 3.351 | B12: 3.435 | C12: 1.153 | D12: 1.991 | E12: 1.58 | F12: 7.158 | G12: 4.67 | H12: 4.523 | I12: 9.648 | J12: 11.905 | L12: 1.579 | M12: 4.51 | N12: 3.46 | O12: 0.54 | P12: 1.25 | Q12: 18.462 | R12: 4.062 | S12: 5.879 | T12: 14.034 | U12: 11.349 | W12: 1.94 | X12: 2.287 | Y12: 4.853 | Z12: 3.565 | AA12: 4.02 | AB12: 7.327 | AC12: 6.94 | AD12: 4.544 | AE12: 20.267 | AF12: 10.993
A13: 3.206 | B13: 3.056 | C13: 1.052 | D13: 1.947 | E13: 1.22 | F13: 7.763 | G13: 2.161 | H13: 4.449 | I13: 9.515 | J13: 10.443 | L13: 1.403 | M13: 3.959 | N13: 1.87 | O13: 2.56 | P13: 2.333 | Q13: 16.24 | R13: 2.999 | S13: 5.261 | T13: 11.319 | U13: 15.96 | W13: 1.428 | X13: 3.007 | Y13: 2.684 | Z13: 2.36 | AA13: 2.22 | AB13: 10.623 | AC13: 5.344 | AD13: 4.766 | AE13: 9.465 | AF13: 17.164
A14: 1.809 | B14: 2.985 | C14: 1.37 | D14: 1.845 | E14: 2.22 | F14: 5.436 | G14: 6.579 | H14: 3.331 | I14: 13.623 | J14: 10.362 | L14: 2.614 | M14: 1.099 | N14: 2.328 | O14: 2.654 | P14: 4.55 | Q14: 18.952 | R14: 6.623 | S14: 4.661 | T14: 4.254 | U14: 17.185 | W14: 1.388 | X14: 2.175 | Y14: 4.251 | Z14: 3.21 | AA14: 3.15 | AB14: 10.116 | AC14: 5.059 | AD14: 1.921 | AE14: 18.845 | AF14: 12.6
... A62: 3.277 | B62: 1.847 | C62: 2.57 | D62: 2.33 | E62: 2.055 | F62: 5.923 | G62: 7.65 | H62: 5.292 | I62: 17.495 | J62: 17.385 | L62: 1.012 | M62: 2.557 | N62: 2.426 | O62: 4.348 | P62: 2.336 | Q62: 17.737 | R62: 5.816 | S62: 2.983 | T62: 12.835 | U62: 12.137 | W62: 1.355 | X62: 3.636 | Y62: 2.421 | Z62: 4.662 | AA62: 1.67 | AB62: 16.709 | AC62: 3.767 | AD62: 6.587 | AE62: 17.026 | AF62: 11.626
A63: 3.565 | B63: 2.059 | C63: 2.701 | D63: 1.56 | E63: 2.112 | F63: 9.998 | G63: 4.865 | H63: 4.73 | I63: 11.547 | J63: 6.926 | L63: 1.383 | M63: 1.737 | N63: 2.69 | O63: 1.0556 | P63: 3.665 | Q63: 16.262 | R63: 2.961 | S63: 2.192 | T63: 13.039 | U63: 14.974 | W63: 1.751 | X63: 3.306 | Y63: 2.066 | Z63: 3.778 | AA63: 2.22 | AC63: 6.313 | AD63: 4.062 | AE63: 17.733 | AF63: 18.105
B64: 2.054 | C64: 3.056 | D64: 1.78 | E64: 3.221 | F64: 7.55 | G64: 8.529 | H64: 4.168 | I64: 14.529 | J64: 16.727 | L64: 1.505 | M64: 1.633 | N64: 3.634 | O64: 2.0546 | P64: 2.564 | Q64: 18.811 | R64: 5.027 | S64: 2.182 | T64: 14.101 | U64: 15.615 | W64: 5.387 | X64: 2.365 | Y64: 2.039 | Z64: 3.524 | AA64: 2.057 | AC64: 9.799 | AE64: 4.844 | AF64: 12.334
C65: 2.386 | E65: 2.004 | F65: 11.016 | G65: 6.519 | H65: 5.655 | I65: 12.362 | J65: 16.428 | L65: 1.155 | M65: 1.15 | N65: 3.045 | O65: 2.065 | P65: 2.354 | Q65: 19.816 | R65: 2.992 | S65: 2.592 | T65: 10.046 | U65: 15.14 | W65: 1.47 | X65: 2.147 | Y65: 2.391 | Z65: 3.554 | AA65: 1.652 | AC65: 6.047 | AE65: 8.038 | AF65: 18.808
C66: 2.486 | E66: 1.256 | F66: 7.623 | G66: 6.741 | H66: 7.081 | I66: 12.355 | J66: 14.688 | L66: 1.971 | M66: 3.284 | N66: 2.059 | O66: 4.336 | P66: 1.326 | Q66: 22.494 | S66: 9.124 | T66: 5.209 | U66: 13.626 | W66: 3.772 | X66: 4.121 | Y66: 1.559 | Z66: 3.245 | AA66: 1.559 | AC66: 6.337 | AE66: 9.643 | AF66: 8.988
C67: 2.627 | E67: 2.55 | F67: 15.847 | G67: 4.881 | H67: 2.512 | J67: 20.851 | L67: 1.328 | M67: 3.567 | N67: 2.47 | O67: 0.884 | P67: 1.224 | Q67: 19.243 | S67: 8.957 | T67: 13.959 | U67: 15.887 | W67: 2.701 | X67: 3.016 | Y67: 1.802 | Z67: 4.554 | AA67: 0.665 | AC67: 4.737 | AE67: 17.475
E68: 2.223 | G68: 2.102 | H68: 9.561 | J68: 14.472 | L68: 1.604 | M68: 1.159 | N68: 2.24 | O68: 1.326 | P68: 3.33 | Q68: 17.497 | S68: 4.982 | T68: 7.722 | U68: 16.541 | W68: 1.557 | X68: 2.036 | Y68: 3.2 | Z68: 2.564 | AA68: 3.664 | AC68: 6.584 | AE68: 9.941
G69: 3.256 | H69: 4.693 | J69: 13.399 | L69: 1.625 | M69: 3.919 | N69: 2.287 | P69: 2.36 | Q69: 15.594 | S69: 2.366 | T69: 9.501 | U69: 16.57 | W69: 3.061 | X69: 2.242 | Y69: 2.696 | Z69: 1.565 | AA69: 4.332 | AC69: 2.794 | AE69: 11.463
J70: 13.599 | L70: 2.213 | M70: 1.364 | N70: 2.913 | Q70: 15.659 | S70: 3.361 | T70: 16.351 | U70: 15.592 | W70: 1.8 | Y70: 2.494 | Z70: 1.987 | AA70: 2.336 | AC70: 6.946 | AE70: 8.012
J71: 16.628 | M71: 1.453 | N71: 4.01 | Q71: 9.079 | S71: 2.83 | T71: 10.901 | U71: 14.786 | W71: 2.848 | Y71: 1.974 | Z71: 2.36 | AA71: 1.235 | AC71: 2.8
J72: 14.855 | M72: 2.186 | N72: 2.137 | Q72: 8.773 | S72: 3.705 | T72: 14.209 | U72: 15.687 | W72: 3.423 | Z72: 3.665 | AA72: 0.98 | AC72: 2.03
J73: 16.853 | M73: 2.193 | Q73: 0.172 | S73: 3.124 | T73: 8.93 | U73: 15.439 | W73: 3.899 | Z73: 4.56 | AA73: 1.256 | AC73: 2.585
J74: 14.832 | M74: 3.685 | Q74: 9.543 | S74: 9.965 | T74: 17.314 | W74: 3.118 | Z74: 2.336 | AC74: 2.334
J75: 17.371 | M75: 2.963 | Q75: 16.125 | S75: 7.892 | T75: 9.991 | W75: 4.946 | Z75: 4.03 | AC75: 6.816
J76: 14.31 | M76: 3.086 | Q76: 17.626 | S76: 2.571 | T76: 14.057 | W76: 4.556
J77: 13.16 | M77: 3.155 | Q77: 16.331 | T77: 12.345 | W77: 2.036
T78: 5.531
T79: 10.285
T80: 12.322

Sheet 3A n=3 average
A1: DMSO | B1: Auranofin | C1: Auranofin+NAC | D1: PMX464 | E1: Piperlongumine | F1: CPT | G1: CPT+Auranofin | H1: CPT+Auranofin+NAC | I1: CPT+PMX464 | J1: CPT+Piperlongumine
A2: =AVERAGE('3A'!A3:A80) -> 2.714082 | B2: =AVERAGE('3A'!B3:B80) -> 2.4892581 | C2: =AVERAGE('3A'!C3:C80) -> 2.1362 | D2: =AVERAGE('3A'!D3:D80) -> 2.4712258 | E2: =AVERAGE('3A'!E3:E80) -> 2.1573485 | F2: =AVERAGE('3A'!F3:F80) -> 11.891538 | G2: =AVERAGE('3A'!G3:G80) -> 4.6526866 | H2: =AVERAGE('3A'!H3:H80) -> 4.6371791 | ... J2: =AVERAGE('3A'!J3:J80) -> 12.109733
A3: =AVERAGE('3A'!L3:L80) -> 2.8194118 | B3: =AVERAGE('3A'!M3:M80) -> 2.8135467 | C3: =AVERAGE('3A'!N3:N80) -> 2.6703571 | D3: =AVERAGE('3A'!O3:O80) -> 2.5623606 | E3: =AVERAGE('3A'!P3:P80) -> 2.6075373 | F3: =AVERAGE('3A'!Q3:Q80) -> 14.873867 | G3: =AVERAGE('3A'!R3:R80) -> 4.477254 | H3: =AVERAGE('3A'!S3:S80) -> 4.5837297 | ... J3: =AVERAGE('3A'!U3:U80) -> 14.027986
A4: =AVERAGE('3A'!W3:W80) -> 2.1466267 | B4: =AVERAGE('3A'!X3:X80) -> 2.8688657 | C4: =AVERAGE('3A'!Y3:Y80) -> 2.6761014 | D4: =AVERAGE('3A'!Z3:Z80) -> 2.828137 | E4: =AVERAGE('3A'!AA3:AA80) -> 2.6610704 | F4: =AVERAGE('3A'!AB3:AB80) -> 13.247883 | G4: =AVERAGE('3A'!AC3:AC80) -> 4.4821918 | H4: =AVERAGE('3A'!AD3:AD80) -> 5.6059672 | ... J4: =AVERAGE('3A'!AF3:AF80) -> 13.301312

Sheet 3E_Fork Length
A1: Replicate 1 | F1: Replicate 2 | K1: Replicate 3
A2: DMSO | B2: Auranofin | C2: Auranofin+NAC | D2: VE-821 | F2: DMSO | G2: Auranofin | H2: Auranofin+NAC | I2: VE-821 | K2: DMSO | L2: Auranofin | M2: Auranofin+NAC | N2: VE-821
A3: 3.103 | B3: 1.6 | C3: 2.54 | D3: 1.343 | F3: 4.19705 | G3: 2.2698 | H3: 1.6636 | I3: 1.6072 | K3: 5.634 | L3: 2.06 | M3: 1.796 | N3: 2.594
A4: 4.568 | B4: 1.884 | C4: 2.693 | D4: 2.163 | F4: 2.6624 | G4: 2.6127 | H4: 0.9536 | I4: 2.09335 | K4: 4.02 | L4: 2.673 | M4: 1.67 | N4: 1.099
A5: 6.68 | B5: 3.516 | C5: 1.19 | D5: 1.59 | F5: 5.8071 | G5: 2.7507 | H5: 1.5464 | I5: 1.6639 | K5: 4.471 | L5: 2.664 | M5: 1.545 | N5: 1.008
A6: 6.615 | B6: 1.933 | C6: 1.466 | D6: 1.284 | F6: 4.9829 | G6: 2.256 | H6: 0.8008 | I6: 3.41355 | K6: 4.276 | L6: 0.917 | M6: 2.35 | N6: 2.893
A7: 3.729 | B7: 3.029 | C7: 1.616 | D7: 1.888 | F7: 2.9731 | G7: 2.463 | H7: 1.1544 | I7: 1.9915 | K7: 4.705 | L7: 1.515 | M7: 4.063 | N7: 1.106
A8: 3.666 | B8: 2.774 | C8: 2.491 | D8: 2.21 | F8: 5.8695 | G8: 3.6726 | H8: 1.5964 | I8: 1.9285 | K8: 4.265 | L8: 2.82 | M8: 0.443 | N8: 1.417
A9: 3.885 | B9: 3.074 | C9: 1.494 | D9: 2.822 | F9: 5.9904 | G9: 4.2831 | H9: 1.3064 | I9: 2.67365 | K9: 3.15 | L9: 2.773 | M9: 2.567 | N9: 1.19
A10: 3.016 | B10: 2.039 | C10: 1.361 | D10: 1.693 | F10: 7.1695 | G10: 1.7442 | H10: 2.236 | I10: 2.10035 | K10: 3.478 | L10: 1.834 | M10: 1.587 | N10: 0.961
A11: 4.564 | B11: 1.552 | C11: 2.019 | D11: 2.559 | F11: 7.748 | G11: 2.9361 | H11: 1.3216 | I11: 1.76645 | K11: 3.739 | L11: 2.636 | M11: 1.462 | N11: 2.959
A12: 7.279 | B12: 3.437 | C12: 2.212 | D12: 1.27 | F12: 4.8906 | G12: 1.4898 | H12: 2.4856 | I12: 2.3667 | K12: 4.729 | L12: 2.136 | M12: 1.95 | N12: 2.179
A13: 8.584 | B13: 3.151 | C13: 1.634 | D13: 4.233 | F13: 4.20615 | G13: 0.9981 | H13: 3.7788 | I13: 1.6373 | K13: 4.185 | L13: 2.352 | M13: 1.922 | N13: 1.864
A14: 4.69 | B14: 3.131 | C14: 2.126 | D14: 1.34 | F14: 1.79855 | G14: 2.9349 | H14: 3.1316 | I14: 1.1662 | K14: 5.775 | L14: 3.26 | M14: 3.748 | N14: 1.596
... A99: 4.927 | B99: 2.02 | C99: 1.196 | D99: 1.093 | F99: 4.39855 | G99: 2.079 | H99: 1.7004 | I99: 2.9918 | K99: 6.23 | L99: 0.778 | M99: 0.9536 | N99: 0.952
A100: 3.297 | D100: 2.802 | F100: 4.07225 | G100: 2.3583 | H100: 5.5136 | I100: 2.57215 | K100: 3.4073 | L100: 2.2938 | M100: 1.6676 | N100: 1.2656
D101: 0.898 | F101: 6.1425 | G101: 2.5791 | H101: 5.8012 | K101: 2.9575 | L101: 2.9619 | M101: 1.1592 | N101: 1.4658
D102: 2.449 | F102: 3.55615 | G102: 1.4169 | H102: 2.1084 | K102: 2.84375 | L102: 2.3676 | M102: 0.99 | N102: 2.3646
D103: 1.447 | F103: 2.48495 | G103: 1.5546 | H103: 3.3552 | K103: 3.40275 | L103: 3.1572 | M103: 0.396 | N103: 2.42095
D104: 1.62785 | F104: 4.32055 | G104: 2.181 | H104: 1.7396 | K104: 5.01215 | L104: 2.9325 | M104: 1.3608 | N104: 0.5754
D105: 3.4153 | F105: 5.5874 | G105: 2.4645 | H105: 4.349 | K105: 4.36475 | L105: 1.8921 | M105: 0.84 | N105: 3.89445
D106: 2.55535 | F106: 4.18925 | G106: 8.215 | K106: 4.018 | M106: 1.089
D107: 2.63865 | F107: 6.445 | G107: 2.458 | M107: 1.307
D108: 2.408 | F108: 3.407 | G108: 3.76 | M108: 2.213
D109: 1.268 | F109: 3.381 | G109: 3.368 | M109: 1.771
D110: 0.721 | F110: 4.888 | G110: 2.101 | M110: 1.89
F111: 3.753 | G111: 2.605 | M111: 1.691
G112: 1.183

Sheet 3E_Fork Length n=3 Average
A1: DMSO | B1: Auranofin | C1: Auranofin+NAC | D1: VE-821
A2: =AVERAGE('3E_Fork Length'!A3:A113) -> 4.7337959 | B2: =AVERAGE('3E_Fork Length'!B3:B113) -> 2.6388866 | C2: =AVERAGE('3E_Fork Length'!C3:C113) -> 2.0199794 | D2: =AVERAGE('3E_Fork Length'!D3:D113) -> 1.690381
A3: =AVERAGE('3E_Fork Length'!K3:K113) -> 4.62305 | B3: =AVERAGE('3E_Fork Length'!L3:L113) -> 1.9907194 | C3: =AVERAGE('3E_Fork Length'!M3:M113) -> 2.1652037 | D3: =AVERAGE('3E_Fork Length'!N3:N113) -> 1.9729301
A4: =AVERAGE('3E_Fork Length'!F3:F113) -> 5.0266798 | B4: =AVERAGE('3E_Fork Length'!G3:G113) -> 2.1780209 | C4: =AVERAGE('3E_Fork Length'!H3:H113) -> 2.5182699 | D4: =AVERAGE('3E_Fork Length'!I3:I113) -> 2.0109536

Sheet 3E_Fork events
B1: Stalled forks | E1: Restarted forks
A2: DMSO | B2: 22.2 | C2: 20.1 | D2: 24.1 | E2: 77.8 | F2: 79.9 | G2: 75.9
A3: Auranofin | B3: 36.1 | C3: 40.2 | D3: 37.2 | E3: 64 | F3: 59.8 | G3: 62.8
A4: Auranofin+NAC | B4: 37 | C4: 39.7 | D4: 42.2 | E4: 63 | F4: 60.3 | G4: 57.8
A5: VE-821 | B5: 40.2 | C5: 38.7 | D5: 44.2 | E5: 59.8 | F5: 61.3 | G5: 56.8

Sheet 3F_Fork Length
A1: Replicate 1 | F1: Replicate 2 | K1: Replicate 3
A2: DMSO | C2: Auranofin | F2: DMSO | H2: Auranofin | K2: DMSO | M2: Auranofin
A3: Wt | B3: F1411A | C3: Wt | D3: F1411A | F3: 4.828 | G3: 1.7 | H3: 2.95412 | I3: 2.962 | K3: 5.078 | L3: 2.849 | M3: 1.397 | N3: 1.407
A4: 4.759 | B4: 2.627 | C4: 2.849 | D4: 2.269 | F4: 5.469 | G4: 2.992 | H4: 1.91786 | I4: 3.76438 | K4: 2.548 | L4: 2.707 | M4: 2.173 | N4: 2.029
A5: 5.832 | B5: 2.804 | C5: 1.975 | D5: 1.112 | F5: 5.198 | G5: 3.089 | H5: 2.75348 | I5: 2.07163 | K5: 3.282 | L5: 1.703 | M5: 1.816 | N5: 2.901
A6: 5.038 | B6: 2.002 | C6: 1.76 | D6: 1 | F6: 6.745 | G6: 2.519 | H6: 3.1996 | I6: 1.25467 | K6: 2.788 | L6: 2.865 | M6: 2.421 | N6: 3.297
A7: 3.5 | B7: 3.718 | C7: 2.373 | D7: 1.888 | F7: 6.958 | G7: 2.236 | H7: 1.80082 | I7: 2.92744 | K7: 3.659 | L7: 1.62 | M7: 2.558 | N7: 2.865
A8: 5.259 | B8: 1.827 | C8: 1.901 | D8: 0.917 | F8: 5.251 | G8: 1.888 | H8: 2.3693 | I8: 1.77785 | K8: 2.012 | L8: 1.641 | M8: 3.383 | N8: 3.24
A9: 2.127 | B9: 3.692 | C9: 2.457 | D9: 1.328 | F9: 7.865 | G9: 2.173 | H9: 2.47304 | I9: 2.64143 | K9: 5.641 | L9: 2.913 | M9: 2.09 | N9: 3.099
A10: 4.184 | B10: 2.87 | C10: 2.051 | D10: 1.692 | F10: 6.622 | G10: 1.668 | H10: 1.49872 | I10: 2.78092 | K10: 3.755 | L10: 3.431 | M10: 1.922 | N10: 2.983
A11: 2.87 | B11: 2.148 | C11: 2.67 | D11: 1.694 | F11: 6.175 | G11: 2.191 | H11: 2.3693 | I11: 2.70433 | K11: 2.329 | L11: 2.256 | M11: 2.462 | N11: 2.703
A12: 2.83 | B12: 1.955 | C12: 2.688 | D12: 1.703 | F12: 4.11 | G12: 1.493 | H12: 2.0539 | I12: 4.73748 | K12: 3.091 | L12: 3.089 | M12: 2.421 | N12: 1.641
A13: 2.429 | B13: 1.656 | C13: 3.065 | D13: 1.607 | F13: 3.526 | G13: 3.24 | H13: 2.76488 | I13: 1.55104 | K13: 4.184 | L13: 2.323 | M13: 1.592 | N13: 2.012
A14: 2.488 | B14: 2.314 | C14: 1.794 | D14: 1.703 | F14: 6.065 | G14: 3.533 | H14: 2.72194 | I14: 1.04599 | K14: 2.185 | L14: 1.791 | M14: 2.051 | N14: 1.353
A15: 3.011 | B15: 2.051 | C15: 1.763 | D15: 1.297 | F15: 3.089 | G15: 2.02419 | H15: 2.0539 | I15: 1.89218 | K15: 3.186 | L15: 1.694 | M15: 1.794 | N15: 3.936
... A109: 3.588 | B109: 2.015 | C109: 2.323 | D109: 2.134 | F109: 4.8916 | G109: 2.40678 | H109: 2.27658 | I109: 2.17338 | K109: 5.993 | L109: 3.091 | M109: 1.604 | N109: 2.382
A110: 3.886 | B110: 1.425 | C110: 2.849 | D110: 2.386 | F110: 2.7321 | G110: 1.65375 | I110: 1.94842 | K110: 5.87 | L110: 2.308 | M110: 1.182 | N110: 1.198
A111: 3.431 | B111: 2.849 | C111: 2.462 | D111: 1.692 | F111: 3.1668 | G111: 1.25631 | I111: 2.22037 | K111: 4.888 | L111: 1.955 | M111: 1.543
A112: 2.928 | B112: 1.703 | C112: 1.99 | D112: 2.896 | F112: 4.0985 | G112: 1.34109 | I112: 1.8833 | K112: 3.782 | L112: 2.051 | M112: 1.506
A113: 4.512 | B113: 1.99 | C113: 1.791 | D113: 2.607 | F113: 5.2122 | G113: 1.9386 | I113: 2.425 | K113: 5.314 | L113: 2.898 | M113: 2.26252
A114: 3.296 | B114: 2.329 | D114: 2.545 | F114: 5.2955 | G114: 1.30518 | I114: 3.694 | K114: 6.572 | L114: 2.099 | M114: 2.25226
A115: 5.973 | B115: 2.439 | D115: 2.078 | F115: 6.1208 | G115: 2.1249 | I115: 3.425 | K115: 4.5843 | M115: 3.435
A116: 7.6909 | B116: 1.35702 | F116: 1.7731 | G116: 1.53063 | I116: 1.297 | K116: 4.0369 | M116: 1.62
A117: 6.7151 | B117: 0.89154 | F117: 3.4244 | G117: 1.93347 | K117: 2.2638
A118: 2.7048 | B118: 1.51713 | F118: 4.494 | G118: 1.5363
A119: 2.5501 | F119: 2.2701 | G119: 2.55366
F120: 8.6765 | G120: 1.05462
F121: 8.0661
F122: 3.5077
F123: 2.9057

Sheet 3F_Fork Length n=3 Average
A1: DMSO | C1: Auranofin
A2: Wt | B2: F1411A | C2: Wt | D2: F1411A
A3: =AVERAGE('3F_Fork Length'!A4:A124) -> 4.2265509 | B3: =AVERAGE('3F_Fork Length'!B4:B124) -> 2.2586669 | C3: =AVERAGE('3F_Fork Length'!C4:C124) -> 2.4564273 | D3: =AVERAGE('3F_Fork Length'!D4:D124) -> 1.9738661
A4: =AVERAGE('3F_Fork Length'!F3:F124) -> 5.0224124 | B4: =AVERAGE('3F_Fork Length'!G3:G124) -> 1.6672312 | C4: =AVERAGE('3F_Fork Length'!H3:H124) -> 2.3398234 | D4: =AVERAGE('3F_Fork Length'!I3:I124) -> 2.1396139
A5: =AVERAGE('3F_Fork Length'!K3:K124) -> 4.3794783 | B5: =AVERAGE('3F_Fork Length'!L3:L124) -> 2.1860982 | C5: =AVERAGE('3F_Fork Length'!M3:M124) -> 2.3284893 | D5: =AVERAGE('3F_Fork Length'!N3:N124) -> 2.2297593

Sheet 3F_Fork events
B1: Stalled forks | E1: Restarted forks
A2: Wt/DMSO | B2: 20.4 | C2: 25.1 | D2: 21.8 | E2: 79.6 | F2: 74.9 | G2: 78.2
A3: F1411A/DMSO | B3: 34.5 | C3: 38.4 | D3: 40.5 | E3: 65.5 | F3: 61.6 | G3: 59.5
A4: Wt/Auranofin | B4: 36.5 | C4: 33.5 | D4: 37.4 | E4: 63.5 | F4: 66.5 | G4: 62.6
A5: Auranofin | B5: 40.5 | C5: 36.8 | D5: 37.5 | E5: 59.5 | F5: 63.2 | G5: 62.5

Sheet 4A
A1: Replicate 1 | E1: Replicate 2 | I1: Replicate 3
A2: DMSO | B2: Auranofin | C2: 1,6-HD | E2: DMSO | F2: Auranofin | G2: 1,6-HD | I2: DMSO | J2: Auranofin | K2: 1,6-HD
A3: 1.131928 | B3: 0.12577 | C3: 0.50308 | E3: 0.880388 | F3: 0.37731 | G3: 0.25154 | I3: 1.509238 | J3: 0.50308 | K3: 0.25154
A4: 0.50308 | B4: 0.027292 | C4: 0.06823 | E4: 1.131928 | F4: 0.50308 | G4: 0.25154 | I4: 1.383468 | J4: 0.50308 | K4: 0.25154
A5: 1.131928 | B5: 1.006158 | C5: 0.754618 | E5: 1.509238 | F5: 0.50308 | G5: 0.25154 | I5: 0.50308 | J5: 0.50308 | K5: 0.12577
A6: 0.081876 | B6: 0.25154 | C6: 0.37731 | E6: 1.509238 | F6: 0.040938 | G6: 0.37731 | I6: 0.37731 | J6: 0.37731 | K6: 0.25154
A7: 0.880388 | B7: 0.754618 | C7: 0.12577 | E7: 0.754618 | F7: 0.013646 | G7: 0.754618 | I7: 0.62885 | J7: 0.12577 | K7: 0.054584
A8: 1.006158 | B8: 1.257698 | C8: 0.12577 | E8: 0.62885 | F8: 0.37731 | G8: 0.37731 | I8: 0.880388 | J8: 0.62885 | K8: 0.37731
A9: 0.62885 | B9: 0.62885 | C9: 0.122826 | E9: 0.880388 | F9: 0.25154 | G9: 0.25154 | I9: 1.635008 | J9: 0.06823 | K9: 0.754618
A10: 1.509238 | B10: 0.10918 | C10: 0.25154 | E10: 1.060742 | F10: 0.12577 | G10: 0.50308 | I10: 0.754618 | J10: 0.50308 | K10: 0.50308
A11: 0.50308 | B11: 0.62885 | C11: 0.25154 | E11: 1.142618 | F11: 0.25154 | G11: 0.50308 | I11: 1.635008 | J11: 0.62885 | K11: 0.25154
A12: 0.754618 | B12: 0.37731 | C12: 0.12577 | E12: 0.754618 | F12: 0.25154 | G12: 0.054584 | I12: 1.635008 | J12: 0.50308 | K12: 0.37731
A13: 1.509238 | B13: 0.25154 | C13: 0.25154 | E13: 1.091808 | F13: 0.25154 | G13: 0.027292 | I13: 0.754618 | J13: 0.37731 | K13: 0.054584
A14: 1.383468 | B14: 1.509238 | C14: 0.25154 | E14: 0.50308 | F14: 0.25154 | G14: 0.754618 | I14: 1.509238 | J14: 0.12577 | K14: 0.37731
... A79: 1.383468 | B79: 0.25154 | C79: 0.25154 | E79: 0.50308 | F79: 0.12577 | G79: 0.25154 | I79: 0.37731 | J79: 0.25154 | K79: 0.25154
A80: 0.37731 | C80: 0.10918 | E80: 0.50308 | F80: 0.50308 | G80: 0.25154 | I80: 1.509238 | J80: 0.754618 | K80: 0.37731
E81: 0.37731 | F81: 0.50308 | G81: 0.25154 | I81: 1.383468 | J81: 0.62885 | K81: 0.37731
E82: 0.62885 | F82: 0.12577 | G82: 0.25154 | I82: 1.383468 | J82: 0.37731 | K82: 0.37731
E83: 0.50308 | F83: 0.12577 | G83: 0.054584 | I83: 1.94 | J83: 0.37731 | K83: 0.25154
E84: 1.383468 | F84: 0.12577 | G84: 0.081876 | I84: 0.62885 | J84: 0.25154 | K84: 0.37731
E85: 0.50308 | F85: 0.12577 | G85: 0.37731 | I85: 2.641166 | J85: 0.880388 | K85: 0.25154
E86: 1.509238 | F86: 0.25154 | G86: 0.25154 | J86: 0.25154
E87: 0.754618 | G87: 0.12577 | J87: 0.37731
E88: 1.635008 | G88: 0.25154 | J88: 0.37731
E89: 1.760778 | G89: 0.25154 | J89: 0.25154
E90: 1.803538 | G90: 1.131928 | J90: 0.62885

Sheet 4A n=3 Average
A1: DMSO | B1: Auranofin | C1: 1,6-HD
A2: =AVERAGE('4A'!A3:A90) -> 0.92705626 | B2: =AVERAGE('4A'!B3:B90) -> 0.57556626 | C2: =AVERAGE('4A'!C3:C90) -> 0.3021351
A3: =AVERAGE('4A'!E3:E90) -> 1.1069959 | B3: =AVERAGE('4A'!F3:F90) -> 0.33228662 | C3: =AVERAGE('4A'!G3:G90) -> 0.33879648
A4: =AVERAGE('4A'!I3:I90) -> 1.0334917 | B4: =AVERAGE('4A'!J3:J90) -> 0.3831482 | C4: =AVERAGE('4A'!K3:K90) -> 0.31498877

Sheet 4B
A1: Replicate 1 | D1: Replicate 2 | G1: Replicate 3
A2: Wt | B2: F1411A | D2: Wt | E2: F1411A | G2: Wt | H2: F1411A
A3: 1.635008 | B3: 0.37731 | D3: 0.62885 | E3: 0.25154 | G3: 0.50308 | H3: 0.37731
A4: 0.50308 | B4: 0.50308 | D4: 1.509238 | E4: 0.754618 | G4: 0.880388 | H4: 0.25154
A5: 0.50308 | B5: 0.50308 | D5: 0.62885 | E5: 0.25154 | G5: 0.37731 | H5: 0.50308
A6: 2.138086 | B6: 0.081876 | D6: 1.635008 | E6: 0.25154 | G6: 1.886548 | H6: 0.37731
A7: 1.760778 | B7: 0.37731 | D7: 1.509238 | E7: 0.37731 | G7: 1.509238 | H7: 0.37731
A8: 0.50308 | B8: 0.25154 | D8: 1.509238 | E8: 0.37731 | G8: 2.766936 | H8: 0.25154
A9: 0.50308 | B9: 0.25154 | D9: 0.50308 | E9: 0.37731 | G9: 1.509238 | H9: 0.50308
A10: 0.37731 | B10: 0.10918 | D10: 1.509238 | E10: 0.50308 | G10: 0.62885 | H10: 0.25154
A11: 0.50308 | B11: 0.62885 | D11: 1.509238 | E11: 0.25154 | G11: 1.383468 | H11: 0.25154
A12: 1.364602 | B12: 0.50308 | D12: 0.37731 | E12: 0.37731 | G12: 1.509238 | H12: 0.37731
A13: 0.50308 | B13: 0.37731 | D13: 0.213808 | E13: 0.040938 | G13: 1.635008 | H13: 0.12577
A14: 0.754618 | B14: 0.095522 | D14: 1.364602 | E14: 0.12577 | G14: 1.803538 | H14: 0.62885
... A80: 2.485966 | B80: 0.25154 | D80: 2.389626 | E80: 0.754618 | G80: 0.880388 | H80: 0.37731
A81: 1.509238 | E81: 0.054584 | G81: 1.509238 | H81: 0.027292
A82: 1.803538 | E82: 0.62885 | G82: 0.754618 | H82: 1.006158
A83: 1.635008 | E83: 0.12577 | G83: 1.635008 | H83: 0.12577
A84: 2.641166 | E84: 0.37731 | G84: 0.37731 | H84: 0.25154
A85: 0.37731 | G85: 1.635008 | H85: 0.122826
A86: 0.754618 | H86: 0.50308
A87: 0.25154 | H87: 0.37731
A88: 1.886548 | H88: 0.37731
A89: 2.263856 | H89: 0.62885
A90: 1.131928 | H90: 0.095522
H91: 0.62885

Sheet 4B n=3 Average
A1: Wt | B1: F1411A
A2: =AVERAGE('4B'!A3:A91) -> 1.0777654 | B2: =AVERAGE('4B'!B3:B91) -> 0.41456654
A3: =AVERAGE('4B'!D3:D91) -> 1.1720619 | B3: =AVERAGE('4B'!E3:E91) -> 0.41474671
A4: =AVERAGE('4B'!G3:G91) -> 0.93870439 | B4: =AVERAGE('4B'!H3:H91) -> 0.36895948

Sheet 4C_mCherry-LacI-TOPBP1
A1: Replicate 1 | D1: Replicate 2 | G1: Replicate 3
A2: 0s | B2: 90s | D2: 0s | E2: 90s | G2: 0s | H2: 90s
A3: 50.914 | B3: 23.957 | D3: 45.072 | E3: 20.624 | G3: 62.261 | H3: 21.316
A4: 40.793 | B4: 26 | D4: 48.158 | E4: 21.675 | G4: 49.921 | H4: 14.558
A5: 43.982 | B5: 23.304 | D5: 67.813 | E5: 21 | G5: 51.749 | H5: 18.799
A6: 37.696 | B6: 21.73 | D6: 33.518 | E6: 16.422 | G6: 59.765 | H6: 20.748
A7: 36.811 | B7: 12.947 | D7: 22.081 | E7: 20.619 | G7: 55.1
G8: 64.38

Sheet 4C_mCherry-LacI-TOPBP1 Average
A1: 0s | B1: 90s
A2: =AVERAGE('4C_mCherry-LacI-TOPBP1'!A3:A7) -> 42.0392 | B2: =AVERAGE('4C_mCherry-LacI-TOPBP1'!B3:B7) -> 21.5876
A3: =AVERAGE('4C_mCherry-LacI-TOPBP1'!D3:D7) -> 43.3284 | B3: =AVERAGE('4C_mCherry-LacI-TOPBP1'!E3:E7) -> 20.068
A4: =AVERAGE('4C_mCherry-LacI-TOPBP1'!G3:G8) -> 57.196 | B4: =AVERAGE('4C_mCherry-LacI-TOPBP1'!H3:H8) -> 18.85525

Sheet 4C_mCherry-LacI
A1: Replicate 1 | D1: Replicate 2 | G1: Replicate 3
A2: 0s | B2: 90s | D2: 0s | E2: 90s | G2: 0s | H2: 90s
A3: 29.667 | B3: 28.287 | D3: 43.774 | E3: 74.139 | G3: 45.14 | H3: 64.621
A4: 75.411 | B4: 77.44 | D4: 37.226 | E4: 34.706 | G4: 52.048 | H4: 53.681
A5: 67.14 | B5: 45.458 | D5: 31.024 | E5: 55.553 | G5: 62.028 | H5: 60.774
A6: 42.065 | B6: 48.961 | D6: 45.118 | E6: 16.933 | G6: 51.276 | H6: 37.771
A7: 25.406 | B7: 46.886 | D7: 51.66 | E7: 42.2 | G7: 59.903 | H7: 53.214
A8: 47.557 | B8: 42.908 | D8: 76.634 | E8: 55.952 | G8: 35.943 | H8: 61.867
A9: 43.987 | B9: 43.85 | G9: 54.648
G10: 59.919

Sheet 4C_mCherry-LacI Average
A1: 0s | B1: 90s
A2: =AVERAGE('4C_mCherry-LacI'!A3:A9) -> 47.319 | B2: =AVERAGE('4C_mCherry-LacI'!B3:B9) -> 47.684286
A3: =AVERAGE('4C_mCherry-LacI'!D3:D8) -> 47.572667 | B3: =AVERAGE('4C_mCherry-LacI'!E3:E8) -> 46.5805
A4: =AVERAGE('4C_mCherry-LacI'!G3:G10) -> 52.613125 | B4: =AVERAGE('4C_mCherry-LacI'!H3:H10) -> 55.321333

Sheet 4D
A1: Replicate 1 | H1: Replicate 2 | O1: Replicate 3
A2: Vehicle | B2: Vehicle+AF | C2: Wt | D2: Wt+AF | E2: F1411A | F2: F1411A+AF | H2: Vehicle | I2: Vehicle+AF | J2: Wt | K2: Wt+AF | L2: F1411A | M2: F1411A+AF | O2: Vehicle | P2: Vehicle+AF | Q2: Wt | R2: Wt+AF | S2: F1411A | T2: F1411A+AF
A3: 0.005672 | B3: 0.006459 | C3: 0.018463 | D3: 0.012046 | E3: 0.001158 | F3: 0.006111 | H3: 0.00311 | I3: 0.013521 | J3: 0.023784 | K3: 0.007657 | L3: 0.008296 | M3: 0.00578 | O3: 0.00814 | P3: 0.008811 | Q3: 0.038555 | R3: 0.002428 | S3: 0.012488 | T3: 0.002675
A4: 0.006038 | B4: 0.014335 | C4: 0.018735 | D4: 0.006578 | E4: 0.004725 | F4: 0.018667 | H4: 0.007464 | I4: 0.007045 | J4: 0.015847 | K4: 0.014817 | L4: 0.009566 | M4: 0.002578 | O4: 0.008103 | P4: 0.010893 | Q4: 0.028762 | R4: 0.007981 | S4: 0.009505 | T4: 0.011354
A5: 0.004746 | B5: 0.007764 | C5: 0.019623 | D5: 0.00297 | E5: 0.003684 | F5: 0.01284 | H5: 0.01738 | I5: 0.010332 | J5: 0.043505 | K5: 0.015645 | L5: 0.009712 | M5: 0.003784 | O5: 0.011297 | P5: 0.005556 | Q5: 0.045836 | R5: 0.019294 | S5: 0.011258 | T5: 0.009231
A6: 0.007472 | B6: 0.015843 | C6: 0.021744 | D6: 0.008612 | E6: 0.008283 | F6: 0.004068 | H6: 0.008798 | I6: 0.017419 | J6: 0.03776 | K6: 0.019186 | L6: 0.010626 | M6: 0.01126 | O6: 0.002259 | P6: 0.006891 | Q6: 0.039453 | R6: 0.012672 | S6: 0.012959 | T6: 0.006838
A7: 0.007261 | B7: 0.0098 | C7: 0.022583 | D7: 0.005708 | E7: 0.001081 | F7: 0.008157 | H7: 0.009246 | I7: 0.006445 | J7: 0.034889 | K7: 0.008305 | L7: 0.005217 | M7: 0.009901 | O7: 0.008173 | P7: 0.005316 | Q7: 0.040024 | R7: 0.009715 | S7: 0.009649 | T7: 0.014756
A8: 0.004476 | B8: 0.007891 | C8: 0.024841 | D8: 0.006673 | E8: 0.003097 | F8: 0.011622 | H8: 0.005901 | I8: 0.022345 | J8: 0.016136 | K8: 0.002926 | L8: 0.006754 | M8: 0.005668 | O8: 0.004049 | P8: 0.012605 | Q8: 0.021198 | R8: 0.006796 | S8: 0.026372 | T8: 0.010147
A9: 0.008516 | B9: 0.007858 | C9: 0.021809 | D9: 0.003704 | E9: 0.002499 | F9: 0.013022 | H9: 0.004867 | I9: 0.013444 | J9: 0.02646 | K9: 0.004124 | L9: 0.006637 | M9: 0.01274 | O9: 0.003225 | P9: 0.004385 | Q9: 0.019059 | R9: 0.006403 | S9: 0.021108 | T9: 0.005137
A10: 0.006958 | B10: 0.005003 | C10: 0.01968 | D10: 0.00553 | E10: 0.004642 | F10: 0.012876 | H10: 0.005024 | I10: 0.007561 | J10: 0.02654 | K10: 0.003842 | L10: 0.003482 | M10: 0.001553 | O10: 0.005313 | P10: 0.007547 | Q10: 0.020293 | R10: 0.021442 | S10: 0.015045 | T10: 0.008512
A11: 0.005769 | B11: 0.01007 | C11: 0.019332 | D11: 0.005892 | E11: 0.009384 | F11: 0.010159 | H11: 0.008319 | I11: 0.007231 | J11: 0.023073 | K11: 0.00661 | L11: 0.014149 | M11: 0.011599 | O11: 0.007328 | P11: 0.005758 | Q11: 0.034636 | R11: 0.004375 | S11: 0.014995 | T11: 0.011335
A12: 0.002268 | B12: 0.006096 | C12: 0.01382 | D12: 0.006655 | E12: 0.00416 | F12: 0.009029 | H12: 0.006751 | I12: 0.006024 | J12: 0.019691 | K12: 0.006993 | L12: 0.006585 | M12: 0.004618 | O12: 0.00736 | P12: 0.010803 | Q12: 0.029976 | R12: 0.008388 | S12: 0.020535 | T12: 0.008851
A13: 0.003499 | B13: 0.002526 | C13: 0.03042 | D13: 0.011911 | E13: 0.008447 | F13: 0.008982 | H13: 0.004862 | I13: 0.004924 | J13: 0.035546 | K13: 0.010185 | L13: 0.013251 | M13: 0.002136 | O13: 0.010226 | P13: 0.004823 | Q13: 0.045977 | R13: 0.002515 | S13: 0.015943 | T13: 0.016942
A14: 0.008725 | B14: 0.002885 | C14: 0.013553 | D14: 0.009366 | E14: 0.017806 | F14: 0.008547 | H14: 0.009875 | I14: 0.009513 | J14: 0.018814 | K14: 0.009963 | L14: 0.010249 | M14: 0.009581 | O14: 0.00561 | P14: 0.001246 | Q14: 0.017999 | R14: 0.004386 | S14: 0.007791 | T14: 0.006036
... A19: 0.006608 | B19: 0.00587 | C19: 0.035128 | D19: 0.011245 | E19: 0.016272 | F19: 0.005532 | H19: 0.022159 | I19: 0.001577 | J19: 0.023623 | K19: 0.009759 | L19: 0.009005 | M19: 0.009624 | O19: 0.010256 | P19: 0.002522 | Q19: 0.026036 | R19: 0.009226 | S19: 0.006956 | T19: 0.005242
A20: 0.009125 | C20: 0.02581 | D20: 0.002929 | F20: 0.003757 | H20: 0.009747 | I20: 0.005759 | J20: 0.016678 | K20: 0.009596 | L20: 0.006506 | M20: 0.004332 | O20: 0.004321 | P20: 0.006711 | Q20: 0.02045 | R20: 0.011148 | S20: 0.013027 | T20: 0.009375
C21: 0.027237 | F21: 0.010148 | H21: 0.009819 | J21: 0.017146 | K21: 0.009383 | L21: 0.007036 | M21: 0.007098 | O21: 0.014148 | P21: 0.005464 | R21: 0.007674 | T21: 0.008681
C22: 0.021823 | F22: 0.007744 | H22: 0.004962 | K22: 0.014542 | L22: 0.007032 | M22: 0.010958 | P22: 0.010525 | R22: 0.010767 | T22: 0.012846
F23: 0.007252 | H23: 0.012446 | L23: 0.008352 | M23: 0.016525 | R23: 0.009482 | T23: 0.005272
F24: 0.008861 | H24: 0.015184 | M24: 0.007207
F25: 0.015946 | M25: 0.006593
F26: 0.009833 | M26: 0.020074
M27: 0.004225
M28: 0.011566
M29: 0.011326
M30: 0.004243

Sheet 4D n=3 Average
A1: Vehicle | B1: Vehicle+AF | C1: Wt | D1: Wt+AF | E1: F1411A | F1: F1411A+AF
A2: =AVERAGE('4D'!A3:A30) -> 0.0061425556 | B2: =AVERAGE('4D'!B3:B30) -> 0.0075487647 | C2: =AVERAGE('4D'!C3:C30) -> 0.0241304 | D2: =AVERAGE('4D'!D3:D30) -> 0.0076667778 | E2: =AVERAGE('4D'!E3:E30) -> 0.0079814118 | F2: =AVERAGE('4D'!F3:F30) -> 0.00999525
A3: =AVERAGE('4D'!H3:H30) -> 0.009387 | B3: =AVERAGE('4D'!I3:I30) -> 0.010134333 | C3: =AVERAGE('4D'!J3:J30) -> 0.026372947 | D3: =AVERAGE('4D'!K3:K30) -> 0.00983935 | E3: =AVERAGE('4D'!L3:L30) -> 0.0098881905 | F3: =AVERAGE('4D'!M3:M30) -> 0.0082807143
A4: =AVERAGE('4D'!O3:O30) -> 0.0072659474 | B4: =AVERAGE('4D'!P3:P30) -> 0.0076971 | C4: =AVERAGE('4D'!Q3:Q30) -> 0.032097722 | D4: =AVERAGE('4D'!R3:R30) -> 0.009139 | E4: =AVERAGE('4D'!S3:S30) -> 0.012684333 | F4: =AVERAGE('4D'!T3:T30) -> 0.0089788095

Sheet 4E
B1: off | D1: 10s | F1: 20s | I1: 30s | K1: 40s
B2: Average | C2: SD | D2: Average | E2: SD | F2: Average | G2: SD | I2: Average | J2: SD | K2: Average | L2: SD
A3: Vector/DMSO | B3: 0.23529412 | C3: 0.42733632 | D3: 0.24242424 | E3: 0.43183352 | F3: 0.24242424 | G3: 0.43183352 | I3: 0.25 | J3: 0.43643578 | K3: 0.24242424 | L3: 0.43183352
A4: Vector/Auranofin | B4: 0.26315789 | C4: 0.44625835 | D4: 0.26315789 | E4: 0.44625835 | F4: 0.36842105 | G4: 0.58913829 | I4: 1.2631579 | J4: 3.4144701 | K4: 1.8421053 | L4: 5.1387574
A5: TOPBP1/Wt/DMSO | B5: 0.24242424 | C5: 0.43549417 | D5: 0.75757576 | E5: 2.2600062 | F5: 3.8181818 | G5: 6.7038799 | I5: 9.1212121 | J5: 10.428715 | K5: 11.363636 | L5: 10.991875
A6: TOPBP1/Wt/Auranofin | B6: 0.23529412 | C6: 0.43802573 | D6: 0.29411765 | E6: 0.42141825 | F6: 0.35294118 | G6: 0.45722407 | I6: 0.70588235 | J6: 0.96639035 | K6: 1.5882353 | L6: 2.0601107
A7: TOPBP1/F1411A/DMSO | B7: 0.18518519 | C7: 0.3920952 | D7: 0.18518519 | E7: 0.3920952 | F7: 0.48148148 | G7: 1.5630249 | I7: 0.81481481 | J7: 2.5482075 | K7: 1.7407407 | L7: 4.1626605
A8: TOPBP1/F1411A/Auranofin | B8: 0.47058824 | C8: 0.4586762 | D8: 0.38235294 | E8: 0.44340087 | F8: 0.52941176 | G8: 1.3501239 | I8: 0.61764706 | J8: 4.1997082 | K8: 0.85294118 | L8: 5.3521649
B84: 1 | C84: 1 | D84: 1 | E84: 1 | F84: 1
B85: 0 | C85: 0 | D85: 0 | E85: 0 | F85: 0

Sheet 4F
A1: Replicate 1 | H1: Replicate 2 | O1: Replicate 3
A2: Vehicle-DMSO | B2: Vehicle-Afuranofin | C2: Vehicle-1,6-HD | D2: HU-DMSO | E2: HU-Auranofin | F2: HU-1,6-HD | H2: Vehicle-DMSO | I2: Vehicle-Afuranofin | J2: Vehicle-1,6-HD | K2: HU-DMSO | L2: HU-Auranofin | M2: HU-1,6-HD | O2: Vehicle-DMSO | P2: Vehicle-Afuranofin | Q2: Vehicle-1,6-HD | R2: HU-DMSO | S2: HU-Auranofin | T2: HU-1,6-HD
A3: 0 | B3: 0 | C3: 0 | D3: 4 | E3: 2 | F3: 1 | H3: 6 | I3: 0 | J3: 0 | K3: 9 | L3: 0 | M3: 3 | O3: 0 | P3: 0 | Q3: 1 | R3: 14 | S3: 1 | T3: 2
A4: 0 | B4: 0 | C4: 0 | D4: 8 | E4: 1 | F4: 1 | H4: 2 | I4: 2 | J4: 0 | K4: 1 | L4: 2 | M4: 4 | O4: 0 | P4: 0 | Q4: 0 | R4: 5 | S4: 1 | T4: 2
A5: 1 | B5: 1 | C5: 1 | D5: 16 | E5: 2 | F5: 1 | H5: 2 | I5: 0 | J5: 0 | K5: 4 | L5: 5 | M5: 2 | O5: 1 | P5: 1 | Q5: 0 | R5: 12 | S5: 0 | T5: 2
A6: 2 | B6: 0 | C6: 2 | D6: 10 | E6: 2 | F6: 0 | H6: 0 | I6: 0 | J6: 1 | K6: 1 | L6: 5 | M6: 1 | O6: 0 | P6: 0 | Q6: 1 | R6: 3 | S6: 3 | T6: 1
A7: 1 | B7: 1 | C7: 0 | D7: 5 | E7: 1 | F7: 1 | H7: 0 | I7: 0 | J7: 0 | K7: 9 | L7: 1 | M7: 1 | O7: 0 | P7: 1 | Q7: 0 | R7: 4 | S7: 1 | T7: 3
A8: 2 | B8: 1 | C8: 0 | D8: 12 | E8: 2 | F8: 0 | H8: 4 | I8: 0 | J8: 0 | K8: 2 | L8: 1 | M8: 3 | O8: 0 | P8: 1 | Q8: 1 | R8: 12 | S8: 1 | T8: 1
A9: 3 | B9: 1 | C9: 2 | D9: 18 | E9: 2 | F9: 0 | H9: 4 | I9: 1 | J9: 1 | K9: 7 | L9: 2 | M9: 3 | O9: 0 | P9: 0 | Q9: 1 | R9: 4 | S9: 3 | T9: 0
A10: 0 | B10: 0 | C10: 0 | D10: 7 | E10: 1 | F10: 1 | H10: 3 | I10: 0 | J10: 1 | K10: 2 | L10: 1 | M10: 4 | O10: 1 | P10: 0 | Q10: 0 | R10: 5 | S10: 1 | T10: 2
A11: 5 | B11: 0 | C11: 1 | D11: 12 | E11: 1 | F11: 1 | H11: 0 | I11: 1 | J11: 1 | K11: 7 | L11: 1 | M11: 3 | O11: 1 | P11: 1 | Q11: 0 | R11: 9 | S11: 1 | T11: 1
A12: 4 | B12: 1 | C12: 0 | D12: 5 | E12: 1 | F12: 1 | H12: 4 | I12: 0 | J12: 0 | K12: 6 | L12: 3 | M12: 4 | O12: 1 | P12: 0 | Q12: 0 | R12: 7 | S12: 3 | T12: 6
A13: 3 | B13: 1 | C13: 3 | D13: 13 | E13: 1 | F13: 1 | H13: 2 | I13: 0 | J13: 1 | K13: 1 | L13: 1 | M13: 5 | O13: 1 | P13: 0 | Q13: 0 | R13: 11 | S13: 1 | T13: 4
A14: 4 | B14: 2 | C14: 0 | D14: 9 | E14: 8 | F14: 1 | H14: 5 | I14: 0 | J14: 1 | K14: 5 | L14: 3 | M14: 1 | O14: 0 | P14: 1 | Q14: 0 | R14: 12 | S14: 1 | T14: 1
... A67: 3 | B67: 0 | C67: 1 | D67: 15 | E67: 1 | F67: 7 | H67: 0 | I67: 1 | J67: 10 | K67: 10 | L67: 3 | M67: 0 | O67: 4 | P67: 1 | Q67: 0 | R67: 5 | S67: 1 | T67: 3
A68: 0 | C68: 1 | D68: 6 | E68: 3 | F68: 2 | H68: 0 | I68: 0 | J68: 3 | K68: 13 | L68: 8 | M68: 0 | O68: 3 | P68: 0 | Q68: 1 | R68: 8 | S68: 1 | T68: 2
A69: 1 | C69: 0 | D69: 2 | E69: 0 | F69: 2 | H69: 1 | I69: 0 | J69: 11 | K69: 4 | L69: 8 | M69: 2 | O69: 0 | P69: 2 | Q69: 1 | R69: 13 | S69: 7 | T69: 8
A70: 4 | C70: 0 | D70: 6 | E70: 9 | F70: 1 | H70: 1 | I70: 1 | J70: 2 | K70: 10 | L70: 1 | M70: 1 | O70: 5 | P70: 0 | Q70: 1 | R70: 6 | S70: 1 | T70: 2
A71: 3 | C71: 0 | D71: 12 | E71: 9 | F71: 1 | H71: 1 | I71: 0 | K71: 5 | L71: 5 | M71: 3 | O71: 2 | P71: 2 | Q71: 4 | R71: 12 | S71: 2 | T71: 1
A72: 3 | C72: 1 | D72: 18 | E72: 3 | F72: 1 | H72: 1 | I72: 0 | K72: 11 | L72: 1 | M72: 1 | O72: 0 | P72: 0 | Q72: 2 | R72: 13 | S72: 3 | T72: 1
A73: 4 | C73: 1 | D73: 7 | E73: 1 | F73: 1 | H73: 0 | I73: 2 | K73: 2 | L73: 1 | M73: 1 | O73: 0 | P73: 0 | Q73: 4 | R73: 11 | S73: 1 | T73: 1
A74: 5 | C74: 2 | D74: 7 | E74: 6 | F74: 1 | H74: 1 | I74: 0 | K74: 11 | L74: 2 | M74: 1 | O74: 2 | P74: 1 | Q74: 4 | R74: 19 | S74: 5 | T74: 3
A75: 5 | D75: 6 | E75: 3 | F75: 1 | H75: 2 | I75: 0 | K75: 10 | L75: 2 | M75: 1 | O75: 0 | P75: 0 | Q75: 2 | R75: 16 | S75: 1 | T75: 1
A76: 7 | D76: 4 | E76: 2 | F76: 1 | H76: 0 | I76: 0 | K76: 21 | L76: 1 | M76: 1 | O76: 1 | Q76: 2 | R76: 21 | S76: 3 | T76: 5
A77: 3 | D77: 4 | E77: 6 | F77: 1 | H77: 0 | I77: 0 | K77: 11 | L77: 1 | M77: 1 | O77: 1 | Q77: 1 | R77: 16 | S77: 2 | T77: 6
A78: 0 | D78: 7 | E78: 1 | F78: 1 | H78: 2 | K78: 5 | L78: 2 | M78: 1 | O78: 0 | Q78: 2 | R78: 0 | S78: 1 | T78: 10
A79: 1 | E79: 5 | F79: 1 | H79: 0 | K79: 18 | L79: 6 | M79: 1 | O79: 1 | Q79: 8 | R79: 10 | S79: 1 | T79: 0
A80: 4 | E80: 6 | F80: 1 | H80: 2 | K80: 8 | L80: 2 | M80: 7 | O80: 2 | Q80: 1 | R80: 11 | S80: 1 | T80: 1
A81: 0 | E81: 6 | F81: 1 | H81: 1 | K81: 3 | L81: 2 | M81: 1 | O81: 2 | Q81: 3 | R81: 1 | S81: 1 | T81: 1
A82: 2 | E82: 5 | F82: 1 | H82: 3 | K82: 8 | L82: 6 | M82: 1 | O82: 3 | Q82: 1 | R82: 8 | S82: 3 | T82: 1
A83: 0 | E83: 3 | F83: 1 | H83: 0 | K83: 3 | L83: 5 | M83: 1 | O83: 2 | Q83: 5 | R83: 19 | S83: 6 | T83: 13
A84: 5 | E84: 2 | F84: 1 | H84: 1 | K84: 7 | L84: 2 | M84: 1 | O84: 0 | Q84: 6 | R84: 5 | S84: 8 | T84: 7
A85: 0 | E85: 6 | F85: 0 | H85: 0 | K85: 5 | L85: 2 | M85: 2 | O85: 4 | Q85: 4 | R85: 6 | S85: 2 | T85: 9
A86: 6 | E86: 4 | F86: 1 | H86: 1 | K86: 2 | L86: 1 | M86: 3 | O86: 3 | Q86: 2 | S86: 6 | T86: 3
A87: 0 | E87: 3 | F87: 1 | H87: 0 | K87: 11 | L87: 2 | M87: 1 | O87: 2 | Q87: 1 | S87: 1 | T87: 1
A88: 0 | E88: 8 | F88: 1 | H88: 0 | K88: 13 | L88: 4 | M88: 1 | O88: 1 | Q88: 4 | S88: 3 | T88: 4
A89: 2 | E89: 3 | F89: 1 | H89: 0 | K89: 11 | L89: 2 | M89: 1 | O89: 3 | Q89: 8 | S89: 9 | T89: 5
A90: 2 | E90: 2 | F90: 1 | H90: 1 | K90: 9 | L90: 2 | M90: 3 | O90: 1 | S90: 1 | T90: 1
A91: 1 | E91: 1 | F91: 1 | H91: 0 | K91: 7 | L91: 3 | M91: 1 | O91: 4 | S91: 1 | T91: 1
A92: 1 | E92: 2 | F92: 1 | H92: 0 | K92: 8 | L92: 5 | M92: 7 | O92: 1 | S92: 2 | T92: 1
A93: 0 | E93: 2 | F93: 1 | H93: 0 | K93: 1 | L93: 6 | M93: 5 | O93: 0 | S93: 1 | T93: 2
A94: 1 | E94: 1 | F94: 1 | H94: 3 | K94: 10 | L94: 6 | M94: 5 | O94: 5 | S94: 1 | T94: 2
A95: 4 | E95: 4 | F95: 1 | H95: 2 | K95: 18 | L95: 1 | M95: 1 | O95: 1 | S95: 1 | T95: 2
A96: 2 | E96: 2 | F96: 4 | H96: 0 | K96: 18 | L96: 1 | M96: 2 | O96: 1 | S96: 0 | T96: 1
A97: 5 | E97: 1 | F97: 2 | H97: 1 | K97: 17 | L97: 8 | M97: 4 | O97: 0 | S97: 6 | T97: 1
A98: 2 | E98: 3 | F98: 3 | H98: 1 | K98: 18 | L98: 1 | M98: 4 | O98: 5 | S98: 2 | T98: 2
A99: 0 | E99: 3 | F99: 14 | H99: 0 | K99: 2 | L99: 5 | M99: 2 | O99: 1 | S99: 2 | T99: 1
A100: 2 | E100: 3 | F100: 3 | H100: 1 | K100: 10 | L100: 3 | M100: 1 | O100: 1 | S100: 1 | T100: 1
A101: 2 | E101: 4 | F101: 1 | H101: 1 | K101: 14 | L101: 2 | M101: 2 | O101: 0 | S101: 11 | T101: 2
... A109: 1 | E109: 3 | F109: 1 | H109: 2 | K109: 20 | L109: 5 | M109: 2 | O109: 1 | S109: 5 | T109: 1
A110: 0 | E110: 1 | F110: 2 | H110: 1 | L110: 1 | M110: 1 | O110: 0 | S110: 3 | T110: 1
A111: 1 | E111: 3 | F111: 4 | H111: 4 | L111: 1 | M111: 6 | O111: 1 | S111: 6 | T111: 1
A112: 5 | E112: 10 | F112: 5 | H112: 4 | L112: 0 | M112: 1 | O112: 0 | S112: 4 | T112: 1
A113: 6 | E113: 9 | F113: 6 | H113: 1 | L113: 0 | M113: 7 | O113: 1 | S113: 4 | T113: 1
A114: 5 | E114: 5 | F114: 6 | H114: 3 | L114: 2 | M114: 1 | O114: 1 | S114: 4 | T114: 1
A115: 2 | E115: 1 | F115: 2 | H115: 11 | L115: 0 | M115: 1 | O115: 2 | S115: 0 | T115: 1
A116: 3 | E116: 5 | F116: 1 | H116: 1 | L116: 2 | M116: 2 | O116: 1 | S116: 2 | T116: 1
A117: 1 | E117: 2 | F117: 2 | H117: 6 | L117: 0 | M117: 6 | O117: 1 | S117: 1 | T117: 1
A118: 3 | E118: 1 | F118: 5 | H118: 9 | L118: 4 | M118: 2 | S118: 3 | T118: 2
A119: 0 | E119: 1 | F119: 1 | H119: 9 | L119: 5 | M119: 1 | S119: 1 | T119: 1
A120: 0 | E120: 0 | F120: 5 | H120: 0 | L120: 4 | M120: 1 | S120: 1 | T120: 1
A121: 0 | E121: 1 | F121: 2 | H121: 6 | L121: 5 | M121: 5 | S121: 3 | T121: 5
A122: 0 | E122: 1 | F122: 5 | H122: 4 | L122: 3 | M122: 5 | S122: 1 | T122: 4
A123: 2 | E123: 2 | F123: 2 | H123: 11 | L123: 4 | M123: 6 | S123: 3 | T123: 4
A124: 0 | E124: 4 | F124: 3 | H124: 0 | L124: 1 | M124: 1 | S124: 4 | T124: 8
A125: 2 | E125: 4 | F125: 3 | H125: 0 | L125: 2 | M125: 0 | S125: 2 | T125: 1
A126: 1 | E126: 2 | F126: 5 | H126: 0 | L126: 2 | M126: 1 | S126: 1 | T126: 1
A127: 2 | E127: 1 | F127: 1 | H127: 1 | L127: 4 | M127: 1 | S127: 9 | T127: 1
A128: 1 | E128: 2 | F128: 1 | H128: 0 | L128: 4 | M128: 2 | S128: 8 | T128: 1
A129: 3 | E129: 1 | F129: 1 | H129: 2 | L129: 1 | M129: 1 | S129: 7 | T129: 1
A130: 1 | E130: 4 | F130: 1 | H130: 0 | L130: 4 | M130: 1 | S130: 4 | T130: 11
E131: 1 | F131: 1 | H131: 3 | L131: 4 | M131: 1 | S131: 11 | T131: 1
E132: 4 | H132: 2 | L132: 7 | M132: 1 | T132: 1
E133: 1 | H133: 0 | L133: 7 | M133: 1 | T133: 1
E134: 3 | H134: 3 | L134: 3 | M134: 1 | T134: 14
E135: 2 | L135: 2 | M135: 1 | T135: 4
E136: 4 | L136: 8 | M136: 1 | T136: 3
E137: 9 | L137: 2 | M137: 1 | T137: 1
E138: 2 | L138: 4 | M138: 1 | T138: 1
E139: 4 | L139: 8 | M139: 1 | T139: 1
E140: 6 | L140: 3 | T140: 1
L141: 2 | T141: 1
L142: 1 | T142: 1
L143: 4 | T143: 1
L144: 5 | T144: 1
L145: 3 | T145: 1
L146: 1 | T146: 1
T147: 1
T148: 1

Sheet 4F n=3 Average
A1: Vehicle-DMSO | B1: Vehicle-Afuranofin | C1: Vehicle-1,6-HD | D1: HU-DMSO | E1: HU-Auranofin | F1: HU-1,6-HD
A2: =AVERAGE('4F'!A3:A148) -> 1.7109375 | B2: =AVERAGE('4F'!B3:B148) -> 0.66153846 | C2: =AVERAGE('4F'!C3:C148) -> 0.90277778 | D2: =AVERAGE('4F'!D3:D148) -> 8.2763158 | E2: =AVERAGE('4F'!E3:E148) -> 2.5797101 | F2: =AVERAGE('4F'!F3:F148) -> 2.1317829
A3: =AVERAGE('4F'!H3:H148) -> 1.5833333 | B3: =AVERAGE('4F'!I3:I148) -> 0.41333333 | C3: =AVERAGE('4F'!J3:J148) -> 1.0735294 | D3: =AVERAGE('4F'!K3:K148) -> 8.046729 | E3: =AVERAGE('4F'!L3:L148) -> 2.9236111 | F3: =AVERAGE('4F'!M3:M148) -> 2.3649635
A4: =AVERAGE('4F'!O3:O148) -> 1.3826087 | B4: =AVERAGE('4F'!P3:P148) -> 0.56164384 | C4: =AVERAGE('4F'!Q3:Q143) -> 1.2758621 | D4: =AVERAGE('4F'!R3:R148) -> 7.9879518 | E4: =AVERAGE('4F'!S3:S148) -> 2.4341085 | F4: =AVERAGE('4F'!T3:T148) -> 2.1506849

Sheet 4G
A1: Replicate 1 | F1: Replicate 2 | K1: Replicate 3
A2: Vehicle-Wt | B2: Vehicle-F1411A | C2: HU-Wt | D2: HU-F1411A | F2: Vehicle-Wt | G2: Vehicle-F1411A | H2: HU-Wt | I2: HU-F1411A | K2: Vehicle-Wt | L2: Vehicle-F1411A | M2: HU-Wt | N2: HU-F1411A
A3: 0 | B3: 1 | C3: 5 | D3: 1 | F3: 0 | G3: 1 | H3: 15 | I3: 0 | K3: 1 | L3: 0 | M3: 2 | N3: 1
A4: 1 | B4: 1 | C4: 6 | D4: 3 | F4: 0 | G4: 1 | H4: 11 | I4: 7 | K4: 1 | L4: 1 | M4: 11 | N4: 8
A5: 1 | B5: 1 | C5: 11 | D5: 1 | F5: 1 | G5: 1 | H5: 10 | I5: 5 | K5: 3 | L5: 1 | M5: 1 | N5: 1
A6: 0 | B6: 1 | C6: 2 | D6: 6 | F6: 0 | G6: 1 | H6: 3 | I6: 5 | K6: 2 | L6: 1 | M6: 11 | N6: 9
A7: 0 | B7: 1 | C7: 8 | D7: 3 | F7: 0 | G7: 1 | H7: 12 | I7: 1 | K7: 0 | L7: 1 | M7: 14 | N7: 2
A8: 2 | B8: 1 | C8: 8 | D8: 3 | F8: 0 | G8: 1 | H8: 8 | I8: 3 | K8: 2 | L8: 0 | M8: 1 | N8: 2
A9: 2 | B9: 1 | C9: 5 | D9: 1 | F9: 1 | G9: 1 | H9: 3 | I9: 3 | K9: 0 | L9: 1 | M9: 11 | N9: 4
A10: 2 | B10: 1 | C10: 14 | D10: 1 | F10: 0 | G10: 0 | H10: 10 | I10: 1 | K10: 3 | L10: 1 | M10: 10 | N10: 1
A11: 3 | B11: 1 | C11: 14 | D11: 1 | F11: 0 | G11: 1 | H11: 10 | I11: 1 | K11: 3 | L11: 1 | M11: 10 | N11: 4
A12: 0 | B12: 1 | C12: 6 | D12: 2 | F12: 3 | G12: 1 | H12: 9 | I12: 1 | K12: 0 | L12: 1 | M12: 0 | N12: 7
A13: 3 | B13: 1 | C13: 5 | D13: 1 | F13: 2 | G13: 1 | H13: 4 | I13: 2 | K13: 1 | L13: 0 | M13: 6 | N13: 1
A14: 0 | B14: 1 | C14: 8 | D14: 1 | F14: 2 | G14: 1 | H14: 3 | I14: 2 | K14: 3 | L14: 1 | M14: 15 | N14: 1
... A89: 1 | B89: 0 | C89: 7 | D89: 1 | F89: 1 | G89: 0 | H89: 4 | I89: 1 | K89: 1 | L89: 1 | M89: 12 | N89: 1
A90: ` | B90: 0 | C90: 6 | D90: 4 | F90: 1 | G90: 1 | H90: 20 | I90: 1 | K90: 0 | L90: 1 | M90: 4 | N90: 1
A91: 2 | C91: 17 | D91: 5 | F91: 1 | G91: 1 | H91: 20 | I91: 1 | K91: 2 | L91: 1 | M91: 4 | N91: 4
A92: 2 | C92: 4 | D92: 4 | F92: 1 | H92: 4 | I92: 4 | K92: 0 | M92: 1 | N92: 1
A93: 1 | C93: 14 | D93: 5 | F93: 1 | H93: 14 | I93: 5 | K93: 2 | M93: 1 | N93: 9
A94: 0 | C94: 2 | F94: 3 | H94: 3 | I94: 1 | K94: 3 | M94: 16 | N94: 5
A95: 1 | C95: 12 | F95: 1 | H95: 14 | I95: 5 | K95: 2 | M95: 12
A96: 0 | C96: 18 | F96: 0 | H96: 20 | I96: 1 | K96: 2 | M96: 12
A97: 0 | C97: 10 | F97: 1 | H97: 8 | I97: 1 | K97: 2 | M97: 8
C98: 8 | F98: 5 | H98: 20 | I98: 1 | K98: 1 | M98: 10
C99: 9 | F99: 1 | H99: 2 | I99: 2 | K99: 1 | M99: 10
C100: 8 | F100: 2 | H100: 2 | I100: 2 | K100: 1 | M100: 9
C101: 9 | F101: 1 | H101: 1 | I101: 5 | M101: 12
C102: 11 | F102: 1 | H102: 3 | I102: 7
C103: 8 | F103: 0 | H103: 9 | I103: 1
C104: 6 | F104: 1 | H104: 2 | I104: 8
C105: 12 | F105: 1 | H105: 11
C106: 6 | F106: 1 | H106: 2
F107: 1 | H107: 4
F108: 2 | H108: 12
F109: 2 | H109: 2
H110: 12
H111: 1
H112: 4
H113: 8
H114: 1
H115: 15
H116: 8
H117: 15
H118: 2
H119: 9
H120: 14
H121: 10
... H126: 21

Sheet 4G n=3 Average
A1: Vehicle-Wt | B1: Vehicle-F1411A | C1: HU-Wt | D1: HU-F1411A
A2: =AVERAGE('4G'!A3:A127) -> 2.0638298 | B2: =AVERAGE('4G'!B3:B127) -> 0.76136364 | C2: =AVERAGE('4G'!C3:C127) -> 9.7115385 | D2: =AVERAGE('4G'!D3:D127) -> 3.2197802
A3: =AVERAGE('4G'!F3:F127) -> 1.4205607 | B3: =AVERAGE('4G'!G3:G127) -> 0.62921348 | C3: =AVERAGE('4G'!H3:H127) -> 6.8467742 | D3: =AVERAGE('4G'!I3:I127) -> 3.0490196
A4: =AVERAGE('4G'!K3:K127) -> 1.8469388 | B4: =AVERAGE('4G'!L3:L127) -> 0.68539326 | C4: =AVERAGE('4G'!M3:M127) -> 6.9393939 | D4: =AVERAGE('4G'!N3:N127) -> 2.6630435

Sheet 5A_RPA2 pS33
A1: Replicate 1 | L1: Replicate 2 | W1: Replicate 3
A2: DMSO | B2: Auranofin | C2: Auranofin+NAC | D2: PMX464 | E2: Piperlongumine | F2: CPT | G2: CPT+Auranofin | H2: CPT+Auranofin+NAC | I2: CPT+PMX464 | J2: CPT+Piperlongumine | L2: DMSO | M2: Auranofin | N2: Auranofin+NAC | O2: PMX464 | P2: Piperlongumine | Q2: CPT | R2: CPT+Auranofin | S2: CPT+Auranofin+NAC | T2: CPT+PMX464 | U2: CPT+Piperlongumine | W2: DMSO | X2: Auranofin | Y2: Auranofin+NAC | Z2: PMX464 | AA2: Piperlongumine | AB2: CPT | AC2: CPT+Auranofin | AD2: CPT+Auranofin+NAC | AE2: CPT+PMX464 | AF2: CPT+Piperlongumine
A3: 11.89 | B3: 14.533 | C3: 12.482 | D3: 11.302 | E3: 13.22 | F3: 36.289 | G3: 12.378 | H3: 14.118 | I3: 37.517 | J3: 50.907 | L3: 13.088 | M3: 11.319 | N3: 12.203 | O3: 18.45 | P3: 10.654 | Q3: 37.809 | R3: 21.182 | S3: 19.771 | T3: 41.192 | U3: 40.691 | W3: 13.593 | X3: 13.144 | Y3: 15.841 | Z3: 6.69 | AA3: 20.156 | AB3: 49.175 | AC3: 18.147 | AD3: 7.353 | AE3: 20.438 | AF3: 26.762
A4: 12.216 | B4: 14.759 | C4: 12.459 | D4: 11.981 | E4: 15.223 | F4: 46.183 | G4: 18.545 | H4: 25.595 | I4: 21.653 | J4: 50.295 | L4: 10.948 | M4: 13.116 | N4: 14.872 | O4: 9.6 | P4: 11.34 | Q4: 39.744 | R4: 20.592 | S4: 15.889 | T4: 40.055 | U4: 45.88 | W4: 13.788 | X4: 15.645 | Y4: 12.157 | Z4: 6.751 | AA4: 6.32 | AB4: 39.596 | AC4: 21.679 | AD4: 30.113 | AE4: 39.732 | AF4: 38.347
A5: 13.086 | B5: 16.344 | C5: 12.111 | D5: 17.865 | E5: 17.865 | F5: 47.541 | G5: 13.779 | H5: 17.081 | I5: 20.194 | J5: 52.808 | L5: 13.813 | M5: 13.553 | N5: 15.374 | O5: 8.66 | P5: 15.6 | Q5: 41.522 | R5: 29.124 | S5: 18.979 | T5: 43.598 | U5: 46.221 | W5: 13.869 | X5: 13.427 | Y5: 12.31 | Z5: 17.942 | AA5: 7.842 | AB5: 28.891 | AC5: 17.664 | AD5: 26.472 | AE5: 25.491 | AF5: 24.18
A6: 12.833 | B6: 15.53 | C6: 12.57 | D6: 10.282 | E6: 9.332 | F6: 37.111 | G6: 15.191 | H6: 26.016 | I6: 48.778 | J6: 46.287 | L6: 12.555 | M6: 13.173 | N6: 11.883 | O6: 12.754 | P6: 9.4 | Q6: 26.18 | R6: 28.957 | S6: 17.676 | T6: 45.76 | U6: 30.653 | W6: 13.677 | X6: 13.027 | Y6: 11.971 | Z6: 19.507 | AA6: 11.12 | AB6: 30.306 | AC6: 19.843 | AD6: 27.736 | AE6: 34.225 | AF6: 29.379
A7: 12.255 | B7: 14.572 | C7: 12.701 | D7: 18.884 | E7: 20.223 | F7: 47.658 | G7: 15.296 | H7: 25.266 | I7: 48.125 | J7: 20.091 | L7: 13.412 | M7: 13.56 | N7: 14.953 | O7: 12.334 | P7: 9.6 | Q7: 21.732 | R7: 14.982 | S7: 17.758 | T7: 29.779 | U7: 40.156 | W7: 13.331 | X7: 16.635 | Y7: 12.735 | Z7: 16.147 | AA7: 16.334 | AB7: 28.928 | AC7: 22.896 | AD7: 28.239 | AE7: 25.947 | AF7: 47.182
A8: 13.466 | B8: 17.063 | C8: 13.056 | D8: 18.717 | E8: 15.784 | F8: 37.366 | G8: 19.084 | H8: 25.655 | I8: 31.595 | J8: 46.695 | L8: 12.965 | M8: 13.939 | N8: 15.12 | O8: 10.84 | P8: 8.661 | Q8: 23.009 | R8: 21.366 | S8: 22.78 | T8: 40.864 | U8: 39.662 | W8: 20.696 | X8: 16.133 | Y8: 13.593 | Z8: 11.995 | AA8: 9.54 | AB8: 47.999 | AC8: 18.753 | AD8: 27.23 | AE8: 25.631 | AF8: 43.985
A9: 12.79 | B9: 14.817 | C9: 12.386 | D9: 17.159 | E9: 22.357 | F9: 39.277 | G9: 26.353 | H9: 14.849 | I9: 34.783 | J9: 32.48 | L9: 12.868 | M9: 13.137 | N9: 15.603 | O9: 10.5 | P9: 5.613 | Q9: 27.737 | R9: 19.965 | S9: 16.278 | T9: 22.037 | U9: 32.556 | W9: 20.955 | X9: 15.632 | Y9: 13.055 | Z9: 11.191 | AA9: 8.45 | AB9: 20.292 | AC9: 24.643 | AD9: 10.652 | AE9: 38.504 | AF9: 34.457
A10: 12.863 | B10: 13.693 | C10: 12.486 | D10: 19.598 | E10: 12.541 | F10: 25.083 | G10: 28.866 | H10: 27.163 | I10: 46.513 | J10: 40.342 | L10: 13.463 | M10: 12.557 | N10: 13.088 | O10: 12.36 | P10: 8.667 | Q10: 26.262 | R10: 29.561 | S10: 12.602 | T10: 49.012 | U10: 50.33 | W10: 13.94 | X10: 21.287 | Y10: 14.778 | Z10: 14.068 | AA10: 15.364 | AB10: 34.335 | AC10: 28.397 | AD10: 23.77 | AE10: 35.579 | AF10: 36.414
A11: 13.22 | B11: 16.058 | C11: 12.627 | D11: 19.795 | E11: 14.254 | F11: 27.815 | G11: 11.051 | H11: 15.639 | I11: 31.838 | J11: 41.585 | L11: 11.538 | M11: 14.737 | N11: 15.515 | O11: 17.6 | P11: 12.347 | Q11: 28.811 | R11: 15.776 | S11: 26.684 | T11: 42.369 | U11: 22.965 | W11: 12.428 | X11: 13.007 | Y11: 12.07 | Z11: 8.891 | AA11: 12.398 | AB11: 35.424 | AC11: 27.779 | AD11: 26.909 | AE11: 24.286 | AF11: 34.422
A12: 13.351 | B12: 13.435 | C12: 13.493 | D12: 19.055 | E12: 11.025 | F12: 37.158 | G12: 12.64 | H12: 26.609 | I12: 45.052 | J12: 35.266 | L12: 11.374 | M12: 14.633 | N12: 13.937 | O12: 9.6 | P12: 12.965 | Q12: 19.816 | R12: 20.623 | S12: 16.025 | T12: 41.865 | U12: 19.554 | W12: 14.388 | X12: 12.175 | Y12: 12.796 | Z12: 6.855 | AA12: 8.65 | AB12: 36.709 | AC12: 20.266 | AD12: 18.81 | AE12: 39.917 | AF12: 33.843
A13: 13.206 | B13: 13.056 | C13: 12.703 | D13: 18.649 | E13: 11.258 | F13: 27.763 | G13: 19.82 | H13: 21.8 | I13: 45.895 | J13: 43.074 | L13: 13.223 | M13: 15.15 | N13: 12.689 | O13: 12.34 | P13: 10.547 | Q13: 22.494 | R13: 15.542 | S13: 28.149 | T13: 26.668 | U13: 26.548 | W13: 14.921 | X13: 13.445 | Y13: 12.742 | Z13: 16.835 | AA13: 6.75 | AB13: 30.172 | AC13: 10.505 | AD13: 15.768 | AE13: 29.582 | AF13: 37.032
A14: 11.809 | B14: 12.985 | C14: 12.307 | D14: 9.264 | E14: 9.6 | F14: 35.436 | G14: 17.333 | H14: 12.183 | I14: 48.481 | J14: 37.269 | L14: 11.882 | M14: 13.284 | N14: 12.913 | O14: 8.779 | P14: 18.651 | Q14: 29.243 | R14: 20.76 | S14: 26.226 | T14: 30.28 | U14: 29.668 | W14: 13.685 | X14: 14.261 | Y14: 12.453 | Z14: 10.013 | AA14: 20.31 | AB14: 29.543 | AC14: 26.198 | AD14: 22.946 | AE14: 21.881 | AF14: 36.699
... A61: 13.899 | B61: 11.688 | C61: 16.146 | D61: 16.996 | E61: 17.445 | F61: 38.862 | G61: 22.895 | H61: 12.597 | I61: 26.036 | J61: 38.068 | L61: 10.863 | M61: 8.073 | N61: 12.464 | O61: 10.3 | P61: 13.625 | Q61: 24.499 | R61: 22.909 | S61: 20.439 | T61: 33.674 | U61: 23.694 | W61: 11.751 | X61: 8.7 | Y61: 12.499 | Z61: 21.451 | AA61: 14.556 | AB61: 33.39 | AC61: 28.794 | AD61: 15.032 | AE61: 23.955 | AF61: 26.894
A62: 13.118 | B62: 11.847 | C62: 12.291 | D62: 16.959 | E62: 18.33 | F62: 37.884 | G62: 27.899 | I62: 37.287 | J62: 24.897 | L62: 9.716 | M62: 7.544 | N62: 12.566 | O62: 9.887 | P62: 18.889 | Q62: 27.039 | R62: 20.346 | S62: 26.379 | T62: 41.598 | U62: 25.487 | W62: 11.387 | X62: 11.751 | Y62: 12.509 | Z62: 18.696 | AA62: 19.556 | AB62: 38.78 | AC62: 16.946 | AD62: 8.051 | AE62: 21.395 | AF62: 30.669
A63: 14.946 | B63: 12.059 | C63: 14.095 | D63: 18.385 | E63: 15.322 | F63: 39.928 | G63: 17.892 | I63: 39.357 | J63: 20.59 | L63: 12.398 | M63: 7.658 | N63: 16.312 | O63: 5.684 | P63: 12 | Q63: 28.905 | R63: 19.41 | S63: 19.859 | T63: 36.248 | U63: 22.331 | W63: 11.47 | X63: 12.395 | Y63: 10.975 | Z63: 12.336 | AA63: 17.564 | AB63: 32.915 | AC63: 21.102 | AD63: 26.019 | AE63: 22.555 | AF63: 40.366
A64: 14.556 | B64: 12.054 | D64: 18.055 | E64: 14.27 | F64: 39.454 | G64: 17.062 | I64: 34.544 | J64: 49.851 | L64: 11.618 | M64: 9.601 | N64: 15.875 | O64: 15.62 | P64: 14.652 | Q64: 25.349 | R64: 13.298 | S64: 18.604 | T64: 12.294 | U64: 19.584 | W64: 13.772 | X64: 12.265 | Y64: 11.437 | Z64: 9.562 | AA64: 14.558 | AB64: 32.608 | AC64: 13.256 | AD64: 18.924 | AE64: 36.64 | AF64: 33.6
A65: 14.694 | B65: 12.186 | D65: 12.1 | E65: 15.53 | F65: 38.791 | G65: 11.999 | I65: 35.975 | J65: 30.468 | L65: 12.039 | M65: 12.755 | N65: 10.192 | O65: 6.348 | P65: 17.441 | Q65: 22.903 | R65: 18.158 | S65: 25.723 | T65: 33.454 | U65: 42.365 | W65: 12.701 | X65: 12.946 | Y65: 9.698 | Z65: 14.66 | AA65: 7.8 | AB65: 33.977 | AC65: 14.693 | AD65: 11.269 | AE65: 22.003 | AF65: 36.489
A66: 13.647 | B66: 12.193 | D66: 8.31 | F66: 38.775 | G66: 19.623 | L66: 10.535 | M66: 7.515 | N66: 17.346 | O66: 12.22 | P66: 14.951 | Q66: 38.96 | R66: 17.942 | S66: 17.276 | T66: 38.133 | U66: 48.089 | W66: 12.966 | X66: 14.449 | Y66: 8.287 | Z66: 18.554 | AA66: 6.554 | AB66: 37.281 | AC66: 17.892 | AD66: 24.48 | AE66: 24.425 | AF66: 21.336
B67: 13.685 | D67: 15.259 | F67: 48.193 | L67: 10.292 | M67: 7.316 | N67: 6.57 | O67: 13.65 | P67: 13.753 | Q67: 15.382 | R67: 19.648 | S67: 22.479 | T67: 31.318 | U67: 47.652 | W67: 13.047 | X67: 13.628 | Y67: 10.51 | Z67: 9.54 | AA67: 9.34 | AB67: 30.568 | AC67: 20.571 | AD67: 12.227 | AE67: 49.937 | AF67: 26.985
D68: 8.752 | L68: 10.152 | M68: 16.405 | N68: 8.299 | O68: 10.547 | P68: 14 | Q68: 32.54 | R68: 24.833 | S68: 24.904 | T68: 33.964 | U68: 36.32 | W68: 12.421 | X68: 11.391 | Y68: 10.275 | AA68: 12.854 | AB68: 40.973 | AC68: 14.456 | AD68: 14.599 | AE68: 48.714 | AF68: 29.665
D69: 6.825 | L69: 14.803 | M69: 15.95 | N69: 9.374 | O69: 12.548 | P69: 14.753 | Q69: 38.241 | R69: 20.486 | S69: 25.087 | T69: 24.649 | U69: 25.256 | W69: 13.599 | X69: 12.144 | Y69: 8.989 | AA69: 14.3 | AB69: 36.916 | AC69: 22.983 | AD69: 29.332 | AE69: 19.696 | AF69: 20.995
D70: 8.552 | L70: 14.64 | M70: 15.91 | N70: 13.484 | O70: 12.794 | P70: 19.852 | S70: 29.491 | T70: 37.504 | U70: 19.889 | W70: 11.412 | X70: 12.368 | Y70: 12.333 | AA70: 18.998 | AB70: 43.88 | AC70: 20.192 | AD70: 17.329 | AE70: 47.542 | AF70: 31.142
D71: 12.36 | L71: 15.962 | M71: 18.06 | N71: 11.369 | O71: 10.54 | P71: 9.741 | S71: 17.503 | T71: 10.911 | U71: 25.621 | X71: 13.21 | Y71: 12.328 | AB71: 34.3 | AC71: 21.344 | AD71: 23.71 | AF71: 28.91
D72: 20.36 | L72: 19.474 | M72: 19.325 | N72: 12.128 | O72: 8.889 | P72: 9.319 | S72: 11.703 | T72: 38.857 | X72: 12.513 | Y72: 11.71 | AB72: 34.673 | AC72: 18.332 | AD72: 3.356 | AF72: 22.062
L73: 19.162 | M73: 11.805 | N73: 10.521 | P73: 22.331 | S73: 20.582 | T73: 30.054 | Y73: 11.877 | AB73: 30.99 | AC73: 18.755 | AD73: 19.397 | AF73: 28.941
L74: 13.028 | M74: 18.421 | N74: 14.091 | P74: 20.331 | S74: 13.807 | T74: 22.608 | Y74: 11.697 | AB74: 49.34 | AC74: 23.032 | AD74: 16.268
L75: 13.277 | M75: 11.007 | P75: 19.236 | T75: 28.293 | Y75: 12.138 | AB75: 49.727 | AC75: 14.716 | AD75: 18.838
L76: 13.565 | P76: 18.456 | Y76: 14.312
Y77: 15.717

Sheet 5A_RPA2 pS33 n=3 Average
A1: DMSO | B1: Auranofin | C1: Auranofin+NAC | D1: PMX464 | E1: Piperlongumine | F1: CPT | G1: CPT+Auranofin | H1: CPT+Auranofin+NAC | I1: CPT+PMX464 | J1: CPT+Piperlongumine
A2: =AVERAGE('5A_RPA2 pS33'!A3:A78) -> 13.821078 | B2: =AVERAGE('5A_RPA2 pS33'!B3:B78) -> 13.175354 | C2: =AVERAGE('5A_RPA2 pS33'!C3:C78) -> 13.362016 | D2: =AVERAGE('5A_RPA2 pS33'!D3:D78) -> 13.2375 | E2: =AVERAGE('5A_RPA2 pS33'!E3:E78) -> 15.304651 | F2: =AVERAGE('5A_RPA2 pS33'!F3:F78) -> 39.544385 | G2: =AVERAGE('5A_RPA2 pS33'!G3:G78) -> 20.288062 | H2: =AVERAGE('5A_RPA2 pS33'!H3:H78) -> 19.514373 | ... J2: =AVERAGE('5A_RPA2 pS33'!J3:J78) -> 34.385603
A3: =AVERAGE('5A_RPA2 pS33'!L3:L78) -> 12.840068 | B3: =AVERAGE('5A_RPA2 pS33'!M3:M78) -> 12.226356 | C3: =AVERAGE('5A_RPA2 pS33'!N3:N78) -> 13.018931 | D3: =AVERAGE('5A_RPA2 pS33'!O3:O78) -> 12.660771 | E3: =AVERAGE('5A_RPA2 pS33'!P3:P78) -> 13.449851 | F3: =AVERAGE('5A_RPA2 pS33'!Q3:Q78) -> 30.417881 | G3: =AVERAGE('5A_RPA2 pS33'!R3:R78) -> 21.773269 | H3: =AVERAGE('5A_RPA2 pS33'!S3:S78) -> 21.842611 | ... J3: =AVERAGE('5A_RPA2 pS33'!U3:U78) -> 35.26213
A4: =AVERAGE('5A_RPA2 pS33'!W3:W78) -> 12.38025 | B4: =AVERAGE('5A_RPA2 pS33'!X3:X78) -> 14.786129 | C4: =AVERAGE('5A_RPA2 pS33'!Y3:Y78) -> 12.144 | D4: =AVERAGE('5A_RPA2 pS33'!Z3:Z78) -> 13.4994 | E4: =AVERAGE('5A_RPA2 pS33'!AA3:AA78) -> 13.065853 | F4: =AVERAGE('5A_RPA2 pS33'!AB3:AB78) -> 35.976219 | G4: =AVERAGE('5A_RPA2 pS33'!AC3:AC78) -> 19.290315 | H4: =AVERAGE('5A_RPA2 pS33'!AD3:AD78) -> 20.423082 | ... J4: =AVERAGE('5A_RPA2 pS33'!AF3:AF78) -> 32.43938

Sheet 5A_RPA2
A1: Replicate 1 | L1: Replicate 2 | W1: Replicate 3
A2: DMSO | B2: Auranofin | C2: Auranofin+NAC | D2: PMX464 | E2: Piperlongumine | F2: CPT | G2: CPT+Auranofin | H2: CPT+Auranofin+NAC | I2: CPT+PMX464 | J2: CPT+Piperlongumine | L2: DMSO | M2: Auranofin | N2: Auranofin+NAC | O2: PMX464 | P2: Piperlongumine | Q2: CPT | R2: CPT+Auranofin | S2: CPT+Auranofin+NAC | T2: CPT+PMX464 | U2: CPT+Piperlongumine | W2: DMSO | X2: Auranofin | Y2: Auranofin+NAC | Z2: PMX464 | AA2: Piperlongumine | AB2: CPT | AC2: CPT+Auranofin | AD2: CPT+Auranofin+NAC | AE2: CPT+PMX464 | AF2: CPT+Piperlongumine
A3: 2.012 | B3: 1.401 | C3: 2.062 | D3: 1.685 | E3: 1.72 | F3: 24.213 | G3: 5.409 | H3: 5.875 | I3: 26.061 | J3: 13.176 | L3: 2.543 | M3: 5.318 | N3: 1.984 | O3: 3.604 | P3: 2.206 | Q3: 13.276 | R3: 6.67 | S3: 14.522 | T3: 10.541 | U3: 29.647 | W3: 2.418 | X3: 0.777 | Y3: 3.922 | Z3: 0.921 | AA3: 3.985 | AB3: 29.378 | AC3: 9.209 | AD3: 8.895 | AE3: 32.604 | AF3: 19.344
A4: 2.283 | B4: 1.309 | C4: 1.842 | D4: 1.509 | E4: 1.43 | F4: 12.506 | G4: 11.993 | H4: 5.504 | I4: 29.923 | J4: 13.272 | L4: 2.355 | M4: 1.224 | N4: 1.624 | O4: 3.858 | P4: 2.776 | Q4: 10.823 | R4: 2.865 | S4: 12.173 | T4: 12.527 | U4: 15.371 | W4: 3.803 | X4: 5.855 | Y4: 3.531 | Z4: 1.195 | AA4: 3.77 | AB4: 22.471 | AC4: 11.102 | AD4: 5.154 | AE4: 22.165 | AF4: 17.57
A5: 3.97 | B5: 1.429 | C5: 1.642 | D5: 1.669 | E5: 4.773 | F5: 13.435 | G5: 12.635 | H5: 6.14 | I5: 20.449 | J5: 13.965 | L5: 2.066 | M5: 1.312 | N5: 1.635 | O5: 3.052 | P5: 3.058 | Q5: 28.12 | R5: 4.191 | S5: 11.127 | T5: 24.371 | U5: 19.815 | W5: 3.255 | X5: 1.103 | Y5: 3.845 | Z5: 4.153 | AA5: 4.58 | AB5: 21.028 | AC5: 7.195 | AD5: 9.474 | AE5: 22.54 | AF5: 31.829
A6: 3.092 | B6: 1.313 | C6: 1.929 | D6: 1.812 | E6: 5.592 | F6: 14.257 | G6: 9.832 | H6: 7.181 | I6: 17.119 | J6: 13.038 | L6: 3.594 | M6: 5.395 | N6: 1.231 | O6: 4.111 | P6: 2.462 | Q6: 27.541 | R6: 2.317 | S6: 11.738 | T6: 14.455 | U6: 15.042 | W6: 4.702 | X6: 1.318 | Y6: 5.594 | Z6: 3.509 | AA6: 3.631 | AB6: 7.757 | AC6: 11.748 | AD6: 5.309 | AE6: 25.654 | AF6: 28.354
A7: 3.127 | B7: 7.28 | C7: 2.597 | D7: 1.563 | E7: 5.198 | F7: 10.919 | G7: 3.676 | H7: 5.852 | I7: 29.687 | J7: 12.472 | L7: 5.207 | M7: 1.333 | N7: 1.716 | O7: 5.179 | P7: 2.488 | Q7: 17.216 | R7: 3.839 | S7: 11.129 | T7: 14.964 | U7: 15.557 | W7: 2.951 | X7: 1.748 | Y7: 3.893 | Z7: 3.712 | AA7: 3.729 | AB7: 22.339 | AC7: 4.376 | AD7: 2.807 | AE7: 13.399 | AF7: 19.176
A8: 3.638 | B8: 2.107 | C8: 2.306 | D8: 1.726 | E8: 3.952 | F8: 17.371 | G8: 11.193 | H8: 9.105 | I8: 18.611 | J8: 6.596 | L8: 6.281 | M8: 1.713 | N8: 1.523 | O8: 1.746 | P8: 2.51 | Q8: 10.459 | R8: 3.889 | S8: 7.959 | T8: 14.253 | U8: 12.539 | W8: 3.269 | X8: 1.018 | Y8: 3.776 | Z8: 3.669 | AA8: 4.605 | AB8: 12.236 | AC8: 3.825 | AD8: 7.678 | AE8: 22.774 | AF8: 17.493
A9: 2.509 | B9: 7.528 | C9: 1.45 | D9: 1.867 | E9: 3.709 | F9: 12.596 | G9: 5.47 | H9: 8.152 | I9: 17.316 | J9: 8.599 | L9: 6.079 | M9: 1.719 | N9: 2.079 | O9: 0.237 | P9: 3.684 | Q9: 11.305 | R9: 10.087 | S9: 7.438 | T9: 13.771 | U9: 21.033 | W9: 3.272 | X9: 1.62 | Y9: 3.361 | Z9: 4.967 | AA9: 5.046 | AB9: 10.099 | AC9: 5.142 | AD9: 2.913 | AE9: 11.74 | AF9: 17.516
A10: 3.644 | B10: 1.291 | C10: 4.822 | D10: 1.47 | E10: 3.357 | F10: 25.689 | G10: 3.399 | H10: 14.223 | I10: 22.3 | J10: 8.467 | L10: 4.492 | M10: 1.943 | N10: 2.016 | O10: 2.147 | P10: 2.489 | Q10: 10.392 | R10: 3.148 | S10: 6.739 | T10: 10.483 | U10: 26.916 | W10: 2.695 | X10: 1.976 | Y10: 4.863 | Z10: 4.87 | AA10: 5.233 | AB10: 22.878 | AC10: 8.198 | AD10: 10.746 | AE10: 32.734 | AF10: 28.095
A11: 3.626 | B11: 1.526 | C11: 4.97 | D11: 4.483 | E11: 2.826 | F11: 22.359 | G11: 12.912 | H11: 14.05 | I11: 31.229 | J11: 8.199 | L11: 7.261 | M11: 3.139 | N11: 1.614 | O11: 1.008 | P11: 2.757 | Q11: 10.915 | R11: 4.029 | S11: 9.354 | T11: 17.352 | U11: 14.244 | W11: 3.233 | X11: 1.937 | Y11: 4.142 | Z11: 2.889 | AA11: 3.436 | AB11: 9.275 | AC11: 6.192 | AD11: 5.598 | AE11: 24.356 | AF11: 25.173
A12: 4.115 | B12: 6.07 | C12: 1.242 | D12: 4.029 | E12: 2.873 | F12: 22.136 | G12: 10.5 | H12: 7.773 | I12: 27.804 | J12: 13.457 | L12: 6.62 | M12: 1.348 | N12: 1.665 | O12: 1.363 | P12: 2.23 | Q12: 23.2 | R12: 5.245 | S12: 8.985 | T12: 34.457 | U12: 13.228 | W12: 2.987 | X12: 1.227 | Y12: 4.446 | Z12: 3.477 | AA12: 3.752 | AB12: 9.639 | AC12: 8.438 | AD12: 13.142 | AE12: 23.479 | AF12: 23.166
A13: 3.765 | B13: 6.182 | C13: 1.123 | D13: 1.003 | E13: 2.586 | F13: 28.607 | G13: 12.032 | H13: 9.682 | I13: 22.581 | J13: 11.43 | L13: 1.161 | M13: 5.86 | N13: 2.071 | O13: 2.425 | P13: 3.646 | Q13: 10.497 | R13: 3.543 | S13: 8.608 | T13: 24.528 | U13: 31.745 | W13: 1.389 | X13: 1.493 | Y13: 4.019 | Z13: 4.21 | AA13: 4.682 | AB13: 9.902 | AC13: 6.545 | AD13: 12.007 | AE13: 19.287 | AF13: 24.801
A14: 1.905 | B14: 1.291 | C14: 1.213 | D14: 4.404 | E14: 2.906 | F14: 26.759 | G14: 8.122 | H14: 2.203 | I14: 18.612 | J14: 8 | L14: 1.938 | M14: 1.726 | N14: 2.107 | O14: 2.313 | P14: 2.21 | Q14: 17.267 | R14: 1.898 | S14: 8.15 | T14: 31.937 | U14: 27.305 | W14: 1.771 | X14: 1.707 | Y14: 4.548 | Z14: 3.302 | AA14: 4.18 | AB14: 22.495 | AC14: 7.153 | AD14: 7.01 | AE14: 14.278 | AF14: 27.077
... A64: 3.818 | B64: 0.75 | C64: 4.356 | D64: 1.133 | E64: 4.193 | F64: 32.786 | G64: 14.635 | H64: 10.89 | I64: 25.266 | J64: 30.2 | L64: 0.838 | M64: 1.426 | N64: 5.879 | O64: 3.646 | P64: 1.995 | Q64: 39.318 | R64: 15.154 | S64: 4.561 | T64: 28.609 | U64: 25.228 | W64: 2.016 | X64: 1.747 | Y64: 3.113 | Z64: 4.799 | AA64: 2.535 | AB64: 26.509 | AC64: 2.01 | AD64: 8.262 | AE64: 7.379 | AF64: 8.804
A65: 1.448 | B65: 5.947 | C65: 3.834 | E65: 1.721 | F65: 31.198 | G65: 14.333 | H65: 13.544 | I65: 22.494 | J65: 21.831 | L65: 1.179 | M65: 2.003 | N65: 3.677 | O65: 1.745 | P65: 1.729 | Q65: 23.444 | R65: 7.686 | S65: 6.713 | T65: 13.816 | U65: 14.679 | W65: 2.217 | X65: 1.226 | Y65: 1.747 | Z65: 3.431 | AA65: 2.236 | AB65: 26.699 | AC65: 12.005 | AD65: 11.649 | AE65: 29.77 | AF65: 13.034
A66: 1.11 | B66: 5.957 | C66: 3.523 | E66: 0.896 | F66: 24.874 | G66: 10.671 | H66: 12.401 | I66: 14.884 | J66: 29.756 | L66: 1.664 | M66: 1.922 | N66: 3.95 | O66: 2.567 | P66: 1.412 | Q66: 38.129 | R66: 5.86 | S66: 4.818 | T66: 8.371 | U66: 9.411 | W66: 1.722 | X66: 5.015 | Z66: 3.723 | AB66: 26.931 | AC66: 21.237 | AD66: 14.077 | AE66: 12.524 | AF66: 11.541
A67: 1.139 | C67: 3.608 | E67: 8.615 | F67: 24.085 | G67: 4.302 | H67: 3.243 | I67: 9.891 | J67: 29.643 | L67: 1.568 | M67: 6.699 | N67: 2.177 | O67: 2.963 | P67: 1.915 | Q67: 31.149 | R67: 5.608 | S67: 4.392 | T67: 9.639 | U67: 13.507 | W67: 1.062 | X67: 1.352 | Z67: 2.213 | AB67: 24.822 | AC67: 15.604 | AD67: 4.293 | AE67: 10.771 | AF67: 9.997
A68: 2.482 | C68: 1.738 | E68: 5.963 | F68: 23.891 | G68: 9.817 | H68: 8.34 | I68: 7.695 | J68: 30.145 | L68: 1.112 | M68: 1.758 | N68: 1.929 | O68: 2.281 | P68: 1.78 | Q68: 35.528 | R68: 8.546 | S68: 4.151 | T68: 22.677 | U68: 15.116 | W68: 6.512 | X68: 5.535 | Z68: 5.944 | AB68: 24.469 | AC68: 26.464 | AD68: 9.394 | AE68: 23.376 | AF68: 6.932
A69: 4.094 | C69: 1.795 | E69: 5.133 | F69: 21.197 | G69: 7.142 | H69: 5.931 | I69: 12.065 | J69: 30.484 | L69: 1.181 | M69: 2.932 | N69: 3.895 | O69: 1.73 | P69: 2.189 | Q69: 30.289 | R69: 6.219 | S69: 3.025 | T69: 30.46 | U69: 8.413 | W69: 4.423 | Z69: 1.608 | AB69: 22.929 | AC69: 26.698 | AD69: 4.775 | AE69: 14.255 | AF69: 12.707
C70: 2.028 | E70: 8.705 | F70: 26.595 | G70: 3.79 | H70: 5.818 | I70: 14.247 | J70: 20.82 | L70: 1.659 | M70: 6.395 | O70: 5.07 | P70: 2.282 | Q70: 27.62 | R70: 6.461 | S70: 4.489 | T70: 10.276 | U70: 11.82 | W70: 1.352 | Z70: 1.211 | AB70: 22.312 | AC70: 24.88 | AD70: 5.528 | AE70: 12.22 | AF70: 14.866
C71: 1.71 | F71: 25.143 | G71: 9.663 | H71: 12.057 | I71: 9.378 | J71: 25.291 | L71: 5.141 | M71: 1.813 | O71: 5.01 | P71: 2.072 | Q71: 18.841 | R71: 8.387 | S71: 7.448 | T71: 6.772 | U71: 12.915 | W71: 4.481 | Z71: 1.625 | AB71: 18.007 | AC71: 23.004 | AD71: 14.198 | AE71: 16.793 | AF71: 11.329
C72: 1.715 | F72: 27.117 | G72: 7.229 | H72: 8.275 | I72: 17.169 | J72: 24.747 | L72: 1.235 | M72: 1.15 | O72: 3.263 | P72: 1.902 | Q72: 10.879 | R72: 17.822 | S72: 3.53 | T72: 23.289 | U72: 15.315 | AB72: 20.921 | AC72: 17.859 | AD72: 3.908 | AE72: 14.19 | AF72: 16.904
C73: 2.144 | F73: 21.546 | G73: 5.255 | H73: 13.265 | I73: 17.488 | J73: 28.275 | M73: 6.602 | P73: 1.825 | Q73: 11.248 | R73: 15.824 | S73: 5.337 | T73: 25.46 | U73: 12.373 | AB73: 19.838 | AC73: 13.048 | AE73: 14.673 | AF73: 5.722
C74: 1.544 | F74: 10.79 | G74: 4.266 | H74: 9.174 | I74: 17.453 | J74: 27.901 | M74: 1.11 | P74: 1.991 | Q74: 26.984 | R74: 10.691 | S74: 2.381 | T74: 11.243 | U74: 24.809 | AB74: 29.856 | AC74: 23.975 | AE74: 12.32 | AF74: 11.464
F75: 30.536 | G75: 9.724 | H75: 7.59 | I75: 10.591 | J75: 31.883 | P75: 1.763 | R75: 6.38 | S75: 2.514 | T75: 15.021 | U75: 19.647 | AB75: 34.475 | AE75: 10.18 | AF75: 7.568
F76: 19.409 | G76: 1.484 | H76: 6.696 | I76: 18.115 | J76: 26.085 | P76: 1.97 | R76: 8.666 | S76: 2.929 | T76: 16.897 | U76: 15.371 | AB76: 27.833 | AE76: 23.12 | AF76: 12.793
F77: 11.755 | H77: 9.204 | I77: 8.807 | J77: 26.493 | R77: 11.987 | S77: 5.454 | T77: 9.491 | U77: 19.815 | AB77: 25.479 | AE77: 9.983 | AF77: 11.303
F78: 24.069 | H78: 3.679 | I78: 10.671 | J78: 15.29 | R78: 11.561 | S78: 3.526 | T78: 8.09 | U78: 35.042 | AB78: 27.962 | AE78: 23.987 | AF78: 3.45
F79: 18.187 | I79: 11.617 | J79: 15.571 | R79: 7.524 | S79: 9.329 | T79: 27.947 | U79: 35.557 | AE79: 32.91
I80: 6.418 | J80: 18.518 | S80: 6.063 | T80: 26.735 | U80: 12.539 | AE80: 22.769
J81: 30.535 | S81: 12.022 | T81: 29.172 | AE81: 19.16
J82: 13.81 | S82: 10.881 | T82: 6.687 | AE82: 12.821
J83: 27.226 | S83: 12.809 | AE83: 13.746
J84: 12.357 | S84: 12.753 | AE84: 9.617
J85: 20.152 | S85: 5.19 | AE85: 22.429
J86: 19.033 | S86: 13.684 | AE86: 9.98
S87: 2.506 | AE87: 9.105
S88: 14.509 | AE88: 8.559
S89: 4.149
S90: 4.519

Sheet 5A_RPA2 n=3 Average
A1: DMSO | B1: Auranofin | C1: Auranofin+NAC | D1: PMX464 | E1: Piperlongumine | F1: CPT | G1: CPT+Auranofin | H1: CPT+Auranofin+NAC | I1: CPT+PMX464 | J1: CPT+Piperlongumine
A2: =AVERAGE('5A_RPA2'!A3:A95) -> 2.7730896 | B2: =AVERAGE('5A_RPA2'!B3:B95) -> 3.029125 | C2: =AVERAGE('5A_RPA2'!C3:C95) -> 2.7109444 | D2: =AVERAGE('5A_RPA2'!D3:D95) -> 2.8122419 | E2: =AVERAGE('5A_RPA2'!E3:E95) -> 3.2937647 | F2: =AVERAGE('5A_RPA2'!F3:F95) -> 17.784169 | G2: =AVERAGE('5A_RPA2'!G3:G95) -> 8.6224459 | H2: =AVERAGE('5A_RPA2'!H3:H95) -> 8.5218026 | ... J2: =AVERAGE('5A_RPA2'!J3:J95) -> 17.20319
A3: =AVERAGE('5A_RPA2'!L3:L95) -> 3.5373857 | B3: =AVERAGE('5A_RPA2'!M3:M95) -> 3.1179167 | C3: =AVERAGE('5A_RPA2'!N3:N95) -> 2.8068955 | D3: =AVERAGE('5A_RPA2'!O3:O95) -> 2.9929571 | E3: =AVERAGE('5A_RPA2'!P3:P95) -> 2.767473 | F3: =AVERAGE('5A_RPA2'!Q3:Q95) -> 20.333458 | G3: =AVERAGE('5A_RPA2'!R3:R95) -> 6.5843377 | H3: =AVERAGE('5A_RPA2'!S3:S95) -> 8.6513864 | ... J3: =AVERAGE('5A_RPA2'!U3:U95) -> 20.661782
A4: =AVERAGE('5A_RPA2'!W3:W95) -> 2.7894638 | B4: =AVERAGE('5A_RPA2'!X3:X95) -> 2.0216364 | C4: =AVERAGE('5A_RPA2'!Y3:Y95) -> 3.1823968 | D4: =AVERAGE('5A_RPA2'!Z3:Z95) -> 4.2212899 | E4: =AVERAGE('5A_RPA2'!AA3:AA95) -> 3.7521587 | F4: =AVERAGE('5A_RPA2'!AB3:AB95) -> 19.789789 | G4: =AVERAGE('5A_RPA2'!AC3:AC95) -> 10.497431 | H4: =AVERAGE('5A_RPA2'!AD3:AD95) -> 8.6071857 | ... J4: =AVERAGE('5A_RPA2'!AF3:AF95) -> 19.488724

Sheet 5B_TOPBP1
A1: Replicate 1 | F1: Replicate 2 | K1: Replicate 3
A2: DMSO-WT | B2: DMSO-F1411A | C2: AF-WT | D2: AF-F1411A | F2: DMSO-WT | G2: DMSO-F1411A | H2: AF-WT | I2: AF-F1411A | K2: DMSO-WT | L2: DMSO-F1411A | M2: AF-WT | N2: AF-F1411A
A3: 11.94765 | B3: 6.2525 | C3: 4.308 | D3: 8.3736 | F3: 8.389 | G3: 7.73984 | H3: 5.292 | I3: 6.516 | K3: 12.505 | L3: 4.1945 | M3: 7.656 | N3: 5.2236
A4: 11.45235 | B4: 7.005 | C4: 5.132 | D4: 5.6232 | F4: 7.435 | G4: 6.61536 | H4: 5.352 | I4: 6.7005 | K4: 14.01 | L4: 3.7175 | M4: 8.512 | N4: 2.8152
A5: 11.52775 | B5: 6.5 | C5: 6.392 | D5: 6.1164 | F5: 8.7 | G5: 8.18912 | H5: 4.968 | I5: 5.49 | K5: 13 | L5: 4.35 | M5: 7.84 | N5: 2.7792
A6: 11.6467 | B6: 6.789 | C6: 5.884 | D6: 5.1048 | F6: 7.817 | G6: 8.28448 | H6: 4.78 | I6: 3.996 | K6: 13.578 | L6: 3.9085 | M6: 3.92 | N6: 3.7044
A7: 13.14365 | B7: 6.2145 | C7: 6.812 | D7: 5.7168 | F7: 7.877 | G7: 7.07616 | H7: 4.376 | I7: 4.6215 | K7: 12.429 | L7: 3.9385 | M7: 3.712 | N7: 2.9232
A8: 12.3474 | B8: 4.4415 | C8: 4.628 | D8: 5.6376 | F8: 8.301 | G8: 7.84992 | H8: 4.456 | I8: 4.473 | K8: 8.883 | L8: 4.1505 | M8: 5.16 | N8: 3.564
A9: 11.7481 | B9: 5.2555 | C9: 5.352 | D9: 6.3144 | F9: 9.371 | G9: 6.92832 | H9: 4.032 | I9: 5.328 | K9: 10.511 | L9: 4.6855 | M9: 2.276 | N9: 3.5676
A10: 11.15075 | B10: 5.4 | C10: 2.936 | D10: 7.2468 | F10: 9.779 | G10: 8.4992 | H10: 2.736 | I10: 5.3415 | K10: 10.8 | L10: 4.8895 | M10: 3.548 | N10: 3.5532
A11: 11.17675 | B11: 4.5575 | C11: 5.884 | D11: 5.9544 | F11: 8.87 | G11: 6.07648 | H11: 2.072 | I11: 6.084 | K11: 9.115 | L11: 4.435 | M11: 4.744 | N11: 3.582
A12: 10.4377 | B12: 5.0595 | C12: 5.384 | D12: 6.4188 | F12: 7.924 | G12: 5.6672 | H12: 3.796 | I12: 5.8995 | K12: 10.119 | L12: 3.962 | M12: 5.752 | N12: 2.7864
A13: 10.67105 | B13: 4.135 | C13: 6.404 | D13: 5.8464 | F13: 8.006 | G13: 6.17024 | H13: 4.376 | I13: 5.67 | K13: 8.27 | L13: 4.003 | M13: 5.352 | N13: 3.0312
A14: 9.4783 | B14: 3.955 | C14: 4.736 | D14: 5.652 | F14: 6.861 | G14: 7.17952 | H14: 3.796 | I14: 6.876 | K14: 7.91 | L14: 3.4305 | M14: 5.012 | N14: 3.0852
... A66: 11.07925 | B66: 5.6705 | C66: 4.508 | D66: 4.7376 | F66: 8.769 | G66: 5.93728 | H66: 6.132 | I66: 11.4435 | K66: 11.341 | L66: 6.40448 | M66: 3.568 | N66: 4.7376
A67: 11.52385 | C67: 2.3 | D67: 4.968 | F67: 10.4532 | G67: 5.37664 | H67: 8.184 | I67: 8.235 | K67: 10.977 | L67: 8.61856 | M67: 6.204 | N67: 5.5224
A68: 11.90865 | C68: 3.9 | D68: 5.1012 | F68: 11.6664 | G68: 3.69632 | H68: 4.388 | I68: 8.775 | K68: 12.828 | L68: 9.36288 | N68: 5.6448
A69: 10.91545 | C69: 8.084 | D69: 3.8232 | F69: 9.7536 | G69: 4.3872 | H69: 7.848 | I69: 8.1945 | K69: 9.669 | L69: 7.96288 | N69: 6.2928
A70: 9.4445 | C70: 6.684 | D70: 4.4172 | F70: 10.7634 | G70: 5.4885 | H70: 5.428 | I70: 8.3115 | K70: 9.897 | L70: 8.72896 | N70: 6.7536
A71: 9.8046 | C71: 8.048 | D71: 2.898 | F71: 10.8384 | G71: 6.414 | H71: 6.888 | I71: 7.335 | K71: 8.811 | L71: 8.88352 | N71: 8.7705
A72: 13.4034 | D72: 7.3125 | F72: 12.8262 | G72: 4.8345 | H72: 5.144 | I72: 7.3035 | K72: 13.2852 | L72: 4.9485 | N72: 7.6455
A73: 13.0452 | D73: 5.6925 | F73: 9.795 | H73: 6.328 | I73: 8.622 | K73: 15.5514 | L73: 4.4055 | N73: 6.2235
A74: 11.1102 | D74: 5.724 | F74: 12.0252 | H74: 5.124 | I74: 7.3845 | K74: 14.7198
A75: 12.147 | D75: 3.015 | F75: 10.074 | H75: 7.72 | I75: 6.12 | K75: 18.795
A76: 11.0034 | D76: 5.076 | F76: 9.5964 | I76: 5.9625 | K76: 14.9472
A77: 13.2012 | F77: 8.9862 | I77: 6.426 | K77: 15.171
A78: 13.2558 | F78: 7.5198 | I78: 6.7455 | K78: 14.0988
A79: 10.7244 | F79: 14.2044 | I79: 7.398 | K79: 16.0626
A80: 12.8676 | F80: 12.5646 | I80: 7.9425 | K80: 12.6564
A81: 12.2148 | F81: 14.796 | I81: 7.128
A82: 11.9562 | F82: 12.7662 | I82: 6.318
A83: 11.4066 | F83: 14.8926 | I83: 7.7805
A84: 11.9508 | F84: 12.9792
F85: 15.3534
F86: 13.161
F87: 10.7712
F88: 12.0678
F89: 11.5848
F90: 13.3686
F91: 11.1966
F92: 10.9224
F93: 13.155
F94: 13.6122

Sheet 5B_TOPBP1 n=3 Average
A1: DMSO-WT | B1: DMSO-F1411A | C1: AF-WT | D1: AF-F1411A
A2: =AVERAGE('5B_TOPBP1'!A3:A94) -> 11.40459 | B2: =AVERAGE('5B_TOPBP1'!B3:B94) -> 5.5815859 | C2: =AVERAGE('5B_TOPBP1'!C3:C94) -> 5.5868406 | D2: =AVERAGE('5B_TOPBP1'!D3:D94) -> 5.132627
A3: =AVERAGE('5B_TOPBP1'!F3:F94) -> 10.34797 | B3: =AVERAGE('5B_TOPBP1'!G3:G94) -> 6.3860303 | C3: =AVERAGE('5B_TOPBP1'!H3:H94) -> 5.1288219 | D3: =AVERAGE('5B_TOPBP1'!I3:I94) -> 6.2313333
A4: =AVERAGE('5B_TOPBP1'!K3:K94) -> 11.562979 | B4: =AVERAGE('5B_TOPBP1'!L3:L94) -> 5.2705197 | C4: =AVERAGE('5B_TOPBP1'!M3:M94) -> 5.5283692 | D4: =AVERAGE('5B_TOPBP1'!N3:N94) -> 4.831238

Sheet 5B_RPA1
A1: Replicate 1 | F1: Replicate 2 | K1: Replicate 3
A2: DMSO-WT | B2: DMSO-F1411A | C2: AF-WT | D2: AF-F1411A | F2: DMSO-WT | G2: DMSO-F1411A | H2: AF-WT | I2: AF-F1411A | K2: DMSO-WT | L2: DMSO-F1411A | M2: AF-WT | N2: AF-F1411A
A3: 11.253 | B3: 4.653 | C3: 8.4775 | D3: 4.7289 | F3: 14.3022 | G3: 4.7885 | H3: 3.752 | I3: 4.9896 | K3: 15.2427 | L3: 8.325 | M3: 5.5615 | N3: 6.3723
A4: 11.3564 | B4: 6.13 | C4: 8.021 | D4: 5.357 | F4: 15.4099 | G4: 5.945 | H4: 2.2305 | I4: 4.4374 | K4: 16.324 | L4: 6.236 | M4: 4.911 | N4: 5.96475
A5: 15.5958 | B5: 5.1775 | C5: 8.2815 | D5: 6.0654 | F5: 15.2416 | G5: 4.316 | H5: 3.0465 | I5: 4.08265 | K5: 15.8026 | L5: 10.1485 | M5: 4.519 | N5: 5.2305
A6: 12.2617 | B6: 4.76 | C6: 6.8625 | D6: 2.8083 | F6: 14.4782 | G6: 6.076 | H6: 4.1165 | I6: 5.72 | K6: 22.0407 | L6: 7.219 | M6: 5.271 | N6: 4.9973
A7: 15.0458 | B7: 3.501 | C7: 5.861 | D7: 3.2076 | F7: 17.4229 | G7: 6.644 | H7: 3.783 | I7: 4.28505 | K7: 19.0487 | L7: 8.06 | M7: 6.925 | N7: 4.66675
A8: 13.5234 | B8: 6.1065 | C8: 5.1885 | D8: 3.5332 | F8: 11.9207 | G8: 5.2575 | H8: 4.2625 | I8: 5.84155 | K8: 18.9013 | L8: 6.942 | M8: 5.186 | N8: 5.2085
A9: 14.2329 | B9: 5.91 | C9: 4.2875 | D9: 3.4188 | F9: 17.4515 | G9: 5.3955 | H9: 2.8955 | I9: 6.05055 | K9: 18.6978 | L9: 9.806 | M9: 5.8065 | N9: 3.7829
A10: 12.8766 | B10: 5.4055 | C10: 4.7165 | D10: 3.96605 | F10: 9.3071 | G10: 5.6685 | H10: 2.547 | I10: 5.27285 | K10: 14.4639 | L10: 6.567 | M10: 5.7655 | N10: 5.2173
A11: 12.3486 | B11: 6.64 | C11: 4.237 | D11: 2.3463 | F11: 11.1309 | G11: 4.742 | H11: 3.234 | I11: 5.40045 | K11: 16.7112 | L11: 7.237 | M11: 4.8655 | N11: 5.16505
A12: 13.5102 | B12: 5.5735 | C12: 5.057 | D12: 2.7599 | F12: 8.712 | G12: 5.2905 | H12: 4.5235 | I12: 5.29925 | K12: 18.0686 | L12: 6.44 | M12: 5.0105 | N12: 4.3274
A13: 13.1164 | B13: 6.7375 | C13: 4.8345 | D13: 2.3397 | F13: 19.3358 | G13: 6.514 | H13: 3.4475 | I13: 5.69305 | K13: 20.1333 | L13: 5.4405 | M13: 5.562 | N13: 5.2525
A14: 12.5026 | B14: 5.1615 | C14: 4.909 | D14: 2.02455 | F14: 23.2672 | G14: 4.616 | H14: 3.4135 | I14: 6.75675 | K14: 16.9444 | L14: 6.3845 | M14: 5.6375 | N14: 5.6012
... A75: 15.6805 | B75: 8.4335 | C75: 4.8425 | D75: 6.0995 | F75: 10.7536 | G75: 7.575 | H75: 4.468 | I75: 5.91415 | K75: 14.8346 | L75: 3.1125 | M75: 4.226 | N75: 4.5111
A76: 9.556 | B76: 5.6155 | C76: 5.5955 | D76: 5.62155 | F76: 13.7951 | G76: 7.0005 | H76: 4.4905 | I76: 6.20015 | K76: 6.6285 | M76: 6.1565 | N76: 5.98235
A77: 5.681 | B77: 7.806 | C77: 5.0375 | D77: 5.324 | G77: 8.457 | H77: 4.151 | I77: 4.63595 | K77: 7.57 | M77: 3.991 | N77: 6.369
A78: 6.656 | B78: 4.7915 | C78: 6.5345 | D78: 5.8586 | G78: 7.8115 | H78: 4.6445 | I78: 5.5066 | K78: 5.64 | M78: 5.514 | N78: 6.72705
A79: 7.243 | B79: 3.795 | C79: 5.6295 | D79: 5.84595 | G79: 8.068 | H79: 4.1855 | I79: 8.0773 | K79: 6.8145 | M79: 5.5385 | N79: 6.38275
A80: 7.081 | B80: 6.042 | C80: 5.7945 | D80: 6.21225 | G80: 6.7685 | H80: 3.5865 | I80: 8.96445 | K80: 5.1415 | M80: 5.6705 | N80: 6.5197
A81: 4.8315 | C81: 4.1055 | D81: 6.3789 | G81: 4.753 | H81: 4.0875 | I81: 4.3714 | K81: 3.6695 | M81: 7.5205 | N81: 6.92285
A82: 7.106 | C82: 5.7625 | D82: 6.1171 | G82: 4.618 | H82: 3.9985 | I82: 7.30565 | M82: 6.5345 | N82: 5.3207
A83: 7.6925 | C83: 6.1175 | G83: 4.8315 | H83: 3.462 | I83: 8.56955 | M83: 5.917 | N83: 5.48515
A84: 8.0145 | C84: 5.304 | G84: 4.7875 | H84: 3.859 | I84: 6.85795 | M84: 6.2965 | N84: 5.13645
A85: 8.4385 | C85: 4.662 | G85: 6.112 | H85: 5.1665 | I85: 5.91745 | M85: 6.8615 | N85: 4.75915
A86: 7.664 | C86: 6.07 | G86: 7.1325 | H86: 6.726 | I86: 8.90945 | M86: 5.348 | N86: 3.4155
C87: 5.8675 | H87: 5.221 | I87: 5.48185 | M87: 6.407 | N87: 4.18
C88: 5.0535 | H88: 3.5795 | I88: 8.118 | M88: 7.479 | N88: 4.1184
C89: 4.074 | H89: 6.989 | I89: 8.18235 | M89: 6.597 | N89: 4.1591
H90: 5.5325 | I90: 7.03285 | M90: 4.34
H91: 3.9305 | I91: 3.56235 | M91: 5.2025
H92: 6.364
H93: 7.5205
H94: 6.611
H95: 6.4815
H96: 6.612
H97: 6.32

Sheet 5B_RPA1 n=3 Average
A1: DMSO-WT | B1: DMSO-F1411A | C1: AF-WT | D1: AF-F1411A
A2: =AVERAGE('5B_RPA1'!A3:A98) -> 16.277244 | B2: =AVERAGE('5B_RPA1'!B3:B98) -> 5.5997308 | C2: =AVERAGE('5B_RPA1'!C3:C98) -> 6.5602701 | D2: =AVERAGE('5B_RPA1'!D3:D98) -> 5.3465362
A3: =AVERAGE('5B_RPA1'!F3:F98) -> 15.416322 | B3: =AVERAGE('5B_RPA1'!G3:G98) -> 6.1333214 | C3: =AVERAGE('5B_RPA1'!H3:H98) -> 4.9288737 | D3: =AVERAGE('5B_RPA1'!I3:I98) -> 6.082586
A4: =AVERAGE('5B_RPA1'!K3:K98) -> 13.708311 | B4: =AVERAGE('5B_RPA1'!L3:L98) -> 5.4423425 | C4: =AVERAGE('5B_RPA1'!M3:M98) -> 5.2355 | D4: =AVERAGE('5B_RPA1'!N3:N98) -> 5.1493782

Sheet 5D
A1: Replicate 1 | I1: Replicate 2 | Q1: Replicate 3
A2: EdU only | B2: RPA1 only | C2: RPA1+EdU+HU | I2: EdU only | J2: RPA1 only | K2: RPA1+EdU+HU | Q2: EdU only | R2: RPA1 only | S2: RPA1+EdU+HU
C3: Control siRNA | D3: RPA1 siRNA | E3: DMSO | F3: Auranofin | G3: Auranofin+NAC | K3: Control siRNA | L3: RPA1 siRNA | M3: DMSO | N3: Auranofin | O3: Auranofin+NAC | S3: Control siRNA | T3: RPA1 siRNA | U3: DMSO | V3: Auranofin | W3: Auranofin+NAC
A4: 0 | B4: 0 | C4: 23 | D4: 2 | E4: 61 | F4: 12 | G4: 4 | I4: 0 | J4: 1 | K4: 48 | L4: 1 | M4: 54 | N4: 10 | O4: 6 | Q4: 0 | R4: 0 | S4: 60 | T4: 0 | U4: 28 | V4: 36 | W4: 32
A5: 0 | B5: 0 | C5: 26 | D5: 5 | E5: 45 | F5: 38 | G5: 1 | I5: 0 | J5: 0 | K5: 47 | L5: 1 | M5: 50 | N5: 24 | O5: 48 | Q5: 0 | R5: 0 | S5: 43 | T5: 0 | U5: 59 | V5: 31 | W5: 22
A6: 0 | B6: 2 | C6: 13 | D6: 4 | E6: 26 | F6: 13 | G6: 19 | I6: 0 | J6: 0 | K6: 52 | L6: 0 | M6: 57 | N6: 18 | O6: 42 | Q6: 0 | R6: 0 | S6: 27 | T6: 1 | U6: 65 | V6: 30 | W6: 22
A7: 0 | B7: 0 | C7: 47 | D7: 5 | E7: 21 | F7: 15 | G7: 9 | I7: 0 | J7: 0 | K7: 52 | L7: 1 | M7: 53 | N7: 33 | O7: 35 | Q7: 0 | R7: 0 | S7: 54 | T7: 0 | U7: 40 | V7: 26 | W7: 33
A8: 0 | B8: 0 | C8: 28 | D8: 1 | E8: 58 | F8: 8 | G8: 36 | I8: 0 | J8: 0 | K8: 50 | L8: 1 | M8: 4 | N8: 25 | O8: 23 | Q8: 0 | R8: 0 | S8: 58 | T8: 1 | U8: 45 | V8: 36 | W8: 28
A9: 0 | B9: 0 | C9: 33 | D9: 4 | E9: 35 | F9: 21 | G9: 35 | I9: 0 | J9: 0 | K9: 71 | L9: 0 | M9: 37 | N9: 42 | O9: 45 | Q9: 0 | R9: 0 | S9: 64 | T9: 1 | U9: 40 | V9: 5 | W9: 45
A10: 0 | B10: 0 | C10: 46 | D10: 6 | E10: 84 | F10: 14 | G10: 3 | I10: 0 | J10: 0 | K10: 44 | L10: 0 | M10: 39 | N10: 36 | O10: 31 | Q10: 0 | R10: 0 | S10: 33 | T10: 0 | U10: 46 | V10: 10 | W10: 28
A11: 0 | B11: 1 | C11: 37 | D11: 3 | E11: 48 | F11: 19 | G11: 31 | I11: 0 | J11: 0 | K11: 36 | L11: 0 | M11: 25 | N11: 38 | O11: 38 | Q11: 0 | R11: 0 | S11: 42 | T11: 1 | U11: 33 | V11: 11 | W11: 38
A12: 0 | B12: 0 | C12: 38 | D12: 4 | E12: 55 | F12: 16 | G12: 32 | I12: 3 | J12: 0 | K12: 45 | L12: 0 | M12: 15 | N12: 19 | O12: 47 | Q12: 0 | R12: 3 | S12: 56 | T12: 0 | U12: 15 | V12: 23 | W12: 27
A13: 2 | B13: 0 | C13: 41 | D13: 6 | E13: 24 | F13: 8 | G13: 32 | I13: 0 | J13: 0 | K13: 94 | L13: 0 | M13: 65 | N13: 12 | O13: 27 | Q13: 0 | R13: 0 | S13: 33 | T13: 0 | U13: 51 | V13: 10 | W13: 24
A14: 0 | B14: 0 | C14: 23 | D14: 3 | E14: 30 | F14: 7 | G14: 37 | I14: 0 | J14: 0 | K14: 54 | L14: 4 | M14: 66 | N14: 11 | O14: 3 | Q14: 0 | R14: 0 | S14: 36 | T14: 0 | U14: 36 | V14: 17 | W14: 6
A15: 0 | B15: 1 | C15: 49 | D15: 4 | E15: 5 | F15: 12 | G15: 37 | I15: 0 | J15: 0 | K15: 28 | L15: 0 | M15: 50 | N15: 13 | O15: 31 | Q15: 0 | R15: 0 | S15: 41 | T15: 0 | U15: 22 | V15: 7 | W15: 20
... A74: 0 | B74: 0 | C74: 49 | D74: 0 | E74: 32 | F74: 46 | G74: 25 | I74: 0 | J74: 0 | K74: 31 | L74: 0 | M74: 58 | N74: 34 | O74: 18 | Q74: 0 | R74: 0 | S74: 28 | T74: 0 | U74: 17 | V74: 14 | W74: 57
A75: 0 | B75: 0 | C75: 56 | D75: 0 | E75: 48 | F75: 44 | I75: 0 | J75: 0 | K75: 29 | L75: 0 | M75: 52 | N75: 25 | O75: 44 | Q75: 0 | R75: 0 | S75: 58 | T75: 4 | U75: 42 | V75: 39 | W75: 42
A76: 0 | B76: 0 | C76: 67 | D76: 0 | E76: 5 | F76: 28 | I76: 0 | J76: 0 | K76: 24 | L76: 0 | M76: 23 | N76: 30 | O76: 20 | Q76: 0 | R76: 0 | S76: 40 | T76: 0 | U76: 45 | V76: 10 | W76: 16
A77: 0 | B77: 0 | C77: 21 | D77: 4 | E77: 32 | I77: 0 | K77: 31 | L77: 0 | M77: 22 | N77: 27 | O77: 11 | Q77: 1 | R77: 0 | S77: 44 | T77: 0 | U77: 40 | V77: 14 | W77: 21
A78: 0 | C78: 39 | D78: 4 | E78: 44 | I78: 0 | K78: 24 | L78: 1 | M78: 25 | N78: 7 | O78: 18 | Q78: 0 | R78: 0 | T78: 1 | U78: 12 | V78: 4 | W78: 39
A79: 0 | C79: 23 | D79: 4 | E79: 15 | I79: 0 | K79: 25 | L79: 0 | M79: 50 | N79: 20 | O79: 31 | Q79: 0 | R79: 0 | T79: 6 | U79: 56 | W79: 9
A80: 0 | C80: 33 | D80: 9 | I80: 0 | K80: 23 | L80: 0 | M80: 57 | N80: 52 | O80: 19 | Q80: 2 | T80: 5 | U80: 47 | W80: 27
A81: 0 | D81: 4 | I81: 0 | K81: 24 | L81: 3 | M81: 57 | N81: 43 | O81: 27 | Q81: 0 | T81: 4 | U81: 61
A82: 0 | I82: 1 | K82: 23 | L82: 1 | M82: 58 | N82: 31 | O82: 29 | Q82: 0 | T82: 6
A83: 1 | I83: 0 | K83: 59 | L83: 0 | M83: 40 | N83: 22 | O83: 34 | Q83: 0 | T83: 8
A84: 0 | I84: 0 | K84: 28 | L84: 0 | M84: 45 | N84: 18 | O84: 26 | Q84: 0 | T84: 4
A85: 0 | I85: 0 | K85: 21 | L85: 1 | M85: 39 | N85: 30 | O85: 18 | Q85: 1 | T85: 1
A86: 0 | I86: 0 | K86: 27 | L86: 0 | M86: 38 | N86: 36 | Q86: 0 | T86: 0
A87: 0 | I87: 2 | L87: 0 | M87: 58 | N87: 27 | Q87: 0 | T87: 12
I88: 0 | L88: 0 | N88: 26 | Q88: 0 | T88: 3
I89: 0 | L89: 0 | N89: 3 | Q89: 0
I90: 0 | L90: 1
I91: 0 | L91: 1
I92: 0 | L92: 1
I93: 0 | L93: 0
L94: 3
L95: 2

Sheet 5D n=3 Average
A1: EdU only | B1: RPA1 only | C1: RPA1+EdU+HU
C2: Control siRNA | D2: RPA1 siRNA | E2: DMSO | F2: Auranofin | G2: Auranofin+NAC
A3: =AVERAGE('5D'!A4:A96) -> 0.10714286 | B3: =AVERAGE('5D'!B4:B96) -> 0.16216216 | C3: =AVERAGE('5D'!C4:C96) -> 36.922078 | D3: =AVERAGE('5D'!D4:D96) -> 2.5128205 | E3: =AVERAGE('5D'!E4:E96) -> 47.631579 | F3: =AVERAGE('5D'!F4:F96) -> 33.369863 | G3: =AVERAGE('5D'!G4:G96) -> 21.633803
A4: =AVERAGE('5D'!I4:I96) -> 0.18888889 | B4: =AVERAGE('5D'!J4:J96) -> 0.21917808 | C4: =AVERAGE('5D'!K4:K96) -> 36.759036 | D4: =AVERAGE('5D'!L4:L96) -> 0.63043478 | E4: =AVERAGE('5D'!M4:M96) -> 42.988095 | F4: =AVERAGE('5D'!N4:N96) -> 22.755814 | G4: =AVERAGE('5D'!O4:O96) -> 28.170732
A5: =AVERAGE('5D'!Q4:Q96) -> 0.15116279 | B5: =AVERAGE('5D'!R4:R96) -> 0.10526316 | C5: =AVERAGE('5D'!S4:S96) -> 42.945946 | D5: =AVERAGE('5D'!T4:T96) -> 0.88235294 | E5: =AVERAGE('5D'!U4:U96) -> 34.410256 | F5: =AVERAGE('5D'!V4:V96) -> 16.6 | G5: =AVERAGE('5D'!W4:W96) -> 28.766234

Sheet 5E
B1: TOPBP1 | E1: RPA1 | H1: RPA2
A2: No click | B2: 0.043618 | C2: 0.02371 | D2: 0.028943 | E2: 0.01657 | F2: 0.018394 | G2: 0.058538 | H2: 0.034972 | I2: 0.018217 | J2: 0.020768
A3: Click | B3: 0.299624 | C3: 0.58363 | D3: 0.378661 | E3: 0.656243 | F3: 0.496123 | G3: 0.403181 | H3: 0.658555 | I3: 0.672652 | J3: 0.550711
A4: Click+Auranofin | B4: 0.370426 | C4: 0.65641 | D4: 0.334586 | E4: 0.530244 | F4: 0.452593 | G4: 0.37093 | H4: 0.604262 | I4: 0.680699 | J4: 0.575273
A5: Click+Hu | B5: 0.802091 | C5: 0.920067 | D5: 0.897834 | E5: 0.853521 | F5: 0.934741 | G5: 0.941479 | H5: 1.019151 | I5: 0.983803 | J5: 0.973772
A6: Click+Auranofin+HU | B6: 0.096496 | C6: 0.116012 | D6: 0.153573 | E6: 0.338399 | F6: 0.173579 | G6: 0.167268 | H6: 0.348185 | I6: 0.394529 | J6: 0.228371
A7: Click+Auranofin+HU+NAC | B7: 0.13823 | C7: 0.056173 | D7: 0.14713 | E7: 0.298619 | F7: 0.20648 | G7: 0.22595 | H7: 0.371759 | I7: 0.353271 | J7: 0.154397

Sheet 5F
A1: Replicate 1 | F1: Replicate 2 | K1: Replicate 3
A2: DMSO | B2: Auranofin | C2: Auranofin+NAC | D2: Auranofin+NAC+Mirin | F2: DMSO | G2: Auranofin | H2: Auranofin+NAC | I2: Auranofin+NAC+Mirin | K2: DMSO | L2: Auranofin | M2: Auranofin+NAC | N2: Auranofin+NAC+Mirin
A3: 0.78304683 | B3: 0.40747077 | C3: 0.75298291 | D3: 0.61732435 | F3: 0.64117429 | G3: 0.32455692 | H3: 0.39832624 | I3: 0.5965195 | K3: 0.47904728 | L3: 0.49780815 | M3: 0.41124525 | N3: 1.0511344
A4: 0.9167713 | B4: 0.86755329 | C4: 0.78101717 | D4: 0.8654661 | F4: 0.44757475 | G4: 0.41324063 | H4: 0.46232179 | I4: 0.64345002 | K4: 1.0828902 | L4: 0.43984829 | M4: 0.67958252 | N4: 0.54575828
A5: 0.73228621 | B5: 0.31616845 | C5: 0.53663111 | D5: 0.78525204 | F5: 0.68365062 | G5: 0.60409408 | H5: 0.56376802 | I5: 1.1343056 | K5: 0.93451067 | L5: 0.47993252 | M5: 0.56352575 | N5: 0.47996472
A6: 0.75892288 | B6: 0.43211207 | C6: 0.50247525 | D6: 0.86059031 | F6: 0.76402545 | G6: 0.39459681 | H6: 0.52550389 | I6: 0.86532427 | K6: 0.6383163 | L6: 0.36389307 | M6: 0.52181795 | N6: 0.75028044
A7: 0.71583682 | B7: 0.55538058 | C7: 0.42127089 | D7: 0.57286974 | F7: 0.40943982 | G7: 0.30680949 | H7: 0.3166591 | I7: 0.67908552 | K7: 0.70195388 | L7: 0.28212188 | M7: 0.74543831 | N7: 0.92854812
A8: 0.66176471 | B8: 0.5351711 | C8: 0.61618799 | D8: 0.54013378 | F8: 0.90888318 | G8: 0.32879168 | H8: 0.26706564 | I8: 0.54521098 | K8: 0.78095238 | L8: 0.56820016 | M8: 0.83716202 | N8: 0.42602872
A9: 0.54559437 | B9: 0.50813722 | C9: 0.83168867 | D9: 1.2817728 | F9: 0.5961789 | G9: 0.44473386 | H9: 0.52338337 | I9: 0.94248858 | K9: 0.79585736 | L9: 0.57502178 | M9: 0.59625332 | N9: 1.0783576
A10: 0.76420923 | B10: 0.38277512 | C10: 0.56451286 | D10: 1.2575795 | F10: 0.60102447 | G10: 0.92794495 | H10: 0.40085592 | I10: 0.9802813 | K10: 0.64459 | L10: 0.40937792 | M10: 0.42164222 | N10: 0.62676234
A11: 0.86137807 | B11: 0.60851995 | C11: 0.55739327 | D11: 1.0979592 | F11: 0.49859734 | G11: 0.30171747 | H11: 0.50724466 | I11: 0.75328615 | K11: 0.62730567 | L11: 0.73039864 | M11: 0.53269857 | N11: 0.76939502
A12: 0.74311095 | B12: 0.4028777 | C12: 0.61597338 | D12: 0.6988365 | F12: 0.85775862 | G12: 0.31066588 | H12: 0.36579343 | I12: 1.0254871 | K12: 0.509625 | L12: 0.40097342 | M12: 0.74329856 | N12: 0.5035679
A13: 0.99172834 | B13: 0.50125607 | C13: 0.55968626 | D13: 0.95151366 | F13: 0.71613728 | G13: 0.2738688 | H13: 0.517 | I13: 0.95081967 | K13: 0.6278416 | L13: 0.51074994 | M13: 0.6096793 | N13: 0.77121138
A14: 1.0237542 | B14: 0.5177568 | C14: 0.46356927 | D14: 0.66480447 | F14: 0.46250533 | G14: 0.46792819 | H14: 0.71259713 | I14: 1.0376621 | K14: 0.93995381 | L14: 0.48286005 | M14: 0.49988489 | N14: 0.86132915
... A66: 0.86477819 | B66: 0.64617184 | C66: 0.50133097 | D66: 0.88532731 | F66: 1.3705281 | G66: 0.50339615 | H66: 0.5931105 | I66: 0.4472036 | K66: 0.71632796 | L66: 0.83119028 | M66: 0.61106446 | N66: 0.70307644
A67: 0.84562334 | B67: 0.42946227 | C67: 0.84578351 | D67: 1.1363736 | G67: 0.90253456 | H67: 0.85665006 | I67: 0.90181171 | K67: 0.9327385 | L67: 0.42717664 | M67: 0.18686033 | N67: 0.77531679
A68: 0.65391372 | B68: 0.40201763 | C68: 0.9819626 | D68: 1.0766928 | G68: 0.66008073 | H68: 1.1327801 | I68: 0.57434542 | K68: 0.89561116 | L68: 0.40832677 | M68: 0.79427017 | N68: 0.96197673
A69: 0.68066876 | B69: 0.42392161 | C69: 0.71891074 | G69: 0.33106809 | H69: 0.60255387 | I69: 0.54107102 | K69: 1.2804416 | L69: 0.70480466 | M69: 0.87006579 | N69: 0.63810218
A70: 0.88473316 | B70: 0.63517762 | C70: 0.69328548 | G70: 0.72665975 | H70: 0.76049883 | I70: 0.45465903 | K70: 0.89849354 | L70: 0.5530474 | M70: 0.6741053 | N70: 0.91512702
A71: 0.82156698 | B71: 0.55008961 | C71: 1.0265944 | G71: 0.45682121 | H71: 0.57921386 | I71: 0.43847198 | K71: 0.83994497 | L71: 0.43233802 | M71: 0.31598224 | N71: 0.48469388
A72: 0.90795287 | B72: 0.62622382 | C72: 0.60253726 | G72: 0.58438517 | H72: 0.50308943 | I72: 0.45965165 | L72: 0.6415677 | M72: 0.24122204 | N72: 0.8162061
A73: 0.63288322 | B73: 0.62015694 | C73: 0.66276314 | G73: 0.45066034 | H73: 0.50528541 | I73: 0.35521769 | L73: 0.37942648 | M73: 0.32132429 | N73: 1.4895804
A74: 0.5783706 | B74: 0.37520515 | C74: 0.51240086 | G74: 0.68401724 | H74: 0.73706363 | I74: 0.49721707 | L74: 0.41042952 | M74: 0.68594646 | N74: 1.1007516
B75: 0.50072804 | C75: 0.52826249 | G75: 0.44743734 | H75: 0.66640028 | I75: 0.42176542 | L75: 0.54753548 | M75: 0.30504806 | N75: 0.73170732
B76: 0.65908378 | C76: 0.75668245 | G76: 0.7877544 | H76: 0.50844454 | I76: 0.36327224 | L76: 0.51519537 | M76: 0.35690618 | N76: 0.88469866
B77: 0.42983347 | C77: 1.0676307 | G77: 0.55545213 | H77: 0.3694154 | I77: 0.48159018 | L77: 0.51074306 | M77: 0.48048806
B78: 0.5194508 | C78: 0.5381917 | G78: 0.69008612 | H78: 0.46879313 | I78: 1.197209 | L78: 0.55138278 | M78: 0.5814127
B79: 0.47919619 | C79: 0.57379857 | G79: 0.62835249 | H79: 0.37857888 | I79: 0.77497666 | L79: 0.54237079 | M79: 0.57017709
B80: 0.4324587 | C80: 0.32995763 | G80: 0.69221393 | H80: 0.51377295 | I80: 0.76117575 | L80: 0.58617144 | M80: 0.46517699
B81: 0.51639451 | C81: 0.67261957 | G81: 0.80573575 | H81: 0.53813782 | I81: 0.90359416 | L81: 0.39076997 | M81: 0.53683419
B82: 0.57010378 | C82: 0.8826073 | G82: 0.94815341 | H82: 0.43640048 | I82: 0.60175479 | L82: 0.36085036 | M82: 0.73992511
B83: 0.45874887 | C83: 0.72786177 | G83: 1.0227088 | H83: 0.48204701 | I83: 0.7748122 | L83: 0.27073042 | M83: 0.50144704
B84: 0.46192019 | G84: 0.60654654 | H84: 0.57662005 | I84: 0.93225091 | L84: 0.64791176 | M84: 0.69191656
B85: 0.50870253 | G85: 0.85605701 | H85: 0.72549947 | L85: 0.4290014 | M85: 0.48088169
B86: 0.35280615 | G86: 0.33476463 | H86: 0.54854369 | L86: 0.47594092 | M86: 0.79912077
B87: 0.44702631 | G87: 0.66361775 | H87: 0.60544391 | L87: 0.35337079 | M87: 0.52958794
B88: 1.1486429 | G88: 0.78790735 | H88: 0.3743348 | L88: 0.56675031 | M88: 0.92551741
B89: 0.59031464 | G89: 0.40592827 | L89: 0.49269265 | M89: 0.52890518
B90: 0.64869305 | G90: 0.78786775 | L90: 0.41021757
G91: 0.80793651 | L91: 0.59969902
G92: 0.32195122 | L92: 0.4220137
G93: 0.54413085
G94: 0.47366149
G95: 0.85921158
G96: 0.28151986

Sheet 5F n=3 Average
A1: DMSO | B1: Auranofin | C1: Auranofin+NAC | D1: Auranofin+NAC+Mirin
A2: =AVERAGE('5F'!A3:A96) -> 0.80841917 | B2: =AVERAGE('5F'!B3:B96) -> 0.57929592 | C2: =AVERAGE('5F'!C3:C96) -> 0.65811122 | D2: =AVERAGE('5F'!D3:D96) -> 0.86728906
A3: =AVERAGE('5F'!F3:F96) -> 0.80232375 | B3: =AVERAGE('5F'!G3:G96) -> 0.56739431 | C3: =AVERAGE('5F'!H3:H96) -> 0.57429438 | D3: =AVERAGE('5F'!I3:I96) -> 0.79455789
A4: =AVERAGE('5F'!K3:K96) -> 0.78124222 | B4: =AVERAGE('5F'!L3:L96) -> 0.51278515 | C4: =AVERAGE('5F'!M3:M96) -> 0.5628089 | D4: =AVERAGE('5F'!N3:N96) -> 0.83717018

Sheet 5G
A1: Replicate 1 | F1: Replicate 2 | K1: Replicate 3
A2: Wt/DMSO | B2: F1411A/DMSO | C2: Wt/Auranofin | D2: F1411A/Auranofin | F2: Wt/DMSO | G2: F1411A/DMSO | H2: Wt/Auranofin | I2: F1411A/Auranofin | K2: Wt/DMSO | L2: F1411A/DMSO | M2: Wt/Auranofin | N2: F1411A/Auranofin
A3: 0.94883957 | B3: 0.71957326 | C3: 0.77253275 | D3: 0.51026598 | F3: 0.94862583 | G3: 1.0342768 | H3: 1.5914806 | I3: 0.80900901 | K3: 0.84984457 | L3: 0.4080534 | M3: 0.60749706 | N3: 0.64320956
A4: 0.90913749 | B4: 0.29164518 | C4: 0.6800852 | D4: 0.33868787 | F4: 0.87240526 | G4: 1.1262044 | H4: 0.72164808 | I4: 0.45156963 | K4: 0.91457495 | L4: 0.68092602 | M4: 0.49892934 | N4: 0.52580596
A5: 0.98692541 | B5: 0.21637342 | C5: 0.53347929 | D5: 0.60216857 | F5: 0.6251717 | G5: 0.73068536 | H5: 0.53023727 | I5: 0.47142218 | K5: 0.83200519 | L5: 0.90617624 | M5: 0.61995289 | N5: 0.49603972
A6: 0.7397882 | B6: 0.87653809 | C6: 0.9588429 | D6: 0.43519826 | F6: 0.83231055 | G6: 0.58383234 | H6: 0.61632492 | I6: 0.45888136 | K6: 0.82029538 | L6: 0.69660307 | M6: 0.60084926 | N6: 0.568461
A7: 0.91848769 | B7: 0.75288616 | C7: 0.7114675 | D7: 0.52071408 | F7: 0.6514896 | G7: 0.50574713 | H7: 0.50605228 | I7: 0.6336863 | K7: 0.6974632 | L7: 1.1250192 | M7: 0.71238227 | N7: 0.87852194
A8: 0.64637805 | B8: 0.41585704 | C8: 0.48299817 | D8: 0.57632975 | F8: 0.71175963 | G8: 0.61227717 | H8: 0.51231867 | I8: 0.62379642 | K8: 0.71913244 | L8: 1.1723051 | M8: 0.63921077 | N8: 0.52095588
A9: 0.77425971 | B9: 0.29783154 | C9: 0.48299976 | D9: 0.5806245 | F9: 1.090811 | G9: 0.91114916 | H9: 0.39791714 | I9: 0.49409713 | K9: 0.46510389 | L9: 0.68489097 | M9: 0.44725446 | N9: 0.53391848
A10: 0.56455064 | B10: 0.49421732 | C10: 0.78994749 | D10: 0.54990628 | F10: 1.3558719 | G10: 1.0032812 | H10: 0.37084048 | I10: 0.60414106 | K10: 0.45187077 | L10: 0.47925965 | M10: 0.54884061 | N10: 0.74090705
A11: 0.69053118 | B11: 0.72261682 | C11: 0.62477876 | D11: 0.2790501 | F11: 1.2757816 | G11: 0.50004991 | H11: 0.56335998 | I11: 0.45431448 | K11: 0.70408751 | L11: 0.60266014 | M11: 0.43928082 | N11: 0.70958084
A12: 0.86806466 | B12: 0.67446003 | C12: 0.54174067 | D12: 0.56804603 | F12: 1.2740186 | G12: 0.57074843 | H12: 0.75394322 | I12: 0.37312386 | K12: 0.69556089 | L12: 0.56005285 | M12: 0.56074282 | N12: 0.73361327
A13: 0.44171285 | B13: 0.41217191 | C13: 0.71113461 | D13: 0.49823855 | F13: 0.80846224 | G13: 0.41208157 | H13: 0.68338879 | I13: 0.92554396 | K13: 0.64426456 | L13: 0.64733599 | M13: 0.61318273 | N13: 0.80961844
A14: 0.72192029 | B14: 0.60703098 | C14: 0.54705993 | D14: 0.85779517 | F14: 0.94949054 | G14: 0.60655444 | H14: 0.60931195 | I14: 0.32686427 | K14: 1.0071594 | L14: 0.58419172 | M14: 0.46078193 | N14: 0.89711081
... A65: 1.0357143 | B65: 0.65156069 | C65: 0.58809403 | D65: 1.5517707 | F65: 0.70482115 | G65: 1.1282389 | H65: 0.86625222 | I65: 0.83191011 | K65: 1.0454117 | L65: 0.7857589 | M65: 1.2038074 | N65: 0.41028781
A66: 0.85252334 | B66: 0.77846791 | C66: 0.77865122 | D66: 0.94102709 | F66: 0.78685966 | G66: 1.1149767 | H66: 0.75381232 | K66: 0.84988022 | L66: 0.86833631 | M66: 0.86562272 | N66: 0.32974335
A67: 0.57929798 | B67: 0.53025705 | C67: 0.43654822 | D67: 0.73961388 | F67: 0.9140808 | G67: 0.48706897 | K67: 0.83705309 | L67: 0.9159292 | M67: 1.2068523 | N67: 0.47295408
A68: 0.6144395 | B68: 0.56675063 | C68: 0.63462822 | D68: 0.65387956 | F68: 0.86165124 | G68: 0.5844247 | K68: 1.0914535 | L68: 0.68518519 | M68: 0.89912987 | N68: 0.57662052
A69: 0.87412387 | C69: 0.60855739 | D69: 0.62808722 | F69: 0.76006801 | G69: 0.71742841 | L69: 0.64311084 | M69: 0.82529359 | N69: 0.7355501
A70: 0.76896727 | C70: 0.69459688 | F70: 0.82075042 | G70: 0.76895944 | L70: 0.4745838 | N70: 0.44453967
A71: 0.82771194 | C71: 1.0834283 | F71: 1.0677937 | G71: 0.75766499 | L71: 0.59792781 | N71: 0.41418006
A72: 1.2521804 | C72: 0.33156987 | G72: 0.8023622 | L72: 0.43343373 | N72: 0.88703443
C73: 0.66951854 | G73: 0.43371186
C74: 0.57146865 | G74: 0.57399974
G75: 0.76237182

Sheet 5G n=3 Average
A1: Wt/DMSO | B1: F1411A/DMSO | C1: Wt/Auranofin | D1: F1411A/Auranofin
A2: =AVERAGE('5G'!A3:A75) -> 0.76562394 | B2: =AVERAGE('5G'!B3:B75) -> 0.66095575 | C2: =AVERAGE('5G'!C3:C75) -> 0.61508306 | D2: =AVERAGE('5G'!D3:D75) -> 0.51383838
A3: =AVERAGE('5G'!F3:F75) -> 0.91689161 | B3: =AVERAGE('5G'!G3:G75) -> 0.69299049 | C3: =AVERAGE('5G'!H3:H75) -> 0.68078537 | D3: =AVERAGE('5G'!I3:I75) -> 0.66255128
A4: =AVERAGE('5G'!K3:K75) -> 0.82783595 | B4: =AVERAGE('5G'!L3:L75) -> 0.65558657 | C4: =AVERAGE('5G'!M3:M75) -> 0.69269638 | D4: =AVERAGE('5G'!N3:N75) -> 0.64713834

Sheet 6C_RPA1
A1: Replicate 1 | H1: Replicate 2 | O1: Replicate 3
A2: DMSO | B2: DMSO+Auranofin | C2: DMSO+Auranofin+NAC | D2: CPT | E2: CPT+Auranofin | F2: CPT+Auranofin+NAC | H2: DMSO | I2: DMSO+Auranofin | J2: DMSO+Auranofin+NAC | K2: CPT | L2: CPT+Auranofin | M2: CPT+Auranofin+NAC | O2: DMSO | P2: DMSO+Auranofin | Q2: DMSO+Auranofin+NAC | R2: CPT | S2: CPT+Auranofin | T2: CPT+Auranofin+NAC
A3: 26.07 | B3: 21.92 | C3: 13.675 | D3: 36.272 | E3: 23.601 | F3: 24.247 | H3: 15.379 | I3: 15.638 | J3: 7.515 | K3: 27.698 | L3: 13.26 | M3: 16.02 | O3: 26.18 | P3: 21.059 | Q3: 20.908 | R3: 27.115 | S3: 31.162 | T3: 26.594
A4: 10.548 | B4: 13.071 | C4: 8.378 | D4: 40.35 | E4: 22.648 | F4: 14.623 | H4: 12.272 | I4: 12.711 | J4: 23.643 | K4: 34.404 | L4: 24.614 | M4: 17.297 | O4: 14.631 | P4: 19.465 | Q4: 18.664 | R4: 38.044 | S4: 19.95 | T4: 23.354
A5: 25.152 | B5: 10.669 | C5: 9.755 | D5: 38.713 | E5: 37.007 | F5: 22.978 | H5: 14.593 | I5: 7.811 | J5: 19.026 | K5: 37.858 | L5: 33.651 | M5: 14.327 | O5: 13.653 | P5: 19.017 | Q5: 16.985 | R5: 34.674 | S5: 24.918 | T5: 15.427
A6: 5.659 | B6: 10.446 | C6: 8.771 | D6: 19.266 | E6: 11.438 | F6: 34.02 | H6: 13 | I6: 8.146 | J6: 17.004 | K6: 32.888 | L6: 34.541 | M6: 24.305 | O6: 16.813 | P6: 19.997 | Q6: 15.801 | R6: 35.292 | S6: 25.294 | T6: 30.593
A7: 14.616 | B7: 17.981 | C7: 8.913 | D7: 40.788 | E7: 15.071 | F7: 32.656 | H7: 14.148 | I7: 16.516 | J7: 16.157 | K7: 31.55 | L7: 30.628 | M7: 22.515 | O7: 9.771 | P7: 19.559 | Q7: 13.585 | R7: 41.251 | S7: 22.758 | T7: 24.22
A8: 8.852 | B8: 22.076 | C8: 8.582 | D8: 40.851 | E8: 20.36 | F8: 22.395 | H8: 21.724 | I8: 15.227 | J8: 19.296 | K8: 35.009 | L8: 26.744 | M8: 14.252 | O8: 15.196 | P8: 9.423 | Q8: 13.331 | R8: 30.096 | S8: 14.653 | T8: 25.037
A9: 17.528 | B9: 21.183 | C9: 8.052 | D9: 34.65 | E9: 8.21 | F9: 25.254 | H9: 14.811 | I9: 17.619 | J9: 14.651 | K9: 42.057 | L9: 24.575 | M9: 23.178 | O9: 26.438 | P9: 5.73 | Q9: 15.244 | R9: 32.698 | S9: 14.225 | T9: 13.948
A10: 13.212 | B10: 23.618 | C10: 10.356 | D10: 39.509 | E10: 13.301 | F10: 24.604 | H10: 17.33 | I10: 14.602 | J10: 14.471 | K10: 37.318 | L10: 22.667 | M10: 22.38 | O10: 17.865 | P10: 9.294 | Q10: 18.682 | R10: 37.695 | S10: 18.467 | T10: 33.904
A11: 18.997 | B11: 25.375 | C11: 9.537 | D11: 35.609 | E11: 18.758 | F11: 14.995 | H11: 17.109 | I11: 21.248 | J11: 12.047 | K11: 40.867 | L11: 25.376 | M11: 26.975 | O11: 25.886 | P11: 5.579 | Q11: 16.056 | R11: 34.88 | S11: 10.054 | T11: 15.12
A12: 15.741 | B12: 30.279 | C12: 9.334 | D12: 31.183 | E12: 28.579 | F12: 24.884 | H12: 18.238 | I12: 7.239 | J12: 8.596 | K12: 43.829 | L12: 19.17 | M12: 28.244 | O12: 22.384 | P12: 22.255 | Q12: 11.048 | R12: 20.969 | S12: 24.592 | T12: 17.138
A13: 19.103 | B13: 18.728 | C13: 13.619 | D13: 29.62 | E13: 26.343 | F13: 11.842 | H13: 12.826 | I13: 18.285 | J13: 7.526 | K13: 39.127 | L13: 17.259 | M13: 30.977 | O13: 11.022 | P13: 23.798 | Q13: 11.023 | R13: 22.558 | S13: 25.069 | T13: 19.259
A14: 21.423 | B14: 19.944 | C14: 11.36 | D14: 37.185 | E14: 39.871 | F14: 16.669 | H14: 10.887 | I14: 23.044 | J14: 31.137 | K14: 34.551 | L14: 18.511 | M14: 22.65 | O14: 18.812 | P14: 19.294 | Q14: 9.84 | R14: 23.831 | S14: 24.135 | T14: 19.477
... A46: 24.106 | B46: 11.352 | C46: 16.565 | D46: 40.264 | E46: 23.373 | F46: 15.907 | H46: 20.3 | I46: 8.69 | J46: 24.63 | K46: 29.762 | L46: 23.3 | M46: 28.921 | O46: 2.556 | P46: 20.249 | Q46: 22.655 | R46: 29.65 | S46: 15.794 | T46: 15.811
A47: 11.685 | B47: 14.04 | C47: 16.814 | D47: 40.067 | E47: 23.679 | F47: 17.485 | H47: 22.55 | I47: 6.604 | J47: 23.683 | K47: 21.114 | L47: 17.291 | M47: 10.392 | O47: 2.255 | P47: 15.827 | Q47: 17.987 | R47: 39.551 | S47: 11.071
A48: 14.077 | B48: 22.277 | C48: 18.011 | D48: 24.668 | E48: 23.633 | F48: 27.08 | I48: 5.414 | J48: 16.893 | K48: 23.142 | L48: 20.039 | M48: 18.212 | O48: 4.994 | P48: 17.356 | Q48: 22.216 | R48: 37.631 | S48: 11.16
A49: 21.849 | B49: 16.871 | C49: 16.033 | D49: 40.399 | E49: 24.778 | F49: 26.882 | I49: 7.752 | J49: 16.569 | K49: 44.919 | L49: 16.567 | M49: 30.315 | O49: 4.017 | P49: 17.845 | R49: 42.948
A50: 27.75 | B50: 18.437 | C50: 17.581 | D50: 26.513 | E50: 25.305 | F50: 24.326 | I50: 11.525 | J50: 12.068 | K50: 45.439 | L50: 15.544 | M50: 23.254 | O50: 22.24 | P50: 22.294 | R50: 46.279
A51: 24.929 | B51: 19.675 | C51: 18.217 | E51: 16.177 | F51: 22.655 | I51: 10.369 | J51: 6.556 | K51: 45.623 | L51: 14.665 | O51: 11.034 | P51: 10.561 | R51: 21.638
A52: 21.142 | C52: 14.107 | E52: 16.462 | F52: 20.989 | I52: 13.18 | J52: 7.809 | K52: 42.948 | L52: 9.849 | P52: 10.477 | R52: 20.723
A53: 16.009 | C53: 19.925 | F53: 21.729 | J53: 6.305 | K53: 44.967 | L53: 16.811 | P53: 15.786 | R53: 30.281
A54: 17.585 | C54: 13.848 | F54: 16.144 | J54: 9.443 | K54: 35.835 | L54: 32.342 | P54: 14.814 | R54: 48.521
A55: 19.336 | C55: 12.065 | F55: 17.257 | J55: 21.617 | K55: 40.574 | L55: 21.013 | P55: 21.635
A56: 21.535 | F56: 22.534 | J56: 24.763 | L56: 21.273
A57: 17.52 | F57: 23.35 | J57: 18.77 | L57: 11.37
A58: 15.366 | F58: 14.506 | J58: 21.549 | L58: 10.377
A59: 17.25 | F59: 19.267 | L59: 25.095

Sheet 6C_RPA1 n=3 Average
A1: DMSO | B1: DMSO+Auranofin | C1: DMSO+Auranofin+NAC | D1: CPT | E1: CPT+Auranofin | F1: CPT+Auranofin+NAC
A2: =AVERAGE('6C_RPA1'!A3:A59) -> 17.663702 | B2: =AVERAGE('6C_RPA1'!B3:B59) -> 18.301408 | C2: =AVERAGE('6C_RPA1'!C3:C59) -> 11.180981 | D2: =AVERAGE('6C_RPA1'!D3:D59) -> 35.128854 | E2: =AVERAGE('6C_RPA1'!E3:E59) -> 24.51812 | F2: =AVERAGE('6C_RPA1'!F3:F59) -> 20.412614
A3: =AVERAGE('6C_RPA1'!H3:H59) -> 14.963756 | B3: =AVERAGE('6C_RPA1'!I3:I59) -> 12.28026 | C3: =AVERAGE('6C_RPA1'!J3:J59) -> 18.501089 | D3: =AVERAGE('6C_RPA1'!K3:K59) -> 37.221792 | E3: =AVERAGE('6C_RPA1'!L3:L59) -> 20.409158 | F3: =AVERAGE('6C_RPA1'!M3:M59) -> 19.118729
A4: =AVERAGE('6C_RPA1'!O3:O59) -> 13.718306 | B4: =AVERAGE('6C_RPA1'!P3:P59) -> 17.359698 | C4: =AVERAGE('6C_RPA1'!Q3:Q59) -> 14.384196 | D4: =AVERAGE('6C_RPA1'!R3:R59) -> 35.305519 | E4: =AVERAGE('6C_RPA1'!S3:S59) -> 17.418217 | F4: =AVERAGE('6C_RPA1'!T3:T59) -> 20.395523

Sheet 6C_RPA2
A1: Replicate 1 | H1: Replicate 2 | O1: Replicate 3
A2: DMSO | B2: DMSO+Auranofin | C2: DMSO+Auranofin+NAC | D2: CPT | E2: CPT+Auranofin | F2: CPT+Auranofin+NAC | H2: DMSO | I2: DMSO+Auranofin | J2: DMSO+Auranofin+NAC | K2: CPT | L2: CPT+Auranofin | M2: CPT+Auranofin+NAC | O2: DMSO | P2: DMSO+Auranofin | Q2: DMSO+Auranofin+NAC | R2: CPT | S2: CPT+Auranofin | T2: CPT+Auranofin+NAC
A3: 7.659 | B3: 7.125 | C3: 11.677 | D3: 19.969 | E3: 9.993 | F3: 10.623 | H3: 8.371 | I3: 7.007 | J3: 9.914 | K3: 19.784 | L3: 7.528 | M3: 14.311 | O3: 17.254 | P3: 16.085 | Q3: 9.743 | R3: 20.213 | S3: 17.335 | T3: 7.581
A4: 2.893 | B4: 14.117 | C4: 7.456 | D4: 11.843 | E4: 9.832 | F4: 13.059 | H4: 19.973 | I4: 10.411 | J4: 9.503 | K4: 11.41 | L4: 20.776 | M4: 16.474 | O4: 9.088 | P4: 11.184 | Q4: 11.965 | R4: 28.588 | S4: 4.722 | T4: 8.786
A5: 5.152 | B5: 7.011 | C5: 9.851 | D5: 22.51 | E5: 12.341 | F5: 7.813 | H5: 4.012 | I5: 10.315 | J5: 12.353 | K5: 24.592 | L5: 14.187 | M5: 11.687 | O5: 16.278 | P5: 14.604 | Q5: 17.104 | R5: 14.623 | S5: 14.674 | T5: 7.439
A6: 6.44 | B6: 19.157 | C6: 8.075 | D6: 15.496 | E6: 12.86 | F6: 9.228 | H6: 18.274 | I6: 10.079 | J6: 13.632 | K6: 15.712 | L6: 6.844 | M6: 20.064 | O6: 14.494 | P6: 16.775 | Q6: 16.47 | R6: 31.576 | S6: 8.245 | T6: 5.065
A7: 14.455 | B7: 14.639 | C7: 7.151 | D7: 32.573 | E7: 11.722 | F7: 6.142 | H7: 11.155 | I7: 13.148 | J7: 14.739 | K7: 25.547 | L7: 6.338 | M7: 14.173 | O7: 9.767 | P7: 12.474 | Q7: 10.15 | R7: 22.963 | S7: 8.314 | T7: 8.034
A8: 8.502 | B8: 9.244 | C8: 8.784 | D8: 25.122 | E8: 13.76 | F8: 12.805 | H8: 7.855 | I8: 12.349 | J8: 8.043 | K8: 24.034 | L8: 6.791 | M8: 13.643 | O8: 20.02 | P8: 6.395 | Q8: 9.182 | R8: 26.101 | S8: 10.341 | T8: 7.632
A9: 6.501 | B9: 9.96 | C9: 7.605 | D9: 22.283 | E9: 16.679 | F9: 17.785 | H9: 10.522 | I9: 12.577 | J9: 14.774 | K9: 19.362 | L9: 24.334 | M9: 13.711 | O9: 17.572 | P9: 8.225 | Q9: 9.614 | R9: 17.875 | S9: 4.238 | T9: 9.959
A10: 2.893 | B10: 8.893 | C10: 6.389 | D10: 25.619 | E10: 8.582 | F10: 5.05 | H10: 18.156 | I10: 14.553 | J10: 18.783 | K10: 28.385 | L10: 9.826 | M10: 20.853 | O10: 19.474 | P10: 13.715 | Q10: 15.459 | R10: 23.901 | S10: 20.493 | T10: 9.328
A11: 7.014 | B11: 7.38 | C11: 9.64 | D11: 27.65 | E11: 7.705 | F11: 6.677 | H11: 10.942 | I11: 5.603 | J11: 10.294 | K11: 31.999 | L11: 5.341 | M11: 6.34 | O11: 10.497 | P11: 6.484 | Q11: 16.683 | R11: 26.339 | S11: 17.414 | T11: 6.473
A12: 13.081 | B12: 21.703 | C12: 5.886 | D12: 25.347 | E12: 13.506 | F12: 7.537 | H12: 11.362 | I12: 9.724 | J12: 16.597 | K12: 15.088 | L12: 24.837 | M12: 12.077 | O12: 19.091 | P12: 6.6 | Q12: 14.429 | R12: 22.811 | S12: 9.381 | T12: 23.245
A13: 13.433 | B13: 5.564 | C13: 11.229 | D13: 12.771 | E13: 11.98 | F13: 7.257 | H13: 15.373 | I13: 12.934 | J13: 17.255 | K13: 14.095 | L13: 6.495 | M13: 17.018 | O13: 14.368 | P13: 17.877 | Q13: 16.016 | R13: 24.373 | S13: 10.122 | T13: 15.303
A14: 14.102 | B14: 6.814 | C14: 15.4 | D14: 12.366 | E14: 16.704 | F14: 5.707 | H14: 14.767 | I14: 8.856 | J14: 10.582 | K14: 19.185 | L14: 20.467 | M14: 24.572 | O14: 17.336 | P14: 8.697 | Q14: 10.274 | R14: 19.945 | S14: 5.915 | T14: 17.24
... A42: 11.292 | B42: 11.271 | C42: 12.091 | D42: 31.982 | E42: 20.274 | F42: 9.633 | H42: 15.36 | I42: 7.668 | J42: 9.059 | K42: 24.804 | L42: 15.182 | M42: 18.089 | O42: 15.092 | P42: 13.125 | Q42: 12.759 | R42: 26.671 | S42: 20.988 | T42: 14.603
A43: 14.727 | B43: 13.098 | C43: 13.924 | D43: 26.647 | E43: 9.322 | H43: 15.581 | I43: 14.029 | J43: 12.992 | K43: 25.763 | L43: 18.159 | M43: 8.43 | O43: 7.501 | P43: 13.256 | Q43: 12.776 | R43: 31.455 | S43: 21.433 | T43: 20.517
A44: 12.932 | B44: 12.473 | C44: 2.555 | D44: 31.836 | E44: 10.55 | H44: 16.09 | I44: 11.003 | J44: 8.708 | K44: 23.412 | L44: 17.018 | M44: 15.324 | O44: 6.941 | P44: 12.667 | Q44: 4.627 | R44: 23.094 | S44: 8.739 | T44: 15.614
A45: 20.45 | B45: 10.568 | C45: 9.958 | D45: 44.682 | E45: 10.869 | H45: 10.458 | I45: 9.65 | J45: 6.783 | K45: 26.061 | L45: 13.06 | M45: 9.464 | O45: 14.057 | P45: 8.765 | Q45: 8.857 | R45: 17.739 | S45: 6.03 | T45: 4.405
A46: 2.286 | B46: 8.963 | C46: 8.714 | D46: 32.325 | E46: 10.714 | H46: 15.209 | I46: 7.477 | J46: 8.126 | K46: 23.065 | L46: 9.621 | O46: 3.431 | P46: 12.777 | Q46: 9.867 | R46: 23.557 | S46: 20.858 | T46: 4.991
A47: 14.896 | B47: 9.338 | C47: 7.532 | D47: 29.201 | E47: 14.769 | H47: 8.558 | I47: 8.752 | J47: 10.793 | K47: 13.418 | L47: 7.685 | O47: 5.633 | Q47: 10.436 | R47: 16.915 | S47: 6.07 | T47: 5.119
A48: 7.951 | B48: 9.91 | C48: 7.915 | D48: 30.358 | E48: 12.408 | I48: 5.831 | K48: 31.116 | L48: 25.077 | O48: 15.418 | Q48: 5.729 | R48: 38.303 | S48: 25.544 | T48: 7.217
A49: 2.331 | B49: 10.052 | C49: 9.287 | D49: 21.173 | E49: 14 | I49: 7.614 | K49: 23.437 | L49: 26.22 | O49: 13.93 | Q49: 12.724 | R49: 46.131 | S49: 14.665 | T49: 6.895
A50: 15.223 | B50: 8.133 | C50: 16.033 | D50: 33.176 | E50: 12.838 | I50: 8.781 | K50: 36.58 | L50: 5.857 | O50: 10.006 | Q50: 8.341 | R50: 26.56 | T50: 8.1
A51: 15.265 | B51: 8.798 | C51: 7.084 | D51: 26.08 | E51: 12.231 | I51: 9.802 | L51: 14.886 | O51: 9.767 | Q51: 7.657 | R51: 23.977 | T51: 5.346
A52: 8.545 | C52: 10.848 | D52: 26.795 | E52: 20.713 | I52: 7.319 | L52: 15.999 | O52: 7.067 | Q52: 9.197 | R52: 21.377 | T52: 8.333
C53: 17.351 | E53: 15.291 | I53: 9.379 | L53: 13.07 | O53: 10.607 | Q53: 15.167 | R53: 13.886
E54: 7.039 | I54: 13.61 | O54: 10.254 | Q54: 13.61 | R54: 40.853
E55: 6.567 | I55: 12.987 | O55: 13.383 | Q55: 13.212 | R55: 18.116
I56: 12.253 | O56: 15.344 | Q56: 9.03
I57: 10.737 | O57: 9.084
I58: 9.188 | O58: 6.506

Sheet 6C_RPA2 n=3 Average
A1: DMSO | B1: DMSO+Auranofin | C1: DMSO+Auranofin+NAC | D1: CPT | E1: CPT+Auranofin | F1: CPT+Auranofin+NAC
A2: =AVERAGE('6C_RPA2'!A3:A58) -> 9.13708 | B2: =AVERAGE('6C_RPA2'!B3:B58) -> 9.9762449 | C2: =AVERAGE('6C_RPA2'!C3:C58) -> 9.479098 | D2: =AVERAGE('6C_RPA2'!D3:D58) -> 24.13884 | E2: =AVERAGE('6C_RPA2'!E3:E58) -> 12.965264 | F2: =AVERAGE('6C_RPA2'!F3:F58) -> 9.461625
A3: =AVERAGE('6C_RPA2'!H3:H58) -> 10.369667 | B3: =AVERAGE('6C_RPA2'!I3:I58) -> 10.82925 | C3: =AVERAGE('6C_RPA2'!J3:J58) -> 10.527511 | D3: =AVERAGE('6C_RPA2'!K3:K58) -> 19.579313 | E3: =AVERAGE('6C_RPA2'!L3:L58) -> 14.848529 | F3: =AVERAGE('6C_RPA2'!M3:M58) -> 15.293814
A4: =AVERAGE('6C_RPA2'!O3:O58) -> 10.082839 | B4: =AVERAGE('6C_RPA2'!P3:P58) -> 11.566091 | C4: =AVERAGE('6C_RPA2'!Q3:Q58) -> 11.12713 | D4: =AVERAGE('6C_RPA2'!R3:R58) -> 24.859038 | E4: =AVERAGE('6C_RPA2'!S3:S58) -> 10.620936 | F4: =AVERAGE('6C_RPA2'!T3:T58) -> 12.41868

Sheet 6D_rucaparib
A1: Replicate 1 | G1: Replicate 2 | M1: Replicate 3
A2: DMSO | B2: Auranofin | C2: Rucaparib | D2: Auranofin+Rucaparib | E2: Auranofin+Rucaparib+NAC | G2: DMSO | H2: Auranofin | I2: Rucaparib | J2: Auranofin+Rucaparib | K2: Auranofin+Rucaparib+NAC | M2: DMSO | N2: Auranofin | O2: Rucaparib | P2: Auranofin+Rucaparib | Q2: Auranofin+Rucaparib+NAC
A3: 0.663 | B3: 0.4301 | C3: 3.799 | D3: 1.699 | E3: 1.052 | G3: 1.205 | H3: 2.307 | I3: 0.665 | J3: 20.465 | K3: 1.118 | M3: 0.664 | N3: 0.414 | O3: 0 | P3: 1.118 | Q3: 6.728
A4: 0.894 | B4: 0.455 | C4: 6.59 | D4: 16.092 | E4: 8.991 | G4: 2.836 | H4: 1.518 | I4: 0.485 | J4: 1.69 | K4: 2.918 | M4: 1.563 | N4: 0.316 | O4: 0.038 | P4: 0.815 | Q4: 2.174
A5: 0.722 | B5: 0.2357 | C5: 3.549 | D5: 14.376 | E5: 0.737 | G5: 2.616 | H5: 3.817 | I5: 8.835 | J5: 1.415 | K5: 2.049 | M5: 1.038 | N5: 0.896 | O5: 1.249 | P5: 12.028 | Q5: 3.384
A6: 0.256 | B6: 0.8 | C6: 3.125 | D6: 21.777 | E6: 4.174 | G6: 0.464 | H6: 0.295 | I6: 6.469 | J6: 7.311 | K6: 10.846 | M6: 1.084 | N6: 0.731 | O6: 0.935 | P6: 1.162 | Q6: 0.864
A7: 0.96 | B7: 0.32 | C7: 0.579 | D7: 1.904 | E7: 1.859 | G7: 2.061 | H7: 2.041 | I7: 1.793 | J7: 1.029 | K7: 1.572 | M7: 1.762 | N7: 0.449 | O7: 3.895 | P7: 1.195 | Q7: 11.048
A8: 1.071 | B8: 0.412 | C8: 0.389 | D8: 2.68 | E8: 3.567 | G8: 0.652 | H8: 2.303 | I8: 0.565 | J8: 18.093 | K8: 2.805 | M8: 0.856 | N8: 1.508 | O8: 4.343 | P8: 12.88 | Q8: 1.628
A9: 1.088 | B9: 1.37 | C9: 3.604 | D9: 0.997 | E9: 9.032 | G9: 1.297 | H9: 1.37 | I9: 0.889 | J9: 15.852 | K9: 6.774 | M9: 0.472 | N9: 1.36 | O9: 0 | P9: 11.355 | Q9: 1.095
A10: 0.424 | B10: 1.77 | C10: 4.764 | D10: 1.598 | E10: 1.205 | G10: 0.788 | H10: 1.491 | I10: 3.459 | J10: 1.699 | K10: 2.707 | M10: 7.895 | N10: 1.419 | O10: 0.485 | P10: 11.233 | Q10: 6.526
A11: 0.472 | B11: 1.996 | C11: 1.29 | D11: 10.083 | E11: 5.249 | G11: 0.801 | H11: 1.569 | I11: 1.223 | J11: 8.456 | K11: 39.037 | M11: 0.385 | N11: 0.346 | O11: 1.325 | P11: 22 | Q11: 11.872
A12: 0.829 | B12: 1.354 | C12: 0.264 | D12: 17.426 | E12: 14.376 | G12: 0.197 | H12: 2.478 | I12: 7.299 | J12: 20.6 | K12: 7.522 | M12: 0.571 | N12: 0.471 | O12: 0.765 | P12: 1.085 | Q12: 12.793
A13: 0.201 | B13: 1.049 | C13: 8.831 | D13: 3.408 | E13: 26.148 | G13: 0.573 | H13: 2.825 | I13: 11.854 | J13: 7.329 | K13: 8.908 | M13: 0.602 | N13: 1.498 | O13: 0.458 | P13: 14.375 | Q13: 2.958
A14: 1.179 | B14: 0.567 | C14: 4.374 | D14: 1.729 | E14: 15.114 | G14: 0.25 | H14: 2.544 | I14: 0.38 | J14: 10.927 | K14: 5.594 | M14: 0.252 | N14: 1.063 | O14: 7.715 | P14: 10.574 | Q14: 9.775
... A73: 0.777 | B73: 0.975 | C73: 3.663 | D73: 18.551 | E73: 10.528 | G73: 1.222 | H73: 2.095 | I73: 4.738 | J73: 10.897 | K73: 15.021 | M73: 0.58 | N73: 7.995 | O73: 4.15 | P73: 15.924 | Q73: 9.147
A74: 0.249 | C74: 4.814 | D74: 19.909 | E74: 2.159 | G74: 0.443 | H74: 2.673 | I74: 0.662 | J74: 6.289 | K74: 2.399 | M74: 2.74 | N74: 7.687 | O74: 16.538 | P74: 14.928 | Q74: 5.931
A75: 0.338 | C75: 4.535 | D75: 1.452 | E75: 14.455 | G75: 0.212 | H75: 2.776 | I75: 0.634 | J75: 1.356 | K75: 6.698 | M75: 1.234 | N75: 1.19 | O75: 0.524 | P75: 5.917 | Q75: 10.793
A76: 0.163 | C76: 3.67 | D76: 1.234 | E76: 2.804 | G76: 0.315 | H76: 2.416 | I76: 4.259 | J76: 10.647 | K76: 1.896 | M76: 0.475 | N76: 1.102 | O76: 4.163 | P76: 1.15 | Q76: 6.947
A77: 0.145 | C77: 2.826 | D77: 2.317 | E77: 17.059 | G77: 0.483 | H77: 4.048 | I77: 15.432 | J77: 1.092 | K77: 4.353 | M77: 0.391 | N77: 1.169 | O77: 14.089 | P77: 11.322 | Q77: 8.725
A78: 0.717 | C78: 3.942 | D78: 14.785 | E78: 19.198 | G78: 0.226 | H78: 0.35 | I78: 0.521 | J78: 1.232 | K78: 22.079 | M78: 1.04 | N78: 0.868 | O78: 0.436 | P78: 1.003 | Q78: 6.592
A79: 0.769 | C79: 0.633 | D79: 4.721 | E79: 3.275 | G79: 1.518 | H79: 2.035 | I79: 5.851 | J79: 16.772 | K79: 2.178 | M79: 0.731 | N79: 4.349 | O79: 5.113 | P79: 14.09 | Q79: 1.389
A80: 0.847 | C80: 3.149 | D80: 1.852 | E80: 21.057 | G80: 0.481 | H80: 0.871 | I80: 0.591 | J80: 11.285 | K80: 13.4 | M80: 1.031 | O80: 0.519 | P80: 15.845 | Q80: 13.859
A81: 0.419 | C81: 0.39 | D81: 5.194 | E81: 2.83 | G81: 0.529 | H81: 1.963 | I81: 0.495 | J81: 20.555 | K81: 8.033 | M81: 0.846 | O81: 7.035 | P81: 2.12 | Q81: 6.514
A82: 0.786 | C82: 0.33 | D82: 9.264 | E82: 12.948 | G82: 1.505 | H82: 0.17 | I82: 0.465 | J82: 9.309 | K82: 2.058 | M82: 0.685 | O82: 3.404 | P82: 13.768 | Q82: 3.577
A83: 0.971 | C83: 0.373 | D83: 18.607 | E83: 28.397 | G83: 0.334 | H83: 0.486 | I83: 7.551 | J83: 13.987 | K83: 4.992 | M83: 0.766 | O83: 8.036 | P83: 2.019 | Q83: 0.875
A84: 0.298 | C84: 11.126 | D84: 15.497 | E84: 13.713 | G84: 0.758 | H84: 0.428 | I84: 12.017 | J84: 15.028 | K84: 8.771 | M84: 0.146 | O84: 0.334 | P84: 3.147 | Q84: 1.479
A85: 0.796 | C85: 0.358 | D85: 4.717 | E85: 6.453 | G85: 0.621 | H85: 0.542 | I85: 9.115 | J85: 10.76 | K85: 11.17 | M85: 1.218 | O85: 5.812 | P85: 14.213 | Q85: 11.322
A86: 0.299 | C86: 0.436 | D86: 1.664 | E86: 3.525 | G86: 1.114 | I86: 6.817 | J86: 3.864 | K86: 9.781 | M86: 1.147 | O86: 4.014 | P86: 21.32 | Q86: 1.407
A87: 0.397 | C87: 13.807 | D87: 12.533 | E87: 0.86 | G87: 1.091 | I87: 4.663 | J87: 11.138 | K87: 4.753 | M87: 0.346 | O87: 0.68 | P87: 21.29 | Q87: 7.626
A88: 3.683 | C88: 0.317 | D88: 12.443 | E88: 19.854 | G88: 0.865 | I88: 7.736 | J88: 9.445 | K88: 1.622 | M88: 0.589 | O88: 2.857 | P88: 23.822 | Q88: 17.423
A89: 0.257 | C89: 6.485 | D89: 1.143 | E89: 6.934 | G89: 0.74 | I89: 4.756 | J89: 10.742 | K89: 2.994 | M89: 0.607 | O89: 4.412 | P89: 2.185 | Q89: 4.597
A90: 0.718 | C90: 0.429 | D90: 15.463 | E90: 10.607 | G90: 0.428 | I90: 1.569 | J90: 8.033 | K90: 8.214 | M90: 0.535 | O90: 0.307 | P90: 29.615 | Q90: 1.655
A91: 0.76 | C91: 0.579 | D91: 0.976 | E91: 9.168 | G91: 1.233 | I91: 0.369 | J91: 5.583 | K91: 6.434 | M91: 1.174 | O91: 0.25 | P91: 9.716 | Q91: 8.73
A92: 1.25 | C92: 10.473 | D92: 12.611 | E92: 1.571 | G92: 1.681 | I92: 0.381 | J92: 15.955 | K92: 10.556 | M92: 1.577 | O92: 0.777 | P92: 20.027 | Q92: 25.539
A93: 1.011 | C93: 6.196 | D93: 1.158 | E93: 15.504 | G93: 0.729 | I93: 5.145 | J93: 1.281 | K93: 16.335 | M93: 1.016 | O93: 2.003 | P93: 2.135 | Q93: 1.999
A94: 0.237 | C94: 4.038 | D94: 3.206 | E94: 17.528 | G94: 0.811 | I94: 0.415 | J94: 0.952 | K94: 14.917 | M94: 1.302 | O94: 8.916 | P94: 21.83 | Q94: 7.989
A95: 0.429 | C95: 0.961 | E95: 11.009 | G95: 0.393 | I95: 6.728 | J95: 9.296 | K95: 19.561 | M95: 2.48 | O95: 7.868 | P95: 8.702 | Q95: 8.14
A96: 1.375 | C96: 7.886 | E96: 6.409 | G96: 0.28 | I96: 4.213 | J96: 6.35 | K96: 6.861 | M96: 0.881423 | O96: 4.646 | P96: 18.273 | Q96: 3.065
A97: 1.344 | C97: 3.817 | E97: 21.078 | G97: 0.382 | I97: 9.645 | J97: 1.15 | K97: 10.463 | O97: 6.666 | P97: 8.482 | Q97: 2.143
A98: 0.467 | C98: 11.26 | E98: 2.76 | G98: 0.544 | I98: 9.431 | J98: 2.581 | O98: 1.972 | P98: 8.26219 | Q98: 7.744623
A99: 1.111 | C99: 13.739 | E99: 1.557 | G99: 0.426 | I99: 2.398 | J99: 8.06 | O99: 2.733 | Q99: 20.867
A100: 0.549 | C100: 9.5 | E100: 21.242 | G100: 0.556 | J100: 2.246 | O100: 1.126 | Q100: 2.73
A101: 1.136 | C101: 0.423 | E101: 2.856 | G101: 0.245 | J101: 11.815 | O101: 0.128 | Q101: 1.571
C102: 4.28 | E102: 13.222 | G102: 0.149 | J102: 8.221 | O102: 4.0423133 | Q102: 9.08
C103: 5.614 | E103: 29.087 | G103: 0.738 | J103: 1.531 | Q103: 1.569
C104: 0.621 | G104: 0.558 | J104: 12.713 | Q104: 15.195
C105: 5.156 | G105: 0.743 | J105: 0.617 | Q105: 17.234
C106: 7.614 | G106: 0.349 | J106: 1.129 | Q106: 10.885
G107: 0.429 | J107: 0.723 | Q107: 6.335
G108: 0.288 | J108: 3.003
G109: 0.918 | J109: 8.931
G110: 0.29 | J110: 1.343
J111: 1.496
J112: 5.425
J113: 15.446
J114: 1.063
J115: 15.651

Sheet 6D_rucaparib n=3 Average
A1: DMSO | B1: Auranofin | C1: Rucaparib | D1: Auranofin+Rucaparib | E1: Auranofin+Rucaparib+NAC
A2: =AVERAGE('6D_rucaparib'!A3:A115) -> 0.7280303 | B2: =AVERAGE('6D_rucaparib'!B3:B115) -> 1.0282648 | C2: =AVERAGE('6D_rucaparib'!C3:C115) -> 3.6759423 | D2: =AVERAGE('6D_rucaparib'!D3:D115) -> 8.2528913 | E2: =AVERAGE('6D_rucaparib'!E3:E115) -> 10.257921
A3: =AVERAGE('6D_rucaparib'!G3:G115) -> 0.93549074 | B3: =AVERAGE('6D_rucaparib'!H3:H115) -> 2.2731928 | C3: =AVERAGE('6D_rucaparib'!I3:I115) -> 4.4239588 | D3: =AVERAGE('6D_rucaparib'!J3:J115) -> 8.3756372 | E3: =AVERAGE('6D_rucaparib'!K3:K115) -> 6.5602947
A4: =AVERAGE('6D_rucaparib'!M3:M115) -> 0.98085556 | B4: =AVERAGE('6D_rucaparib'!N3:N115) -> 1.5856104 | C4: =AVERAGE('6D_rucaparib'!O3:O115) -> 4.0531431 | D4: =AVERAGE('6D_rucaparib'!P3:P115) -> 8.1375645 | E4: =AVERAGE('6D_rucaparib'!Q3:Q115) -> 5.9224155

Sheet 6D_CPT
A1: Replicate 1 | G1: Replicate 2 | M1: Replicate 3
A2: DMSO | B2: Auranofin | C2: CPT | D2: Auranofin+CPT | E2: Auranofin+CPT+NAC | G2: DMSO | H2: Auranofin | I2: CPT | J2: Auranofin+CPT | K2: Auranofin+CPT+NAC | M2: DMSO | N2: Auranofin | O2: CPT | P2: Auranofin+CPT | Q2: Auranofin+CPT+NAC
A3: 0.516 | B3: 0.244 | C3: 1.268 | D3: 7.592 | E3: 14.295 | G3: 0.534 | H3: 0.785 | I3: 7.298 | J3: 1.795 | K3: 24.588 | M3: 0.525 | N3: 0.875 | O3: 12.447 | P3: 1.871 | Q3: 1.415
A4: 0.257 | B4: 0.73 | C4: 0.773 | D4: 3.521 | E4: 30.667 | G4: 0.478 | H4: 0.584 | I4: 0.573 | J4: 14.586 | K4: 25.984 | M4: 0.595 | N4: 0.225 | O4: 6.881 | P4: 6.927 | Q4: 0.812
A5: 0.464 | B5: 0.52 | C5: 13.558 | D5: 32.711 | E5: 1.692 | G5: 0.64 | H5: 0.541 | I5: 0.423 | J5: 9.259 | K5: 0.38 | M5: 0.752 | N5: 0.445 | O5: 10.181 | P5: 12.486 | Q5: 24.71
A6: 4.317 | B6: 0.51 | C6: 5.294 | D6: 1.382 | E6: 1.451 | G6: 0.227 | H6: 0.878 | I6: 0.504 | J6: 10.322 | K6: 8.112 | M6: 0.984 | N6: 0.685 | O6: 6.491 | P6: 11.475 | Q6: 1.641
A7: 0.408 | B7: 2.36 | C7: 0.716 | D7: 3.165 | E7: 1.482 | G7: 0.187 | H7: 5.58 | I7: 3.91 | J7: 10.359 | K7: 0.526 | M7: 0.528 | N7: 0.347 | O7: 10.625 | P7: 9.553 | Q7: 6.526
A8: 1.983 | B8: 3.55 | C8: 12.012 | D8: 3.765 | E8: 1.42 | G8: 0.126 | H8: 6.554 | I8: 0.392 | J8: 4.493 | K8: 21.221 | M8: 0.449 | N8: 0.287 | O8: 11.784 | P8: 10.453 | Q8: 3.885
A9: 1.236 | B9: 2.43 | C9: 1.773 | D9: 22.841 | E9: 26.476 | G9: 0.118 | H9: 2.785 | I9: 2.637 | J9: 11.122 | K9: 0.86 | M9: 0.56 | N9: 0.288 | O9: 0.55 | P9: 31.974 | Q9: 11.695
A10: 0.705 | B10: 1 | C10: 12.27 | D10: 9.602 | E10: 19.92 | G10: 0.629 | H10: 5.699 | I10: 0.428 | J10: 1.717 | K10: 10.887 | M10: 0.786 | N10: 0.778 | O10: 2.529 | P10: 1.315 | Q10: 1.88
A11: 0.826 | B11: 0.2 | C11: 18.634 | D11: 14.066 | E11: 18.602 | G11: 0.165 | H11: 2.785 | I11: 0.421 | J11: 1.324 | K11: 0.73 | M11: 0.173 | N11: 0.664 | O11: 2.499 | P11: 1.289 | Q11: 26.997
A12: 0.18 | B12: 0.243 | C12: 5.562 | D12: 14.762 | E12: 7.522 | G12: 0.459 | H12: 4.566 | I12: 8.248 | J12: 21 | K12: 26.69 | M12: 0.248 | N12: 0.557 | O12: 0.403 | P12: 1.456 | Q12: 1.876
A13: 1.226 | B13: 0.258 | C13: 0.87 | D13: 33.07 | E13: 2.409 | G13: 0.163 | H13: 1.288 | I13: 6.033 | J13: 21 | K13: 11.414 | M13: 0.439 | N13: 0.555 | O13: 8.856 | P13: 1.565 | Q13: 16.269
A14: 0.398 | B14: 4 | C14: 1.832 | D14: 8.299 | E14: 11.926 | G14: 0.455 | H14: 2.855 | I14: 0.586 | J14: 24.689 | K14: 29.753 | M14: 0.336 | N14: 0.337 | O14: 3.307 | P14: 17.884 | Q14: 11.173
... A56: 1.735 | B56: 2.377 | C56: 0.437 | D56: 12.763 | E56: 2.51 | G56: 0.828 | H56: 0.888 | I56: 0.829 | J56: 20.071 | K56: 0.801 | M56: 0.091 | N56: 3.842 | O56: 2.275 | P56: 6.884 | Q56: 15.723
A57: 1.662 | B57: 4.9555 | C57: 4.418 | D57: 2.071 | E57: 12.801 | G57: 2.954 | I57: 0.836 | J57: 20.085 | K57: 26.092 | M57: 0.289 | N57: 2.558 | O57: 0.27 | P57: 0.991 | Q57: 1.878
A58: 3.12 | B58: 1.227 | C58: 4.07 | D58: 13.671 | E58: 8.405 | G58: 0.967 | I58: 6.373 | J58: 20.221 | K58: 2.208 | M58: 0.142 | N58: 4.358 | O58: 0.211 | P58: 1.436 | Q58: 2.137
A59: 0.577 | B59: 6.314 | C59: 0.295 | D59: 14.143 | E59: 7.98 | G59: 1.234 | I59: 11.546 | J59: 10.127 | K59: 0.968 | M59: 0.509 | N59: 6.335 | O59: 0.316 | P59: 7.715 | Q59: 22.643
A60: 1.089 | B60: 1 | C60: 1.615 | D60: 4.76 | E60: 30.002 | G60: 2.044 | I60: 5.818 | J60: 34.844 | K60: 7.089 | M60: 0.501 | N60: 8.254 | O60: 1.422 | P60: 15.381 | Q60: 20.427
A61: 2.186 | B61: 0.589 | C61: 0.803 | D61: 14.324 | E61: 24.94 | G61: 1.234 | I61: 0.337 | J61: 0.473 | K61: 24.351 | M61: 0.574 | N61: 0.257 | O61: 4.63 | P61: 1.794 | Q61: 9.813
A62: 0.362 | B62: 0.752 | C62: 8.49 | D62: 15.923 | E62: 1.755 | G62: 0.493 | I62: 0.766 | J62: 10.352 | K62: 23.514 | M62: 1.117 | N62: 0.778 | O62: 1.166 | P62: 1.901 | Q62: 3.239
A63: 1.432 | B63: 0.721 | C63: 13.268 | D63: 3.502 | E63: 16.67 | G63: 1.192 | I63: 6.494 | J63: 1.168 | K63: 17.51 | M63: 0.133 | N63: 9.885 | O63: 1.01 | P63: 15.298 | Q63: 0.775
A64: 1.988 | B64: 0.652 | C64: 8.739 | D64: 2.462 | E64: 1.82 | G64: 0.284 | I64: 0.81 | J64: 32.163 | K64: 7.351 | M64: 0.08 | N64: 6.224 | O64: 2.245 | P64: 4.031 | Q64: 9.769
A65: 0.332 | B65: 0.224 | C65: 5.34 | D65: 3.64 | E65: 3.078 | G65: 1.612 | I65: 1.263 | J65: 10.477 | K65: 1.064 | M65: 0.513 | N65: 5.774 | O65: 6.461 | P65: 8.616 | Q65: 25.977
A66: 0.462 | B66: 0.345 | C66: 6.585 | D66: 13.052 | E66: 14.595 | G66: 0.387 | I66: 0.449 | J66: 6.049 | K66: 2.408 | M66: 0.14 | N66: 2.574 | O66: 0.809 | P66: 15.921 | Q66: 0.644
A67: 0.389 | B67: 0.261 | C67: 10.185 | D67: 20.609 | E67: 14.86 | G67: 0.512 | I67: 8.775 | J67: 10.003 | K67: 21.761 | M67: 0.197 | N67: 2.225 | O67: 7.312 | P67: 1.566 | Q67: 9.467
A68: 0.149 | B68: 0.475 | C68: 9.492 | D68: 15.122 | E68: 1.054 | G68: 1.205 | I68: 4.733 | J68: 10.541 | K68: 2.19 | M68: 0.492 | N68: 0.778 | O68: 1.768 | P68: 11.237 | Q68: 2.055
... A75: 0.993 | B75: 0.358 | C75: 7.726 | D75: 24.532 | E75: 2.088 | G75: 0.582 | I75: 0.567 | J75: 7.366 | K75: 1.312 | M75: 0.131 | N75: 0.984 | O75: 0.407 | P75: 12.379 | Q75: 19.74
A76: 2.088 | C76: 0.474 | D76: 1.993 | E76: 6.39 | G76: 0.877 | I76: 9.978 | J76: 11.697 | K76: 20.154 | M76: 0.278 | O76: 10.073 | P76: 16.268 | Q76: 11.553
A77: 2.188 | C77: 3.232 | D77: 12.071 | E77: 0.583 | G77: 2.87 | I77: 5.316 | J77: 1.107 | K77: 2.588 | M77: 0.602 | O77: 4.846 | P77: 14.865 | Q77: 15.931
A78: 1.252 | C78: 0.857 | D78: 1.087 | E78: 0.863 | G78: 0.951 | I78: 10.142 | J78: 9.065 | K78: 8.334 | M78: 0.856 | O78: 7.045 | P78: 9.925 | Q78: 1.324
A79: 1.298 | C79: 2.836 | D79: 15.939 | E79: 1.171 | G79: 1.222 | I79: 5.723 | J79: 3.043 | K79: 3.643 | M79: 0.623 | O79: 5.509 | P79: 17.2 | Q79: 8.185
A80: 0.909 | C80: 6.467 | D80: 1.504 | E80: 0.874 | G80: 2.024 | I80: 11.772 | J80: 4.813 | K80: 14.491 | M80: 0.507 | O80: 8.264 | P80: 7.857 | Q80: 0.994
A81: 1.261 | C81: 0.537 | D81: 1.877 | E81: 18.012 | G81: 1.221 | I81: 6.492 | J81: 9.615 | K81: 16.884 | M81: 2.221 | O81: 8.992 | P81: 12.417 | Q81: 22.867
A82: 0.962 | C82: 1.533 | D82: 1.016 | E82: 10.694 | G82: 0.49 | I82: 7.75 | J82: 10.994 | K82: 22.918 | M82: 2.093 | O82: 1.023 | P82: 3.882 | Q82: 1.559
A83: 0.406 | C83: 0.453 | D83: 14.018 | E83: 6.467 | G83: 1.184 | I83: 2.931 | J83: 6.351 | K83: 11.516 | M83: 1.698 | O83: 1.501 | P83: 1.651 | Q83: 1.765
A84: 1.319 | C84: 7.383 | D84: 9.503 | E84: 7.446 | G84: 0.283 | I84: 4.827 | J84: 13.494 | K84: 0.655 | M84: 1.817 | O84: 15.857 | P84: 1.136 | Q84: 6.861
A85: 1.032 | C85: 7.002 | D85: 8.871 | E85: 2.458 | G85: 1.586 | I85: 0.47 | J85: 10.842 | K85: 1.804 | M85: 0.481 | O85: 0.671 | P85: 1.832 | Q85: 22.11
A86: 1.731 | C86: 0.855 | D86: 12.746 | E86: 11.614 | G86: 0.385 | I86: 0.341 | J86: 1.042 | K86: 5.277 | M86: 0.297 | O86: 4.714847 | P86: 11.011 | Q86: 31.815
A87: 0.302 | C87: 6.949 | D87: 10.301 | E87: 12.027 | G87: 0.507 | I87: 0.515 | J87: 7.788 | K87: 0.808 | M87: 0.917 | O87: 0.495 | P87: 5.404 | Q87: 22.304
... A93: 0.981 | C93: 11.707 | D93: 28.968 | E93: 10.288 | G93: 1.148 | I93: 5.948 | J93: 10.809 | K93: 3.435 | M93: 0.495 | O93: 2.036 | P93: 18.978 | Q93: 12.208
A94: 1.578 | C94: 2.394 | D94: 19.016 | E94: 19.613 | G94: 0.501 | I94: 5.869 | J94: 3.854 | K94: 16.58 | M94: 0.511 | P94: 18.516 | Q94: 5.801
A95: 0.396 | C95: 1.173 | D95: 10.974 | E95: 13.367 | G95: 0.571 | I95: 9.632 | J95: 10.544 | K95: 3.722 | M95: 1.034 | P95: 12.331 | Q95: 16.941
A96: 0.785 | C96: 0.311 | D96: 16.685 | E96: 0.628 | G96: 0.866 | I96: 0.776 | J96: 8.478 | K96: 1.983 | M96: 0.287 | P96: 13.854 | Q96: 2.06
A97: 0.874 | C97: 12.594 | D97: 25.172 | E97: 0.796 | G97: 1.663 | I97: 0.457 | J97: 26.027 | K97: 1.916 | M97: 2.236 | P97: 18.676 | Q97: 12.658
A98: 0.654 | C98: 8.53 | D98: 14.797 | E98: 1.998 | G98: 0.479 | I98: 3.452 | J98: 14.006 | K98: 10.279 | M98: 2.061 | P98: 17.32733 | Q98: 1.058
A99: 0.233 | C99: 1.152 | D99: 17.851 | E99: 13.215 | G99: 1.542 | I99: 2.932 | J99: 2.839 | K99: 12.788 | M99: 1.168 | Q99: 10.581
A100: 0.216 | C100: 1.293 | D100: 13.066 | E100: 0.792 | G100: 0.97 | I100: 1.494 | J100: 13.475 | K100: 30.047 | M100: 1.002 | Q100: 15.869
A101: 1.036 | C101: 0.526 | D101: 18.521 | G101: 0.787 | I101: 1.146 | J101: 16.975 | K101: 26.573 | M101: 1.222 | Q101: 17.166
A102: 0.865 | C102: 0.41 | D102: 1.341 | G102: 1.4 | I102: 2.663 | J102: 8.855 | K102: 14.951 | M102: 0.709 | Q102: 8.209
A103: 0.396 | C103: 0.557 | D103: 1.491 | G103: 3.049 | I103: 3.026 | J103: 10.542 | K103: 22.719 | Q103: 3.162
A104: 8.987 | C104: 5.126 | D104: 16.428 | G104: 2.63 | I104: 10.596 | J104: 11.799 | K104: 2.478 | Q104: 5.798
A105: 0.592 | C105: 4.689 | D105: 9.607 | G105: 0.315 | I105: 0.608 | J105: 1.723 | K105: 4.45 | Q105: 2.069
A106: 7.515 | C106: 7.78 | D106: 14.206 | G106: 1.266 | I106: 6.648 | J106: 1.594 | K106: 1.317 | Q106: 0.91
A107: 1.128 | C107: 0.385 | D107: 20.11 | G107: 0.962 | I107: 6.39 | J107: 4.437 | K107: 9.033 | Q107: 14.182
A108: 1.582 | C108: 11.946 | D108: 17.545 | G108: 0.567 | I108: 2.194 | J108: 7.825 | K108: 14.24 | Q108: 9.749334
A109: 0.621 | C109: 5.306 | D109: 7.455 | I109: 0.613 | J109: 0.891 | K109: 12.735
A110: 0.853 | D110: 0.869 | I110: 0.61 | J110: 12.198 | K110: 30.904
A111: 0.616 | D111: 10.698 | I111: 0.758 | J111: 12.457 | K111: 1.049
A112: 0.889 | D112: 2.772 | I112: 0.498 | J112: 10.737 | K112: 10.305
A113: 0.224 | D113: 15.953 | I113: 3.312 | J113: 10.554 | K113: 8.717
A114: 0.842 | D114: 11.704 | I114: 1.105 | J114: 3.452 | K114: 10.181
A115: 1.235 | D115: 9.085 | I115: 3.849 | K115: 23.151
A116: 0.27 | I116: 0.206 | K116: 11.304
A117: 0.914053 | I117: 4.566 | K117: 16.362
I118: 8.355 | K118: 9.614
I119: 4.531 | K119: 1.194
I120: 6.769
I121: 4.832
I122: 6.576
I123: 3.769
I124: 10.101
I125: 0.6

Sheet 6D_CPT n=3 Average
A1: DMSO | B1: Auranofin | C1: CPT | D1: Auranofin+CPT | E1: Auranofin+CPT+NAC
A2: =AVERAGE('6D_CPT'!A3:A125) -> 1.2139309 | B2: =AVERAGE('6D_CPT'!B3:B125) -> 1.5613178 | C2: =AVERAGE('6D_CPT'!C3:C125) -> 5.5176449 | D2: =AVERAGE('6D_CPT'!D3:D125) -> 11.938699 | E2: =AVERAGE('6D_CPT'!E3:E125) -> 9.7897245
A3: =AVERAGE('6D_CPT'!G3:G125) -> 0.86036792 | B3: =AVERAGE('6D_CPT'!H3:H125) -> 1.9092481 | C3: =AVERAGE('6D_CPT'!I3:I125) -> 4.028813 | D3: =AVERAGE('6D_CPT'!J3:J125) -> 9.7147679 | E3: =AVERAGE('6D_CPT'!K3:K125) -> 10.014419
A4: =AVERAGE('6D_CPT'!M3:M125) -> 0.6261 | B4: =AVERAGE('6D_CPT'!N3:N125) -> 1.6244795 | C4: =AVERAGE('6D_CPT'!O3:O125) -> 4.6981741 | D4: =AVERAGE('6D_CPT'!P3:P125) -> 9.4577639 | E4: =AVERAGE('6D_CPT'!Q3:Q125) -> 8.7873239

Sheet 6E
A1: Auranofin concentration(μM) | B1: HMEC(%) | E1: T47D(%) | H1: MCF-7(%) | K1: MDA-MB-231(%) | N1: BT549(%)
A2: 0 | B2: 99 | C2: 102 | D2: 100 | E2: 103 | F2: 100 | G2: 97 | H2: 101 | I2: 100 | J2: 99 | K2: 102 | L2: 103 | M2: 96 | N2: 97 | O2: 102 | P2: 100
A3: 0.01 | B3: 96 | C3: 100 | D3: 91 | E3: 91 | F3: 89 | G3: 100 | H3: 71 | I3: 92 | J3: 69 | K3: 100 | L3: 94 | M3: 86 | N3: 91 | O3: 93 | P3: 106
A4: 0.1 | B4: 93 | C4: 98 | D4: 85 | E4: 82 | F4: 79 | G4: 79 | H4: 66 | I4: 84 | J4: 64 | K4: 93 | L4: 89 | M4: 78 | N4: 87 | O4: 79 | P4: 77
A5: 1 | B5: 91 | C5: 94 | D5: 83 | E5: 65 | F5: 52 | G5: 64 | H5: 59 | I5: 76 | J5: 50 | K5: 73 | L5: 60 | M5: 58 | N5: 72 | O5: 72 | P5: 65
A6: 2 | B6: 88 | C6: 92 | D6: 80 | E6: 48 | F6: 55 | G6: 50 | H6: 46 | I6: 46 | J6: 37 | K6: 51 | L6: 43 | M6: 47 | N6: 48 | O6: 45 | P6: 44
A7: 4 | B7: 81 | C7: 89 | D7: 78 | E7: 44 | F7: 41 | G7: 29 | H7: 38 | I7: 40 | J7: 34 | K7: 35 | L7: 27 | M7: 27 | N7: 22 | O7: 22 | P7: 28
A8: 6 | B8: 81 | C8: 90 | D8: 70 | E8: 30 | F8: 28 | G8: 39 | H8: 31 | I8: 37 | J8: 34 | K8: 21 | L8: 16 | M8: 14 | N8: 30 | O8: 17 | P8: 23
A9: 8 | B9: 78 | C9: 85 | D9: 68 | E9: 30 | F9: 28 | G9: 28 | H9: 26 | I9: 28 | J9: 32 | K9: 20 | L9: 15 | M9: 15 | N9: 28 | O9: 23 | P9: 24
A10: 10 | B10: 73 | C10: 80 | D10: 65 | E10: 29 | F10: 16 | G10: 25 | H10: 27 | I10: 29 | J10: 32 | K10: 19 | L10: 14 | M10: 11 | N10: 23 | O10: 27 | P10: 21
A11: 15 | B11: 68 | C11: 75 | D11: 61 | E11: 29 | F11: 16 | G11: 24 | H11: 24 | I11: 31 | J11: 31 | K11: 17 | L11: 15 | M11: 13 | N11: 20 | O11: 23 | P11: 28

Sheet 6F_MDA-MB-231_CPT
A1: CPT concentration(nM) | B1: DMSO(%) | E1: Auranofin(%) | H1: Auranofin+NAC(%)
A2: 0 | B2: 112 | C2: 96 | D2: 92 | E2: 102 | F2: 95 | G2: 103 | H2: 97 | I2: 105 | J2: 97
A3: 25 | B3: 108 | C3: 93 | D3: 92 | E3: 81 | F3: 81 | G3: 92 | H3: 91 | I3: 95 | J3: 80
A4: 50 | B4: 103 | C4: 90 | D4: 93 | E4: 68 | F4: 65 | G4: 59 | H4: 72 | I4: 73 | J4: 68
A5: 100 | B5: 99 | C5: 84 | D5: 86 | E5: 42 | F5: 44 | G5: 48 | H5: 49 | I5: 58 | J5: 57
A6: 150 | B6: 93 | C6: 82 | D6: 84 | E6: 30 | F6: 42 | G6: 31 | H6: 45 | I6: 52 | J6: 37
A7: 200 | B7: 71 | C7: 82 | D7: 77 | E7: 23 | F7: 28 | G7: 23 | H7: 36 | I7: 32 | J7: 33

Sheet 6F_MDA-231_rucaparib
A1: rucaparib concentration(μM) | B1: DMSO(%) | E1: Auranofin(%) | H1: Auranofin+NAC(%)
A2: 0 | B2: 106 | C2: 91 | D2: 103 | E2: 113 | F2: 95 | G2: 92 | H2: 104 | I2: 100 | J2: 96
A3: 2 | B3: 105 | C3: 94 | D3: 93 | E3: 101 | F3: 85 | G3: 78 | H3: 104 | I3: 85 | J3: 90
A4: 4 | B4: 100 | C4: 89 | D4: 90 | E4: 102 | F4: 78 | G4: 71 | H4: 104 | I4: 85 | J4: 74
A5: 8 | B5: 86 | C5: 87 | D5: 92 | E5: 85 | F5: 69 | G5: 65 | H5: 92 | I5: 77 | J5: 66
A6: 16 | B6: 84 | C6: 79 | D6: 89 | E6: 57 | F6: 52 | G6: 50 | H6: 61 | I6: 63 | J6: 55
A7: 32 | B7: 79 | C7: 77 | D7: 74 | E7: 29 | F7: 30 | G7: 34 | H7: 40 | I7: 43 | J7: 36

Sheet 6F_BT-549_CPT
A1: CPT concentration(nM) | B1: DMSO(%) | E1: Auranofin(%) | H1: Auranofin+NAC(%)
A2: 0 | B2: 77 | C2: 106 | D2: 117 | E2: 108 | F2: 99 | G2: 93 | H2: 112 | I2: 94 | J2: 94
A3: 25 | B3: 74 | C3: 91 | D3: 96 | E3: 56 | F3: 50 | G3: 52 | H3: 57 | I3: 55 | J3: 59
A4: 50 | B4: 80 | C4: 75 | D4: 78 | E4: 31 | F4: 36 | G4: 25 | H4: 37 | I4: 38 | J4: 43
A5: 100 | B5: 74 | C5: 67 | D5: 68 | E5: 17 | F5: 21 | G5: 20 | H5: 24 | I5: 22 | J5: 30
A6: 150 | B6: 62 | C6: 65 | D6: 67 | E6: 15 | F6: 17 | G6: 15 | H6: 23 | I6: 24 | J6: 22
A7: 200 | B7: 55 | C7: 59 | D7: 54 | E7: 14 | F7: 12 | G7: 11 | H7: 20 | I7: 18 | J7: 17

Sheet 6F_BT-549_ruacparib
A1: rucaparib concentration(μM) | B1: DMSO(%) | E1: Auranofin(%) | H1: Auranofin+NAC(%)
A2: 0 | B2: 92 | C2: 113 | D2: 94 | E2: 106 | F2: 100 | G2: 93 | H2: 111 | I2: 102 | J2: 87
A3: 2 | B3: 96 | C3: 107 | D3: 97 | E3: 91 | F3: 83 | G3: 89 | H3: 94 | I3: 91 | J3: 88
A4: 4 | B4: 93 | C4: 107 | D4: 86 | E4: 62 | F4: 71 | G4: 68 | H4: 69 | I4: 64 | J4: 73
A5: 8 | B5: 96 | C5: 85 | D5: 98 | E5: 52 | F5: 49 | G5: 52 | H5: 55 | I5: 59 | J5: 57
A6: 16 | B6: 86 | C6: 72 | D6: 78 | E6: 39 | F6: 39 | G6: 50 | H6: 51 | I6: 52 | J6: 42
A7: 32 | B7: 58 | C7: 59 | D7: 65 | E7: 46 | F7: 35 | G7: 34 | H7: 45 | I7: 43 | J7: 42

Sheet 6G_CPT
A1: CPT concentration(nM) | B1: shControl/DMSO(%) | E1: shTrxR1-1/DMSO(%) | H1: shTrxR1-2/DMSO(%) | K1: shControl/auranofin(%) | N1: shTrxR1-1/auranofin(%) | Q1: shTrxR1-2/auranofin(%)
A2: 0 | B2: 103 | C2: 98 | D2: 100 | E2: 94 | F2: 108 | G2: 98 | H2: 100 | I2: 102 | J2: 98 | K2: 92 | L2: 105 | M2: 104 | N2: 105 | O2: 94 | P2: 101 | Q2: 103 | R2: 102 | S2: 95
A3: 25 | B3: 99 | C3: 98 | D3: 102 | E3: 91 | F3: 106 | G3: 93 | H3: 96 | I3: 102 | J3: 95 | K3: 79 | L3: 85 | M3: 89 | N3: 86 | O3: 93 | P3: 78 | Q3: 78 | R3: 81 | S3: 86
A4: 50 | B4: 96 | C4: 94 | D4: 105 | E4: 100 | F4: 97 | G4: 92 | H4: 86 | I4: 95 | J4: 100 | K4: 66 | L4: 66 | M4: 57 | N4: 62 | O4: 76 | P4: 65 | Q4: 60 | R4: 62 | S4: 74
A5: 100 | B5: 87 | C5: 93 | D5: 93 | E5: 94 | F5: 97 | G5: 88 | H5: 83 | I5: 94 | J5: 87 | K5: 43 | L5: 41 | M5: 48 | N5: 55 | O5: 48 | P5: 41 | Q5: 55 | R5: 53 | S5: 49
A6: 150 | B6: 78 | C6: 77 | D6: 88 | E6: 88 | F6: 72 | G6: 78 | H6: 78 | I6: 85 | J6: 70 | K6: 35 | L6: 35 | M6: 33 | N6: 39 | O6: 39 | P6: 33 | Q6: 34 | R6: 38 | S6: 42
A7: 200 | B7: 69 | C7: 79 | D7: 77 | E7: 67 | F7: 73 | G7: 78 | H7: 76 | I7: 65 | J7: 62 | K7: 22 | L7: 27 | M7: 24 | N7: 35 | O7: 32 | P7: 29 | Q7: 27 | R7: 27 | S7: 33

Sheet 6G_rucaparib
A1: rucaparib concentration(μM) | B1: shControl/DMSO(%) | E1: shTrxR1-1/DMSO(%) | H1: shTrxR1-2/DMSO(%) | K1: shControl/auranofin(%) | N1: shTrxR1-1/auranofin(%) | Q1: shTrxR1-2/auranofin(%)
A2: 0 | B2: 101 | C2: 97 | D2: 103 | E2: 105 | F2: 103 | G2: 92 | H2: 113 | I2: 96 | J2: 92 | K2: 105 | L2: 98 | M2: 97 | N2: 96 | O2: 109 | P2: 95 | Q2: 104 | R2: 100 | S2: 95
A3: 2 | B3: 100 | C3: 96 | D3: 98 | E3: 92 | F3: 102 | G3: 93 | H3: 110 | I3: 92 | J3: 85 | K3: 93 | L3: 91 | M3: 83 | N3: 86 | O3: 94 | P3: 83 | Q3: 97 | R3: 88 | S3: 87
A4: 4 | B4: 96 | C4: 94 | D4: 93 | E4: 87 | F4: 83 | G4: 101 | H4: 89 | I4: 93 | J4: 86 | K4: 87 | L4: 82 | M4: 79 | N4: 81 | O4: 88 | P4: 85 | Q4: 89 | R4: 86 | S4: 82
A5: 8 | B5: 90 | C5: 87 | D5: 86 | E5: 77 | F5: 82 | G5: 92 | H5: 96 | I5: 88 | J5: 74 | K5: 81 | L5: 74 | M5: 69 | N5: 76 | O5: 74 | P5: 68 | Q5: 78 | R5: 78 | S5: 75
A6: 16 | B6: 86 | C6: 85 | D6: 83 | E6: 77 | F6: 78 | G6: 87 | H6: 84 | I6: 78 | J6: 83 | K6: 58 | L6: 55 | M6: 49 | N6: 54 | O6: 62 | P6: 60 | Q6: 64 | R6: 60 | S6: 57
A7: 32 | B7: 81 | C7: 72 | D7: 73 | E7: 69 | F7: 62 | G7: 73 | H7: 66 | I7: 78 | J7: 73 | K7: 31 | L7: 28 | M7: 35 | N7: 34 | O7: 47 | P7: 30 | Q7: 33 | R7: 39 | S7: 47

Sheet 6H_CPT
A1: CPT concentration(nM) | B1: shControl/DMSO(%) | E1: shTOPBP1-1/DMSO(%) | H1: shTOPBP1-2/DMSO(%) | K1: shControl/auranofin(%) | N1: shTOPBP1-1/auranofin(%) | Q1: shTOPBP1-2/auranofin(%)
A2: 0 | B2: 100 | C2: 94 | D2: 105 | E2: 99 | F2: 103 | G2: 98 | H2: 101 | I2: 104 | J2: 95 | K2: 97 | L2: 100 | M2: 103 | N2: 101 | O2: 101 | P2: 98 | Q2: 95 | R2: 100 | S2: 104
A3: 25 | B3: 101 | C3: 95 | D3: 100 | E3: 89 | F3: 86 | G3: 81 | H3: 87 | I3: 80 | J3: 93 | K3: 87 | L3: 82 | M3: 81 | N3: 77 | O3: 79 | P3: 85 | Q3: 86 | R3: 72 | S3: 86
A4: 50 | B4: 99 | C4: 92 | D4: 92 | E4: 60 | F4: 65 | G4: 63 | H4: 60 | I4: 63 | J4: 71 | K4: 63 | L4: 67 | M4: 56 | N4: 62 | O4: 61 | P4: 53 | Q4: 57 | R4: 58 | S4: 63
A5: 100 | B5: 97 | C5: 93 | D5: 88 | E5: 47 | F5: 44 | G5: 51 | H5: 53 | I5: 51 | J5: 47 | K5: 49 | L5: 45 | M5: 43 | N5: 36 | O5: 46 | P5: 45 | Q5: 41 | R5: 42 | S5: 46
A6: 150 | B6: 82 | C6: 85 | D6: 88 | E6: 41 | F6: 35 | G6: 37 | H6: 40 | I6: 46 | J6: 31 | K6: 34 | L6: 37 | M6: 30 | N6: 28 | O6: 29 | P6: 34 | Q6: 33 | R6: 35 | S6: 27
A7: 200 | B7: 72 | C7: 81 | D7: 75 | E7: 27 | F7: 35 | G7: 29 | H7: 31 | I7: 23 | J7: 32 | K7: 28 | L7: 26 | M7: 23 | N7: 24 | O7: 23 | P7: 28 | Q7: 19 | R7: 19 | S7: 24

Sheet 6H_rucaparib
A1: rucaparib concentration(μM) | B1: shControl/DMSO(%) | E1: shTOPBP1-1/DMSO(%) | H1: shTOPBP1-2/DMSO(%) | K1: shControl/auranofin(%) | N1: shTOPBP1-1/auranofin(%) | Q1: shTOPBP1-2/auranofin(%)
A2: 0 | B2: 108 | C2: 97 | D2: 95 | E2: 102 | F2: 98 | G2: 101 | H2: 98 | I2: 102 | J2: 100 | K2: 101 | L2: 99 | M2: 101 | N2: 101 | O2: 99 | P2: 101 | Q2: 104 | R2: 95 | S2: 101
A3: 2 | B3: 106 | C3: 97 | D3: 91 | E3: 97 | F3: 86 | G3: 88 | H3: 85 | I3: 89 | J3: 91 | K3: 93 | L3: 91 | M3: 83 | N3: 92 | O3: 81 | P3: 85 | Q3: 93 | R3: 80 | S3: 85
A4: 4 | B4: 101 | C4: 96 | D4: 86 | E4: 90 | F4: 78 | G4: 84 | H4: 83 | I4: 82 | J4: 88 | K4: 91 | L4: 88 | M4: 75 | N4: 83 | O4: 78 | P4: 80 | Q4: 85 | R4: 78 | S4: 81
A5: 8 | B5: 88 | C5: 92 | D5: 85 | E5: 81 | F5: 66 | G5: 82 | H5: 74 | I5: 73 | J5: 85 | K5: 86 | L5: 73 | M5: 63 | N5: 74 | O5: 64 | P5: 73 | Q5: 76 | R5: 71 | S5: 67
A6: 16 | B6: 87 | C6: 86 | D6: 78 | E6: 58 | F6: 53 | G6: 60 | H6: 58 | I6: 62 | J6: 53 | K6: 63 | L6: 55 | M6: 52 | N6: 58 | O6: 54 | P6: 55 | Q6: 48 | R6: 55 | S6: 54
A7: 32 | B7: 75 | C7: 83 | D7: 69 | E7: 38 | F7: 36 | G7: 32 | H7: 35 | I7: 30 | J7: 32 | K7: 32 | L7: 38 | M7: 30 | N7: 27 | O7: 30 | P7: 35 | Q7: 26 | R7: 35 | S7: 28

Sheet 7A_Tumor volume
A1: Days | B1: DMSO | H1: Auranofin | N1: Rucaparib | T1: Auranofin+Rucaparib
A2: 1 | B2: 37 | C2: 34 | D2: 31 | E2: 37 | F2: 33 | G2: 39 | H2: 33 | I2: 33 | J2: 32 | K2: 30 | L2: 34 | M2: 38 | N2: 34 | O2: 33 | P2: 33 | Q2: 34 | R2: 33 | S2: 38 | T2: 35 | U2: 40 | V2: 31 | W2: 36 | X2: 37 | Y2: 34
A3: 3 | B3: 52 | C3: 50 | D3: 52 | E3: 55 | F3: 50 | G3: 48 | H3: 42 | I3: 42 | J3: 40 | K3: 41 | L3: 44 | M3: 38 | N3: 40 | O3: 44 | P3: 41 | Q3: 41 | R3: 39 | S3: 38 | T3: 35 | U3: 41 | V3: 35 | W3: 38 | X3: 38 | Y3: 38
A4: 5 | B4: 150 | C4: 80 | D4: 78 | E4: 82 | F4: 72 | G4: 70 | H4: 68 | I4: 75 | J4: 62 | K4: 45 | L4: 56 | M4: 55 | N4: 75 | O4: 65 | P4: 55 | Q4: 66 | R4: 51 | S4: 60 | T4: 36 | U4: 42 | V4: 38 | W4: 37 | X4: 38 | Y4: 42
A5: 7 | B5: 320 | C5: 121 | D5: 132 | E5: 141 | F5: 151 | G5: 141 | H5: 111 | I5: 99 | J5: 101 | K5: 77 | L5: 101 | M5: 88 | N5: 144 | O5: 102 | P5: 133 | Q5: 104 | R5: 101 | S5: 98 | T5: 39 | U5: 66 | V5: 54 | W5: 45 | X5: 44 | Y5: 55
A6: 9 | B6: 522 | C6: 245 | D6: 252 | E6: 304 | F6: 325 | G6: 381 | H6: 224 | I6: 181 | J6: 219 | K6: 142 | L6: 216 | M6: 144 | N6: 204 | O6: 145 | P6: 227 | Q6: 201 | R6: 187 | S6: 158 | T6: 43 | U6: 84 | V6: 81 | W6: 55 | X6: 57 | Y6: 70
A7: 11 | B7: 825 | C7: 350 | D7: 335 | E7: 448 | F7: 401 | G7: 521 | H7: 485 | I7: 308 | J7: 287 | K7: 187 | L7: 304 | M7: 174 | N7: 322 | O7: 204 | P7: 340 | Q7: 271 | R7: 255 | S7: 212 | T7: 52 | U7: 145 | V7: 127 | W7: 78 | X7: 78 | Y7: 87
A8: 13 | B8: 1100 | C8: 600 | D8: 425 | E8: 621 | F8: 522 | G8: 685 | H8: 622 | I8: 541 | J8: 351 | K8: 212 | L8: 407 | M8: 225 | N8: 483 | O8: 251 | P8: 420 | Q8: 351 | R8: 332 | S8: 304 | T8: 64 | U8: 220 | V8: 204 | W8: 98 | X8: 104 | Y8: 100
A9: 15 | B9: 1400 | C9: 812 | D9: 554 | E9: 788 | F9: 701 | G9: 870 | H9: 602 | I9: 541 | J9: 355 | K9: 231 | L9: 456 | M9: 250 | N9: 589 | O9: 300 | P9: 521 | Q9: 444 | R9: 452 | S9: 425 | T9: 88 | U9: 275 | V9: 255 | W9: 112 | X9: 124 | Y9: 115
A10: 17 | B10: 1652 | C10: 1055 | D10: 655 | E10: 988 | F10: 855 | G10: 1058 | H10: 785 | I10: 652 | J10: 425 | K10: 287 | L10: 589 | M10: 300 | N10: 708 | O10: 387 | P10: 658 | Q10: 540 | R10: 581 | S10: 544 | T10: 101 | U10: 334 | V10: 287 | W10: 133 | X10: 164 | Y10: 157
A11: 19 | B11: 1980 | C11: 1482 | D11: 879.90976 | E11: 1208.7015 | F11: 1078.959 | G11: 1453.8535 | H11: 987 | I11: 816 | J11: 542.32695 | K11: 322.48481 | L11: 737.73146 | M11: 360.64579 | N11: 908 | O11: 489 | P11: 792.25838 | Q11: 630.76507 | R11: 689.40123 | S11: 680 | T11: 129 | U11: 353 | V11: 322.83727 | W11: 169.86365 | X11: 203.78076 | Y11: 197.50298

Sheet 7A_Tumor weight
A1: DMSO | B1: Auranofin | C1: Rucaparib | D1: Auranofin+Rucaparib
A2: 1.08 | B2: 0.85 | C2: 0.89 | D2: 0.12
A3: 1.14 | B3: 0.75 | C3: 0.77 | D3: 0.24
A4: 1 | B4: 0.61 | C4: 0.62 | D4: 0.22
A5: 0.9 | B5: 0.5 | C5: 0.58 | D5: 0.16
A6: 0.75 | B6: 0.47 | C6: 0.47 | D6: 0.14
A7: 0.74 | B7: 0.55 | C7: 0.47 | D7: 0.13

Sheet 7B_Tumor volume
A1: Days | B1: DMSO | H1: Auranofin | N1: Rucaparib | T1: Auranofin+Rucaparib
A2: 1 | B2: 36 | C2: 33 | D2: 32 | E2: 37 | F2: 34 | G2: 34 | H2: 37 | I2: 33 | J2: 35 | K2: 32 | L2: 32 | M2: 37 | N2: 35 | O2: 34 | P2: 32 | Q2: 30 | R2: 36 | S2: 35 | T2: 33 | U2: 37 | V2: 38 | W2: 32 | X2: 34 | Y2: 30
A3: 3 | B3: 62 | C3: 65 | D3: 67 | E3: 70 | F3: 60 | G3: 62 | H3: 55 | I3: 60 | J3: 62 | K3: 51 | L3: 62 | M3: 40 | N3: 53 | O3: 60 | P3: 60 | Q3: 66 | R3: 45 | S3: 42 | T3: 34 | U3: 44 | V3: 40 | W3: 36 | X3: 37 | Y3: 40
A4: 5 | B4: 120 | C4: 120 | D4: 150 | E4: 120 | F4: 90 | G4: 102 | H4: 100 | I4: 100 | J4: 80 | K4: 70 | L4: 88 | M4: 52 | N4: 95 | O4: 88 | P4: 90 | Q4: 80 | R4: 70 | S4: 58 | T4: 36 | U4: 52 | V4: 42 | W4: 38 | X4: 39 | Y4: 49
A5: 7 | B5: 302 | C5: 200 | D5: 350 | E5: 250 | F5: 180 | G5: 200 | H5: 210 | I5: 175 | J5: 120 | K5: 100 | L5: 110 | M5: 69 | N5: 200 | O5: 122 | P5: 145 | Q5: 112 | R5: 98 | S5: 76 | T5: 40 | U5: 70 | V5: 64 | W5: 50 | X5: 50 | Y5: 60
A6: 9 | B6: 401 | C6: 380 | D6: 620 | E6: 420 | F6: 400 | G6: 300 | H6: 258 | I6: 360 | J6: 278 | K6: 188 | L6: 142 | M6: 88 | N6: 332 | O6: 324 | P6: 320 | Q6: 202 | R6: 121 | S6: 89 | T6: 45 | U6: 108 | V6: 100 | W6: 66 | X6: 66 | Y6: 71
A7: 11 | B7: 620 | C7: 480 | D7: 750 | E7: 555 | F7: 502 | G7: 400 | H7: 336 | I7: 487 | J7: 354 | K7: 221 | L7: 200 | M7: 102 | N7: 410 | O7: 400 | P7: 400 | Q7: 287 | R7: 161 | S7: 102 | T7: 52 | U7: 145 | V7: 127 | W7: 78 | X7: 78 | Y7: 87
A8: 13 | B8: 752 | C8: 601 | D8: 888 | E8: 687 | F8: 641 | G8: 489 | H8: 421 | I8: 559 | J8: 446 | K8: 288 | L8: 248 | M8: 134 | N8: 500 | O8: 488 | P8: 498 | Q8: 359 | R8: 198 | S8: 128 | T8: 148 | U8: 106 | V8: 100 | W8: 102 | X8: 70 | Y8: 68
A9: 15 | B9: 865 | C9: 722 | D9: 1008 | E9: 802 | F9: 721 | G9: 600 | H9: 504 | I9: 654 | J9: 521 | K9: 345 | L9: 302 | M9: 188 | N9: 621 | O9: 592 | P9: 602 | Q9: 429 | R9: 231 | S9: 168 | T9: 201 | U9: 129 | V9: 114 | W9: 120 | X9: 78 | Y9: 80
A10: 17 | B10: 1000 | C10: 842 | D10: 1222 | E10: 921 | F10: 845 | G10: 702 | H10: 612 | I10: 789 | J10: 645 | K10: 421 | L10: 389 | M10: 224 | N10: 804 | O10: 704 | P10: 724 | Q10: 520 | R10: 297 | S10: 204 | T10: 221 | U10: 154 | V10: 142 | W10: 159 | X10: 95 | Y10: 93
A11: 19 | B11: 1250 | C11: 1059 | D11: 1524 | E11: 1152 | F11: 1058 | G11: 847 | H11: 750 | I11: 908 | J11: 750 | K11: 506 | L11: 422 | M11: 288 | N11: 908 | O11: 827 | P11: 847 | Q11: 650 | R11: 352 | S11: 245 | T11: 281 | U11: 180 | V11: 162 | W11: 211 | X11: 108 | Y11: 108

Sheet 7B_Tumor weight
A1: DMSO | B1: Auranofin | C1: Rucaparib | D1: Auranofin+Rucaparib
A2: 0.97 | B2: 0.75 | C2: 0.74 | D2: 0.07
A3: 1.09 | B3: 0.81 | C3: 0.78 | D3: 0.22
A4: 0.67 | B4: 0.62 | C4: 0.64 | D4: 0.23
A5: 0.86 | B5: 0.52 | C5: 0.55 | D5: 0.17
A6: 0.82 | B6: 0.49 | C6: 0.45 | D6: 0.12
A7: 0.76 | B7: 0.33 | C7: 0.31 | D7: 0.14

Sheet 7C_Tumor volume
A1: Days | B1: DMSO | L1: Auranofin | V1: Rucaparib | AF1: Auranofin+Rucaparib
A2: 1 | B2: 40 | C2: 39 | D2: 42 | E2: 38 | F2: 40 | G2: 41 | H2: 37 | I2: 40 | J2: 34 | K2: 33 | L2: 38 | M2: 40 | N2: 40 | O2: 36 | P2: 38 | Q2: 40 | R2: 36 | S2: 38 | T2: 35 | U2: 37 | V2: 38 | W2: 40 | X2: 38 | Y2: 40 | Z2: 36 | AA2: 38 | AB2: 38 | AC2: 36 | AD2: 36 | AE2: 40 | AF2: 38 | AG2: 38 | AH2: 39 | AI2: 38 | AJ2: 34 | AK2: 34 | AL2: 38 | AM2: 34 | AN2: 36 | AO2: 42
A3: 3 | B3: 90 | C3: 80 | D3: 80 | E3: 88 | F3: 70 | G3: 70 | H3: 70 | I3: 65 | J3: 55 | K3: 53 | L3: 70 | M3: 70 | N3: 62 | O3: 56 | P3: 62 | Q3: 60 | R3: 55 | S3: 55 | T3: 56 | U3: 62 | V3: 68 | W3: 70 | X3: 68 | Y3: 70 | Z3: 60 | AA3: 55 | AB3: 45 | AC3: 46 | AD3: 50 | AE3: 46 | AF3: 53 | AG3: 52 | AH3: 54 | AI3: 45 | AJ3: 40 | AK3: 62 | AL3: 40 | AM3: 42 | AN3: 36 | AO3: 40
A4: 5 | B4: 160 | C4: 130 | D4: 120 | E4: 150 | F4: 180 | G4: 140 | H4: 120 | I4: 100 | J4: 100 | K4: 125 | L4: 120 | M4: 100 | N4: 100 | O4: 75 | P4: 88 | Q4: 90 | R4: 75 | S4: 70 | T4: 88 | U4: 78 | V4: 105 | W4: 110 | X4: 102 | Y4: 105 | Z4: 108 | AA4: 104 | AB4: 72 | AC4: 50 | AD4: 65 | AE4: 64 | AF4: 88 | AG4: 76 | AH4: 54 | AI4: 60 | AJ4: 46 | AK4: 80 | AL4: 42 | AM4: 40 | AN4: 35 | AO4: 42
A5: 7 | B5: 270 | C5: 210 | D5: 240 | E5: 250 | F5: 280 | G5: 350 | H5: 188 | I5: 220 | J5: 200 | K5: 250 | L5: 150 | M5: 150 | N5: 180 | O5: 175 | P5: 166 | Q5: 155 | R5: 102 | S5: 120 | T5: 140 | U5: 110 | V5: 115 | W5: 180 | X5: 182 | Y5: 150 | Z5: 182 | AA5: 200 | AB5: 108 | AC5: 70 | AD5: 98 | AE5: 100 | AF5: 108 | AG5: 108 | AH5: 76 | AI5: 85 | AJ5: 48 | AK5: 108 | AL5: 45 | AM5: 40 | AN5: 35 | AO5: 42
A6: 9 | B6: 420 | C6: 372 | D6: 350 | E6: 420 | F6: 480 | G6: 520 | H6: 280 | I6: 380 | J6: 400 | K6: 320 | L6: 220 | M6: 210 | N6: 320 | O6: 205 | P6: 202 | Q6: 250 | R6: 160 | S6: 200 | T6: 220 | U6: 160 | V6: 202 | W6: 202 | X6: 202 | Y6: 245 | Z6: 250 | AA6: 400 | AB6: 180 | AC6: 100 | AD6: 128 | AE6: 140 | AF6: 128 | AG6: 122 | AH6: 88 | AI6: 98 | AJ6: 68 | AK6: 148 | AL6: 55 | AM6: 45 | AN6: 40 | AO6: 50
A7: 11 | B7: 620 | C7: 498 | D7: 544 | E7: 644 | F7: 540 | G7: 680 | H7: 320 | I7: 450 | J7: 488 | K7: 380 | L7: 362 | M7: 326 | N7: 416 | O7: 250 | P7: 250 | Q7: 310 | R7: 210 | S7: 250 | T7: 280 | U7: 220 | V7: 356 | W7: 280 | X7: 254 | Y7: 350 | Z7: 312 | AA7: 480 | AB7: 240 | AC7: 120 | AD7: 168 | AE7: 180 | AF7: 188 | AG7: 178 | AH7: 102 | AI7: 120 | AJ7: 78 | AK7: 189 | AL7: 66 | AM7: 54 | AN7: 46 | AO7: 60
A8: 13 | B8: 898 | C8: 560 | D8: 622 | E8: 742 | F8: 650 | G8: 880 | H8: 540 | I8: 610 | J8: 588 | K8: 420 | L8: 520 | M8: 400 | N8: 480 | O8: 300 | P8: 300 | Q8: 400 | R8: 302 | S8: 300 | T8: 345 | U8: 270 | V8: 510 | W8: 320 | X8: 300 | Y8: 500 | Z8: 380 | AA8: 600 | AB8: 300 | AC8: 184 | AD8: 205 | AE8: 200 | AF8: 220 | AG8: 200 | AH8: 132 | AI8: 140 | AJ8: 92 | AK8: 220 | AL8: 76 | AM8: 66 | AN8: 54 | AO8: 68
A9: 15 | B9: 1000 | C9: 660 | D9: 712 | E9: 886 | F9: 750 | G9: 1000 | H9: 780 | I9: 708 | J9: 684 | K9: 505 | L9: 660 | M9: 540 | N9: 602 | O9: 354 | P9: 340 | Q9: 460 | R9: 421 | S9: 380 | T9: 356 | U9: 310 | V9: 650 | W9: 380 | X9: 387 | Y9: 679 | Z9: 450 | AA9: 655 | AB9: 397 | AC9: 202 | AD9: 280 | AE9: 240 | AF9: 280 | AG9: 232 | AH9: 158 | AI9: 189 | AJ9: 102 | AK9: 254 | AL9: 76 | AM9: 78 | AN9: 60 | AO9: 84
A10: 17 | B10: 1280 | C10: 780 | D10: 785 | E10: 986 | F10: 750 | G10: 1155 | H10: 870 | I10: 880 | J10: 840 | K10: 602 | L10: 880 | M10: 620 | N10: 712 | O10: 420 | P10: 420 | Q10: 498 | R10: 480 | S10: 560 | T10: 430 | U10: 400 | V10: 880 | W10: 450 | X10: 448 | Y10: 885 | Z10: 450 | AA10: 680 | AB10: 450 | AC10: 290 | AD10: 320 | AE10: 300 | AF10: 320 | AG10: 280 | AH10: 202 | AI10: 240 | AJ10: 102 | AK10: 200 | AL10: 88 | AM10: 90 | AN10: 66 | AO10: 96
A11: 19 | B11: 1680 | C11: 1080 | D11: 968 | E11: 1152 | F11: 900 | G11: 1436 | H11: 1080 | I11: 1080 | J11: 1080 | K11: 726 | L11: 1028 | M11: 750 | N11: 864 | O11: 500 | P11: 500 | Q11: 550 | R11: 600 | S11: 650 | T11: 550 | U11: 486 | V11: 1080 | W11: 550 | X11: 600 | Y11: 1028 | Z11: 600 | AA11: 750 | AB11: 600 | AC11: 400 | AD11: 400 | AE11: 400 | AF11: 400 | AG11: 350 | AH11: 256 | AI11: 300 | AJ11: 144 | AK11: 300 | AL11: 108 | AM11: 112 | AN11: 75 | AO11: 108

Sheet 7C_Tumor weight
A1: DMSO | B1: Auranofin | C1: Rucaparib | D1: Auranofin+Rucaparib
A2: 1.19 | B2: 0.74 | C2: 0.88 | D2: 0.21
A3: 0.9 | B3: 0.81 | C3: 0.74 | D3: 0.17
A4: 0.9 | B4: 0.68 | C4: 0.52 | D4: 0.17
A5: 1.11 | B5: 0.51 | C5: 0.61 | D5: 0.19
A6: 0.81 | B6: 0.56 | C6: 0.45 | D6: 0.11
A7: 0.79 | B7: 0.62 | C7: 0.52 | D7: 0.17
A8: 0.82 | B8: 0.4 | C8: 0.54 | D8: 0.13
A9: 1.1 | B9: 0.5 | C9: 0.47 | D9: 0.07
A10: 0.64 | B10: 0.33 | C10: 0.35 | D10: 0.1
A11: 0.94 | B11: 0.45 | C11: 0.51 | D11: 0.1

Sheet 7D
A1: Auranofin+Rucaparib | B1: Auranofin+Rucaparib+NAC
A2: 0.16 | B2: 0.15
A3: 0.13 | B3: 0.12
A4: 0.12 | B4: 0.13
A5: 0.14 | B5: 0.14
A6: 0.12 | B6: 0.13
A7: 0.11 | B7: 0.12

Sheet 7E
A1: Auranofin+Rucaparib | B1: Auranofin+Rucaparib+NAC
A2: 0.16 | B2: 0.16
A3: 0.14 | B3: 0.15
A4: 0.12 | B4: 0.12
A5: 0.11 | B5: 0.13
A6: 0.1 | B6: 0.1
A7: 0.12 | B7: 0.11

Sheet 7F
A1: Auranofin+Rucaparib | B1: Auranofin+Rucaparib+NAC
A2: 0.16 | B2: 0.12
A3: 0.13 | B3: 0.1
A4: 0.12 | B4: 0.1
A5: 0.09 | B5: 0.14
A6: 0.1 | B6: 0.13
A7: 0.1 | B7: 0.11
A8: 0.08 | B8: 0.08
A9: 0.1 | B9: 0.09
A10: 0.08 | B10: 0.12
A11: 0.09 | B11: 0.1

Sheet 7G_Tumor volume
A1: Days | B1: DMSO | H1: Auranofin | N1: Rucaparib | T1: Auranofin +Rucaparib | Z1: Auranofin +Rucaparib+NAC
A2: 1 | B2: 34.4605 | C2: 34.4 | D2: 40.678 | E2: 44.528 | F2: 40.572 | G2: 36.982 | H2: 38.808 | I2: 32.8 | J2: 41.6025 | K2: 41.454 | L2: 34.4 | M2: 41.454 | N2: 40.572 | O2: 41.6025 | P2: 35.301 | Q2: 36 | R2: 41.454 | S2: 35.2 | T2: 40.572 | U2: 34.4 | V2: 37.8225 | W2: 32.8 | X2: 37.926 | Y2: 32 | Z2: 37.044 | AA2: 43.56 | AB2: 40.572 | AC2: 41.6025 | AD2: 38.808 | AE2: 32
A3: 3 | B3: 65 | C3: 71.424 | D3: 51.6375 | E3: 60.75 | F3: 62.208 | G3: 50.784 | H3: 58.752 | I3: 67.5 | J3: 66.3255 | K3: 62.426 | L3: 66.25 | M3: 57.434 | N3: 66.25 | O3: 66.25 | P3: 62.426 | Q3: 61.056 | R3: 66.25 | S3: 51.6375 | T3: 57.434 | U3: 62.208 | V3: 56.448 | W3: 46.464 | X3: 58.8245 | Y3: 41.6025 | Z3: 66.25 | AA3: 53.016 | AB3: 58.19 | AC3: 50.784 | AD3: 49.6125 | AE3: 38.663
A4: 5 | B4: 122.4 | C4: 103.933 | D4: 78.416 | E4: 85 | F4: 107.911 | G4: 109.8 | H4: 90.75 | I4: 97.216 | J4: 104.284 | K4: 86.528 | L4: 93.775 | M4: 71.5275 | N4: 93.775 | O4: 109.8 | P4: 94.08 | Q4: 81.12 | R4: 88.938 | S4: 77.5 | T4: 70 | U4: 78.75 | V4: 66.25 | W4: 57.434 | X4: 60.025 | Y4: 48.6 | Z4: 87.48 | AA4: 63.75 | AB4: 71.424 | AC4: 56.448 | AD4: 53.6625 | AE4: 48.6
A5: 7 | B5: 217.728 | C5: 205.768 | D5: 120.9325 | E5: 147.6 | F5: 157.115 | G5: 104.976 | H5: 126.852 | I5: 154.2125 | J5: 145.408 | K5: 119.422 | L5: 130.235 | M5: 97.686 | N5: 143.36 | O5: 139.264 | P5: 122.4 | Q5: 100.352 | R5: 117.74 | S5: 96.9105 | T5: 82.472 | U5: 90.584 | V5: 81.648 | W5: 68.4285 | X5: 67.5 | Y5: 57.6 | Z5: 107.648 | AA5: 77.2475 | AB5: 85 | AC5: 62.5 | AD5: 62.9565 | AE5: 52.9
A6: 9 | B6: 359.5275 | C6: 316.8 | D6: 176.4 | E6: 194.35 | F6: 238.206 | G6: 152.561 | H6: 171.088 | I6: 224.516 | J6: 207.36 | K6: 153.76 | L6: 163.35 | M6: 135 | N6: 202.176 | O6: 176.4 | P6: 156.325 | Q6: 129.6 | R6: 135 | S6: 117.6 | T6: 105.5925 | U6: 104.976 | V6: 89.376 | W6: 75 | X6: 78.652 | Y6: 51.842 | Z6: 132.618 | AA6: 90.75 | AB6: 95 | AC6: 71.656 | AD6: 72.03 | AE6: 57.434
A7: 11 | B7: 567.018 | C7: 406.78 | D7: 225.264 | E7: 259.2 | F7: 329.476 | G7: 230.3 | H7: 246.42 | I7: 318.2085 | J7: 281.6 | K7: 203.456 | L7: 217.728 | M7: 173.225 | N7: 275.2 | O7: 225 | P7: 240.944 | Q7: 175.3375 | R7: 177.45 | S7: 184.96 | T7: 129.6 | U7: 123.462 | V7: 108 | W7: 84.5325 | X7: 60.7475 | Y7: 47.5875 | Z7: 158.994 | AA7: 111.392 | AB7: 113.568 | AC7: 80.19 | AD7: 77.5 | AE7: 59.643
A8: 13 | B8: 677.217 | C8: 507.84 | D8: 352.352 | E8: 390.15 | F8: 449.55 | G8: 375.7 | H8: 341.0055 | I8: 402.688 | J8: 331.632 | K8: 273.8 | L8: 317.52 | M8: 229.3655 | N8: 339.575 | O8: 295.856 | P8: 322.752 | Q8: 230.3 | R8: 232.75 | S8: 232.73 | T8: 150.822 | U8: 144 | V8: 121.086 | W8: 94.64 | X8: 64.061 | Y8: 40.572 | Z8: 188.65 | AA8: 136.462 | AB8: 121.68 | AC8: 87.48 | AD8: 89.888 | AE8: 66.0275
A9: 15 | B9: 861.184 | C9: 660 | D9: 567.018 | E9: 581.042 | F9: 562.176 | G9: 521.324 | H9: 472.726 | I9: 484.344 | J9: 437.4 | K9: 349.648 | L9: 401.6285 | M9: 288.8 | N9: 421.2 | O9: 372.287 | P9: 389.8035 | Q9: 314.792 | R9: 282.014 | S9: 312.666 | T9: 173.225 | U9: 166.698 | V9: 148.104 | W9: 116.032 | X9: 69.12 | Y9: 37.6 | Z9: 224.516 | AA9: 159.744 | AB9: 134.832 | AC9: 104.284 | AD9: 102.85 | AE9: 67.228
A10: 17 | B10: 966.306 | C10: 778.752 | D10: 732.05 | E10: 697.068 | F10: 793.8 | G10: 727.65 | H10: 612.06 | I10: 620 | J10: 609.854 | K10: 445.5 | L10: 520 | M10: 358.4 | N10: 496.375 | O10: 510 | P10: 465.52 | Q10: 416.304 | R10: 355.2 | S10: 403.971 | T10: 208.25 | U10: 225.4 | V10: 176.4 | W10: 138.6 | X10: 77.5 | Y10: 39.5035 | Z10: 264.654 | AA10: 194.208 | AB10: 154.275 | AC10: 118.8 | AD10: 113.715 | AE10: 72.5
A11: 19 | B11: 1310.788 | C11: 1153.51 | D11: 988.2675 | E11: 895.4 | F11: 1026.684 | G11: 952.2 | H11: 768.35 | I11: 789.981 | J11: 818.6035 | K11: 605.052 | L11: 652.593 | M11: 473.0625 | N11: 595 | O11: 665.336 | P11: 600 | Q11: 521.703 | R11: 443.76 | S11: 523.418 | T11: 249.158 | U11: 275.625 | V11: 205.1665 | W11: 148.84 | X11: 86.528 | Y11: 40.344 | Z11: 295.245 | AA11: 233.28 | AB11: 163.35 | AC11: 120.6 | AD11: 115.3395 | AE11: 75

Sheet 7G_Tumor weight
B1: DMSO | C1: Auranofin | D1: Rucaparib | E1: Auranofin+Rucaparib | F1: Auranofin+Rucaparib+NAC
A2: 1 | B2: 1 | C2: 0.67 | D2: 0.62 | E2: 0.35 | F2: 0.25
A3: 2 | B3: 0.87 | C3: 0.82 | D3: 0.68 | E3: 0.26 | F3: 0.26
A4: 3 | B4: 1 | C4: 0.82 | D4: 0.74 | E4: 0.17 | F4: 0.2
A5: 4 | B5: 0.7 | C5: 0.67 | D5: 0.5 | E5: 0.12 | F5: 0.11
A6: 5 | B6: 0.91 | C6: 0.74 | D6: 0.5 | E6: 0.07 | F6: 0.05
A7: 6 | B7: 0.77 | C7: 0.5 | D7: 0.5 | E7: 0.06 | F7: 0.04

Sheet 7H_Tumor volume
A1: Days | B1: DMSO | H1: Auranofin | N1: Rucaparib | T1: Auranofin +Rucaparib | Z1: Auranofin +Rucaparib+NAC
A2: 1 | B2: 32 | C2: 32 | D2: 32.8 | E2: 35.301 | F2: 33.6 | G2: 34.4 | H2: 36.1415 | I2: 37.926 | J2: 35.301 | K2: 32 | L2: 32 | M2: 35.301 | N2: 32.8 | O2: 35.301 | P2: 36.982 | Q2: 37.044 | R2: 32.8 | S2: 33.6 | T2: 34.4605 | U2: 32.8 | V2: 36.1415 | W2: 35.301 | X2: 32 | Y2: 37.044 | Z2: 35.301 | AA2: 34.4 | AB2: 35.301 | AC2: 32 | AD2: 32.8 | AE2: 32
A3: 3 | B3: 60.025 | C3: 73.008 | D3: 90.944 | E3: 70.304 | F3: 84.564 | G3: 73.008 | H3: 72.5 | I3: 71.25 | J3: 57.7125 | K3: 62.208 | L3: 70 | M3: 73.008 | N3: 67.5 | O3: 68.75 | P3: 58.19 | Q3: 75.429 | R3: 42.527 | S3: 55.6875 | T3: 43.56 | U3: 48.074 | V3: 45.3005 | W3: 40.678 | X3: 37.926 | Y3: 37.926 | Z3: 67.5 | AA3: 46.575 | AB3: 44.376 | AC3: 48.4 | AD3: 43.56 | AE3: 40.572
A4: 5 | B4: 107.911 | C4: 142.228 | D4: 147.875 | E4: 111.6 | F4: 143.65 | G4: 122.4 | H4: 95.2875 | I4: 107.648 | J4: 87.1335 | K4: 81.12 | L4: 88.938 | M4: 109.8 | N4: 90.75 | O4: 90.396 | P4: 74.431 | Q4: 96.8 | R4: 58.752 | S4: 80 | T4: 59.904 | U4: 69.12 | V4: 54.675 | W4: 49.726 | X4: 49.726 | Y4: 40.678 | Z4: 88.938 | AA4: 67.626 | AB4: 52.65 | AC4: 58.19 | AD4: 57.6 | AE4: 67.626
A5: 7 | B5: 180.918 | C5: 174.24 | D5: 228.096 | E5: 142.884 | F5: 196.599 | G5: 158.4375 | H5: 126 | I5: 158.994 | J5: 110.4125 | K5: 99.144 | L5: 117.74 | M5: 148.104 | N5: 126.514 | O5: 126 | P5: 94.64 | Q5: 135 | R5: 83.106 | S5: 95.992 | T5: 75.712 | U5: 87.88 | V5: 70.272 | W5: 56.448 | X5: 53.016 | Y5: 43.56 | Z5: 117 | AA5: 86.2125 | AB5: 66.816 | AC5: 69.629 | AD5: 66.25 | AE5: 66.0275
A6: 9 | B6: 254.144 | C6: 219.2835 | D6: 292.5 | E6: 175.712 | F6: 236.25 | G6: 200.9 | H6: 172.062 | I6: 220.32 | J6: 144 | K6: 133.2 | L6: 146.072 | M6: 205.35 | N6: 173.4 | O6: 182.648 | P6: 126.15 | Q6: 199.962 | R6: 100.92 | S6: 117.975 | T6: 104.43 | U6: 102.06 | V6: 81.25 | W6: 65 | X6: 65 | Y6: 45.5625 | Z6: 140.8995 | AA6: 108 | AB6: 69.12 | AC6: 77.5 | AD6: 71.656 | AE6: 50.784
A7: 11 | B7: 378.45 | C7: 271.472 | D7: 396.8 | E7: 218.489 | F7: 288 | G7: 259.92 | H7: 228.096 | I7: 300.8 | J7: 203.456 | K7: 173.225 | L7: 205.8 | M7: 259.2 | N7: 215.136 | O7: 250.3125 | P7: 157.604 | Q7: 261.5625 | R7: 130.696 | S7: 141.288 | T7: 128.774 | U7: 109.35 | V7: 97.344 | W7: 71.656 | X7: 71.656 | Y7: 48.668 | Z7: 178.024 | AA7: 121.086 | AB7: 75.6315 | AC7: 91.936 | AD7: 77.064 | AE7: 41.6025
A8: 13 | B8: 547.428 | C8: 345.6 | D8: 541.1835 | E8: 336.518 | F8: 338.688 | G8: 335.16 | H8: 288.8 | I8: 394.944 | J8: 265.696 | K8: 225.4 | L8: 283.9655 | M8: 333.036 | N8: 280.845 | O8: 323.2 | P8: 205.768 | Q8: 342.924 | R8: 191.808 | S8: 165.6 | T8: 166.464 | U8: 133.209 | V8: 105.456 | W8: 83.1875 | X8: 78.732 | Y8: 50.784 | Z8: 217.728 | AA8: 159.528 | AB8: 87.1335 | AC8: 102.5285 | AD8: 81.12 | AE8: 40.678
A9: 15 | B9: 752.812 | C9: 457.9245 | D9: 668.656 | E9: 489.268 | F9: 421.2 | G9: 447.174 | H9: 376.544 | I9: 520.704 | J9: 387.2 | K9: 311.2725 | L9: 361.25 | M9: 419.71 | N9: 346.8 | O9: 433.664 | P9: 246.24 | Q9: 445.5 | R9: 278.4 | S9: 209.498 | T9: 225 | U9: 158.4 | V9: 134.8335 | W9: 90.944 | X9: 84.7 | Y9: 57.6 | Z9: 267.696 | AA9: 199.8375 | AB9: 110.4125 | AC9: 126.711 | AD9: 93.312 | AE9: 37.044
A10: 17 | B10: 909.44 | C10: 643.468 | D10: 810 | E10: 711.504 | F10: 582.624 | G10: 630 | H10: 526.5 | I10: 676 | J10: 508.07 | K10: 396.716 | L10: 503.608 | M10: 515 | N10: 449.748 | O10: 559.55 | P10: 326.4 | Q10: 562.176 | R10: 359.5275 | S10: 247.1625 | T10: 285.77 | U10: 188.416 | V10: 167.214 | W10: 95.648 | X10: 86.2125 | Y10: 62.5 | Z10: 301.806 | AA10: 243.36 | AB10: 140.4 | AC10: 151.2 | AD10: 106.624 | AE10: 32.8
A11: 19 | B11: 1242.1875 | C11: 948.717 | D11: 1058.75 | E11: 1109.375 | F11: 884.174 | G11: 878.08 | H11: 750 | I11: 941.92 | J11: 678.0375 | K11: 503.36 | L11: 647.7635 | M11: 659.016 | N11: 595 | O11: 773.344 | P11: 443.576 | Q11: 786.52 | R11: 483.84 | S11: 307.496 | T11: 360.096 | U11: 209.1375 | V11: 208.7385 | W11: 112.694 | X11: 95.8455 | Y11: 65 | Z11: 346.8 | AA11: 289.132 | AB11: 165.888 | AC11: 180.224 | AD11: 133.956 | AE11: 32

Sheet 7H_Tumor weight
B1: DMSO | C1: Auranofin | D1: Rucaparib | E1: Auranofin+Rucaparib | F1: Auranofin+Rucaparib+NAC
A2: 1 | B2: 0.81 | C2: 0.73 | D2: 0.66 | E2: 0.33 | F2: 0.36
A3: 2 | B3: 0.87 | C3: 0.79 | D3: 0.61 | E3: 0.15 | F3: 0.19
A4: 3 | B4: 1 | C4: 0.79 | D4: 0.53 | E4: 0.18 | F4: 0.14
A5: 4 | B5: 0.89 | C5: 0.54 | D5: 0.64 | E5: 0.11 | F5: 0.16
A6: 5 | B6: 0.84 | C6: 0.61 | D6: 0.48 | E6: 0.12 | F6: 0.1
A7: 6 | B7: 0.81 | C7: 0.61 | D7: 0.42 | E7: 0.04 | F7: 0.03

Sheet S1A_Zinc Pyrithione
A1: Time1 | B1: 500μM | D1: 250μM | F1: 125μM | H1: 62.5μM | J1: 31.25μM | L1: DMSO
B2: Data1 | C2: Fit1 | D2: Data2 | E2: Fit2 | F2: Data3 | G2: Fit3 | H2: Data4 | I2: Fit4 | J2: Data5 | K2: Fit5 | L2: Data6 | M2: Fit6
A3: 210 | B3: -0.03712 | C3: 0 | D3: -0.05411 | E3: 0 | F3: -0.0343 | G3: 0 | H3: -0.04556 | I3: 0 | J3: -0.03955 | K3: 0 | L3: -0.03689 | M3: 0
A4: 210.2 | B4: -0.03476 | C4: 0.00054 | D4: -0.05127 | E4: 0.000916 | F4: -0.02942 | G4: 0.001413 | H4: -0.04121 | I4: 0.001847 | J4: -0.03467 | K4: 0.002215 | L4: -0.03159 | M4: 0.002399
A5: 210.4 | B5: -0.03194 | C5: 0.001079 | D5: -0.0477 | E5: 0.00183 | F5: -0.02393 | G5: 0.002822 | H5: -0.03637 | I5: 0.003688 | J5: -0.02919 | K5: 0.004424 | L5: -0.02542 | M5: 0.004791
A6: 210.6 | B6: -0.02879 | C6: 0.001616 | D6: -0.04422 | E6: 0.002742 | F6: -0.01789 | G6: 0.004227 | H6: -0.03126 | I6: 0.005523 | J6: -0.02296 | K6: 0.006625 | L6: -0.01931 | M6: 0.007175
A7: 210.8 | B7: -0.02571 | C7: 0.002151 | D7: -0.04023 | E7: 0.003651 | F7: -0.0117 | G7: 0.005627 | H7: -0.02547 | I7: 0.007353 | J7: -0.01656 | K7: 0.008819 | L7: -0.01228 | M7: 0.009551
A8: 211 | B8: -0.02239 | C8: 0.002685 | D8: -0.03627 | E8: 0.004559 | F8: -0.00509 | G8: 0.007023 | H8: -0.01977 | I8: 0.009177 | J8: -0.01007 | K8: 0.011007 | L8: -0.00524 | M8: 0.011919
A9: 211.2 | B9: -0.01898 | C9: 0.003217 | D9: -0.03231 | E9: 0.005464 | F9: 0.001173 | G9: 0.008414 | H9: -0.01363 | I9: 0.010995 | J9: -0.00368 | K9: 0.013188 | L9: 0.001897 | M9: 0.01428
A10: 211.4 | B10: -0.01543 | C10: 0.003748 | D10: -0.02875 | E10: 0.006368 | F10: 0.007176 | G10: 0.0098 | H10: -0.00786 | I10: 0.012808 | J10: 0.002572 | K10: 0.015361 | L10: 0.009043 | M10: 0.016633
A11: 211.6 | B11: -0.01235 | C11: 0.004277 | D11: -0.02555 | E11: 0.007269 | F11: 0.013196 | G11: 0.011183 | H11: -0.00213 | I11: 0.014615 | J11: 0.008604 | K11: 0.017528 | L11: 0.015669 | M11: 0.018979
A12: 211.8 | B12: -0.00973 | C12: 0.004804 | D12: -0.02235 | E12: 0.008168 | F12: 0.018316 | G12: 0.012561 | H12: 0.003004 | I12: 0.016417 | J12: 0.014116 | K12: 0.019688 | L12: 0.021904 | M12: 0.021317
A13: 212 | B13: -0.00762 | C13: 0.00533 | D13: -0.0196 | E13: 0.009065 | F13: 0.022819 | G13: 0.013934 | H13: 0.007525 | I13: 0.018214 | J13: 0.018985 | K13: 0.021841 | L13: 0.027005 | M13: 0.023647
A14: 212.2 | B14: -0.00589 | C14: 0.005855 | D14: -0.01776 | E14: 0.00996 | F14: 0.026054 | G14: 0.015304 | H14: 0.010902 | I14: 0.020004 | J14: 0.022953 | K14: 0.023988 | L14: 0.03105 | M14: 0.02597
... A1202: 449.8 | B1202: 0.125648 | C1202: 0.119595 | D1202: 0.248126 | E1202: 0.239204 | F1202: 0.295212 | G1202: 0.282528 | H1202: 0.422979 | I1202: 0.410546 | J1202: 0.49113 | K1202: 0.473436 | L1202: 0.52335 | M1202: 0.502157

Sheet S1A_Sanguinarine chloride
A1: Time1 | B1: 250μM | D1: 125μM | F1: 62μM | H1: DMSO
B2: Data1 | C2: Fit1 | D2: Data2 | E2: Fit2 | F2: Data3 | G2: Fit3 | H2: Data4 | I2: Fit4
A3: 210 | B3: -0.11547 | C3: 0 | D3: -0.12122 | E3: 0 | F3: -0.1116 | G3: 0 | H3: -0.09905 | I3: 0
A4: 210.2 | B4: -0.1038 | C4: 0.001473 | D4: -0.10978 | E4: 0.001477 | F4: -0.10054 | G4: 0.001637 | H4: -0.08756 | I4: 0.00181
A5: 210.4 | B5: -0.09132 | C5: 0.002939 | D5: -0.09787 | E5: 0.002946 | F5: -0.08878 | G5: 0.003265 | H5: -0.07534 | I5: 0.00361
A6: 210.6 | B6: -0.07825 | C6: 0.004396 | D6: -0.08519 | E6: 0.004408 | F6: -0.07632 | G6: 0.004884 | H6: -0.06257 | I6: 0.0054
A7: 210.8 | B7: -0.06515 | C7: 0.005846 | D7: -0.0722 | E7: 0.005863 | F7: -0.06346 | G7: 0.006496 | H7: -0.05032 | I7: 0.007179
A8: 211 | B8: -0.05243 | C8: 0.007288 | D8: -0.05958 | E8: 0.007311 | F8: -0.05112 | G8: 0.008098 | H8: -0.03791 | I8: 0.008948
A9: 211.2 | B9: -0.04049 | C9: 0.008722 | D9: -0.04768 | E9: 0.008752 | F9: -0.03916 | G9: 0.009693 | H9: -0.02604 | I9: 0.010707
A10: 211.4 | B10: -0.02959 | C10: 0.010148 | D10: -0.03655 | E10: 0.010186 | F10: -0.02865 | G10: 0.011279 | H10: -0.01509 | I10: 0.012456
A11: 211.6 | B11: -0.02007 | C11: 0.011567 | D11: -0.02689 | E11: 0.011612 | F11: -0.01878 | G11: 0.012856 | H11: -0.00552 | I11: 0.014194
A12: 211.8 | B12: -0.01266 | C12: 0.012979 | D12: -0.01892 | E12: 0.013032 | F12: -0.01095 | G12: 0.014426 | H12: 0.002377 | I12: 0.015923
A13: 212 | B13: -0.00765 | C13: 0.014382 | D13: -0.01323 | E13: 0.014445 | F13: -0.00488 | G13: 0.015987 | H13: 0.00788 | I13: 0.017641
A14: 212.2 | B14: -0.00533 | C14: 0.015779 | D14: -0.01047 | E14: 0.015851 | F14: -0.00171 | G14: 0.01754 | H14: 0.010627 | I14: 0.01935
... A1202: 449.81 | B1202: 0.089713 | C1202: 0.056992 | D1202: 0.077586 | E1202: 0.047404 | F1202: 0.071399 | G1202: 0.040656 | H1202: 0.071475 | I1202: 0.036998

Sheet S1B
A1: Time1 | B1: DMSO | D1: 150μM
B2: Data1 | C2: Fit1 | D2: Data2 | E2: Fit2
A3: 210 | B3: -0.01074 | C3: 0 | D3: -0.01705 | E3: 0
A4: 210.2 | B4: -0.00514 | C4: 0.010742 | D4: -0.0128 | E4: 0.006761
A5: 210.4 | B5: 0.001536 | C5: 0.021244 | D5: -0.0082 | E5: 0.013436
A6: 210.6 | B6: 0.009013 | C6: 0.031512 | D6: -0.0029 | E6: 0.020024
A7: 210.8 | B7: 0.017275 | C7: 0.041552 | D7: 0.003003 | E7: 0.026528
A8: 211 | B8: 0.026237 | C8: 0.051367 | D8: 0.009861 | E8: 0.032948
A9: 211.2 | B9: 0.035428 | C9: 0.060964 | D9: 0.016393 | E9: 0.039286
A10: 211.4 | B10: 0.044933 | C10: 0.070346 | D10: 0.023446 | E10: 0.045542
A11: 211.6 | B11: 0.05447 | C11: 0.079519 | D11: 0.030651 | E11: 0.051718
A12: 211.8 | B12: 0.063733 | C12: 0.088488 | D12: 0.037761 | E12: 0.057814
A13: 212 | B13: 0.072787 | C13: 0.097257 | D13: 0.044301 | E13: 0.063832
A14: 212.2 | B14: 0.080524 | C14: 0.10583 | D14: 0.050054 | E14: 0.069772
... A602: 329.8 | B602: 0.086482 | C602: 0.038437 | D602: 0.141988 | E602: 0.086001

Sheet S2D
A1: Replicate 1 | G1: Replicate 2 | M1: Replicate 3
A2: TOPBP1 | D2: FLAG-POLQ | G2: TOPBP1 | J2: FLAG-POLQ | M2: TOPBP1 | P2: FLAG-POLQ
A3: DMSO | B3: Auranofin | D3: DMSO | E3: Auranofin | G3: DMSO | H3: Auranofin | J3: DMSO | K3: Auranofin | M3: DMSO | N3: Auranofin | P3: DMSO | Q3: Auranofin
A4: 5 | B4: 8 | D4: 18 | E4: 1 | G4: 10 | H4: 14 | J4: 11 | K4: 1 | M4: 17 | N4: 14 | P4: 6 | Q4: 2
A5: 4 | B5: 5 | D5: 20 | E5: 1 | G5: 7 | H5: 21 | J5: 17 | K5: 1 | M5: 16 | N5: 11 | P5: 7 | Q5: 0
A6: 4 | B6: 13 | D6: 15 | E6: 8 | G6: 15 | H6: 24 | J6: 21 | K6: 5 | M6: 12 | N6: 14 | P6: 9 | Q6: 1
A7: 8 | B7: 2 | D7: 22 | E7: 3 | G7: 14 | H7: 14 | J7: 11 | K7: 1 | M7: 33 | N7: 17 | P7: 8 | Q7: 0
A8: 11 | B8: 4 | D8: 23 | E8: 2 | G8: 17 | H8: 10 | J8: 24 | K8: 1 | M8: 16 | N8: 3 | P8: 10 | Q8: 0
A9: 1 | B9: 24 | D9: 14 | E9: 3 | G9: 17 | H9: 31 | J9: 26 | K9: 1 | M9: 11 | N9: 15 | P9: 24 | Q9: 0
A10: 6 | B10: 7 | D10: 32 | E10: 4 | G10: 16 | H10: 14 | J10: 22 | K10: 2 | M10: 14 | N10: 14 | P10: 17 | Q10: 0
A11: 8 | B11: 11 | D11: 16 | E11: 1 | G11: 15 | H11: 6 | J11: 18 | K11: 1 | M11: 15 | N11: 4 | P11: 8 | Q11: 0
A12: 4 | B12: 19 | D12: 12 | E12: 4 | G12: 16 | H12: 24 | J12: 12 | K12: 4 | M12: 16 | N12: 16 | P12: 8 | Q12: 0
A13: 7 | B13: 13 | D13: 21 | E13: 8 | G13: 12 | H13: 11 | J13: 16 | K13: 7 | M13: 18 | N13: 5 | P13: 6 | Q13: 0
A14: 7 | B14: 5 | D14: 24 | E14: 1 | G14: 17 | H14: 14 | J14: 9 | K14: 6 | M14: 18 | N14: 15 | P14: 23 | Q14: 0
A15: 1 | B15: 21 | D15: 15 | E15: 0 | G15: 15 | H15: 15 | J15: 17 | K15: 4 | M15: 21 | N15: 13 | P15: 26 | Q15: 1
... A32: 1 | B32: 14 | D32: 16 | E32: 0 | G32: 14 | H32: 14 | J32: 15 | K32: 1 | M32: 15 | N32: 2 | P32: 20 | Q32: 0
A33: 2 | B33: 10 | D33: 14 | E33: 0 | G33: 18 | H33: 20 | K33: 1 | M33: 28 | N33: 16 | P33: 27 | Q33: 4
A34: 7 | B34: 2 | D34: 15 | E34: 1 | G34: 9 | H34: 8 | K34: 1 | M34: 24 | N34: 6 | P34: 29 | Q34: 1
A35: 3 | B35: 18 | D35: 23 | E35: 1 | G35: 10 | H35: 9 | K35: 2 | M35: 15 | N35: 8 | P35: 17 | Q35: 0
A36: 3 | B36: 9 | D36: 13 | E36: 0 | G36: 11 | H36: 11 | K36: 1 | M36: 20 | N36: 14 | P36: 14 | Q36: 5
A37: 2 | B37: 17 | D37: 19 | E37: 1 | G37: 11 | H37: 23 | K37: 3 | M37: 11 | N37: 16 | P37: 16 | Q37: 2
A38: 2 | B38: 15 | E38: 0 | G38: 19 | H38: 9 | K38: 0 | M38: 21 | N38: 12 | P38: 10 | Q38: 11
A39: 5 | B39: 8 | E39: 0 | G39: 23 | H39: 3 | K39: 0 | M39: 18 | N39: 15 | P39: 15 | Q39: 4
A40: 4 | B40: 18 | E40: 0 | G40: 16 | H40: 3 | K40: 0 | M40: 4 | N40: 15 | P40: 13 | Q40: 3
A41: 14 | B41: 14 | E41: 0 | G41: 16 | H41: 7 | K41: 5 | M41: 15 | N41: 11 | P41: 15 | Q41: 6
A42: 19 | B42: 7 | E42: 0 | G42: 8 | H42: 3 | K42: 13 | M42: 18 | N42: 20 | Q42: 6
A43: 26 | B43: 17 | E43: 0 | G43: 19 | H43: 5 | K43: 1 | M43: 20 | N43: 3 | Q43: 2
A44: 12 | B44: 14 | E44: 0 | G44: 21 | H44: 25 | K44: 5 | M44: 8 | N44: 12 | Q44: 4
A45: 24 | B45: 19 | E45: 1 | G45: 19 | H45: 20 | K45: 9 | M45: 13 | N45: 11 | Q45: 1
A46: 19 | B46: 12 | E46: 0 | G46: 11 | H46: 21 | K46: 8 | M46: 8 | N46: 16 | Q46: 1
A47: 15 | B47: 9 | E47: 0 | G47: 8 | H47: 21 | K47: 10 | M47: 14 | N47: 12 | Q47: 1
A48: 22 | B48: 15 | E48: 3 | G48: 6 | H48: 28 | K48: 4 | M48: 2 | N48: 22 | Q48: 5
A49: 17 | B49: 18 | E49: 0 | G49: 19 | H49: 17 | K49: 4 | M49: 16 | N49: 21 | Q49: 3
A50: 18 | B50: 10 | E50: 0 | G50: 16 | H50: 17 | K50: 4 | M50: 12 | N50: 11 | Q50: 1
A51: 17 | B51: 17 | E51: 1 | G51: 14 | H51: 15 | K51: 0 | M51: 13 | N51: 15 | Q51: 1
A52: 18 | B52: 10 | E52: 1 | G52: 20 | H52: 20 | K52: 6 | M52: 7 | N52: 17 | Q52: 5
A53: 22 | B53: 19 | E53: 0 | G53: 18 | H53: 20 | K53: 5 | M53: 10 | N53: 12 | Q53: 3
A54: 8 | B54: 18 | E54: 0 | G54: 31 | H54: 15 | K54: 3 | M54: 10 | N54: 12 | Q54: 2
A55: 19 | B55: 15 | E55: 1 | G55: 21 | H55: 22 | K55: 5 | N55: 11
A56: 21 | B56: 15 | E56: 0 | G56: 29 | H56: 15 | K56: 1 | N56: 3
A57: 19 | B57: 19 | E57: 0 | G57: 13 | H57: 15 | K57: 1 | N57: 18
A58: 19 | B58: 10 | E58: 0 | G58: 16 | K58: 1 | N58: 29
A59: 17 | G59: 16 | K59: 5 | N59: 14
A60: 7 | G60: 25 | K60: 2 | N60: 20
G61: 19 | K61: 2 | N61: 14
G62: 18 | K62: 3 | N62: 10
G63: 21 | K63: 2
G64: 9 | K64: 2
G65: 9 | K65: 1
G66: 12 | K66: 2
G67: 2
G68: 12

Sheet S2D n=3 Average
A1: TOPBP1 | D1: FLAG-POLQ
A2: DMSO | B2: Auranofin | D2: DMSO | E2: Auranofin
A3: =AVERAGE(S2D!A4:A68) -> 9.4210526 | B3: =AVERAGE(S2D!B4:B68) -> 12.690909 | D3: =AVERAGE(S2D!D4:D68) -> 18.676471 | E3: =AVERAGE(S2D!E4:E68) -> 1.0545455
A4: =AVERAGE(S2D!G4:G68) -> 14.846154 | B4: =AVERAGE(S2D!H4:H68) -> 15.055556 | D4: =AVERAGE(S2D!J4:J68) -> 12.758621 | E4: =AVERAGE(S2D!K4:K68) -> 2.984127
A5: =AVERAGE(S2D!M4:M68) -> 14.666667 | B5: =AVERAGE(S2D!N4:N68) -> 13 | D5: =AVERAGE(S2D!P4:P68) -> 13.894737 | E5: =AVERAGE(S2D!Q4:Q68) -> 1.4901961

Sheet S2H
A1: Replicate 1 | D1: Replicate 2 | G1: Replicate 3
A2: Wt | B2: F1491A | D2: 4 | E2: 6 | G2: 13 | H2: 2
A3: 14 | B3: 2 | D3: 2 | E3: 4 | G3: 5 | H3: 0
A4: 14 | B4: 5 | D4: 4 | E4: 2 | G4: 10 | H4: 1
A5: 2 | B5: 3 | D5: 1 | E5: 4 | G5: 4 | H5: 3
A6: 15 | B6: 5 | D6: 25 | E6: 4 | G6: 7 | H6: 2
A7: 16 | B7: 5 | D7: 14 | E7: 1 | G7: 2 | H7: 3
A8: 10 | B8: 1 | D8: 13 | E8: 2 | G8: 10 | H8: 1
A9: 13 | B9: 5 | D9: 7 | E9: 2 | G9: 7 | H9: 2
A10: 19 | B10: 6 | D10: 18 | E10: 2 | G10: 14 | H10: 1
A11: 4 | B11: 2 | D11: 20 | E11: 2 | G11: 17 | H11: 6
A12: 9 | B12: 5 | D12: 21 | E12: 4 | G12: 18 | H12: 3
A13: 11 | B13: 3 | D13: 3 | E13: 13 | G13: 8 | H13: 3
A14: 5 | B14: 3 | D14: 15 | E14: 2 | G14: 8 | H14: 3
... A28: 11 | B28: 11 | D28: 14 | E28: 2 | G28: 4 | H28: 3
A29: 4 | B29: 6 | E29: 7 | G29: 1 | H29: 6
A30: 12 | B30: 2 | E30: 13 | G30: 5 | H30: 1
A31: 8 | B31: 3 | E31: 3 | G31: 7 | H31: 4
A32: 10 | B32: 2 | E32: 3 | G32: 14 | H32: 8
A33: 7 | B33: 4 | E33: 3 | G33: 9 | H33: 3
A34: 6 | B34: 7 | E34: 2 | G34: 9 | H34: 2
A35: 4 | B35: 4 | E35: 1 | H35: 2
A36: 20 | B36: 2 | E36: 1 | H36: 1
A37: 24 | B37: 3 | E37: 8 | H37: 3
A38: 9 | B38: 1 | E38: 14 | H38: 3
A39: 5 | B39: 2 | E39: 9 | H39: 1
A40: 6 | B40: 7 | E40: 3
A41: 9 | B41: 2 | E41: 3
A42: 6 | E42: 7
A43: 2 | E43: 8
A44: 7 | E44: 15
A45: 11 | E45: 6
A46: 3 | E46: 2
E47: 6
E48: 4
E49: 1
E50: 7
E51: 1
E52: 3
E53: 14
E54: 8
E55: 11
E56: 10

Sheet S2H n=3 Average
A1: Wt | B1: F1491A
A2: =AVERAGE(S2H!A3:A56) -> 11 | B2: =AVERAGE(S2H!B3:B56) -> 3.974359
A3: =AVERAGE(S2H!G2:G56) -> 9.2121212 | B3: =AVERAGE(S2H!H2:H56) -> 3.1578947
A4: =AVERAGE(S2H!D2:D56) -> 10.518519 | B4: =AVERAGE(S2H!E2:E56) -> 5.5636364

Sheet S3A
A1: Replicate 1 | E1: Replicate 2 | I1: Replicate 3
A2: -KBrO3 | B2: +KBrO3 | C2: +KBrO3 +NAC | E2: -KBrO3 | F2: +KBrO3 | G2: +KBrO3 +NAC | I2: -KBrO3 | J2: +KBrO3 | K2: +KBrO3 +NAC
A3: 2.621 | B3: 11.484 | C3: 3.361 | E3: 2.673 | F3: 12.735 | G3: 3.6 | I3: 4.884 | J3: 12.701 | K3: 2.911
A4: 2.726 | B4: 12.137 | C4: 4.115 | E4: 4.231 | F4: 10.546 | G4: 2.922 | I4: 4.219 | J4: 12.915 | K4: 4.133
A5: 2.794 | B5: 14.062 | C5: 4.177 | E5: 3.398 | F5: 15.706 | G5: 2.54 | I5: 4.692 | J5: 15.621 | K5: 4.2
A6: 2.543 | B6: 13.026 | C6: 3.996 | E6: 3.8225 | F6: 20.273 | G6: 3.729 | I6: 3.792 | J6: 13.114 | K6: 4.354
A7: 2.539 | B7: 12.921 | C7: 4.254 | E7: 2.9165 | F7: 8.614 | G7: 3.433 | I7: 4.244 | J7: 15.735 | K7: 4.124
A8: 2.852 | B8: 15.239 | C8: 4.321 | E8: 3.224 | F8: 12.1394 | G8: 3.736 | I8: 4.305 | J8: 14.913 | K8: 4.569
A9: 2.42 | B9: 18.779 | C9: 4.169 | E9: 3.8765 | F9: 11.949 | G9: 4.8935 | I9: 3.975 | J9: 16.05 | K9: 4.285
A10: 2.961 | B10: 14.061 | C10: 3.985 | E10: 2.8765 | F10: 12.2374 | G10: 3.899 | I10: 3.037 | J10: 12.758 | K10: 4
A11: 2.558 | B11: 13.331 | C11: 4.137 | E11: 3.5435 | F11: 12.9094 | G11: 2.874 | I11: 3.643 | J11: 11.897 | K11: 4.415
A12: 2.803 | B12: 14.875 | C12: 4.266 | E12: 3.337 | F12: 11.9658 | G12: 4.656 | I12: 3.744 | J12: 14.593 | K12: 4.615
A13: 2.474 | B13: 20.314 | C13: 4.667 | E13: 3.962 | F13: 13.0368 | G13: 2.9195 | I13: 3.612 | J13: 15.576 | K13: 4.321
A14: 3.459 | B14: 12.949 | C14: 4.345 | E14: 3.3225 | F14: 16.1784 | G14: 5.32 | I14: 2.491 | J14: 11.762 | K14: 4.736
... A52: 4.678 | B52: 10.378 | C52: 3.718 | E52: 2.0785 | F52: 12.4726 | G52: 4.268 | I52: 3.263 | J52: 12.888 | K52: 5.102
A53: 5.125 | B53: 11.534 | C53: 3.841 | E53: 2.3965 | G53: 3.773 | I53: 3.595 | J53: 19.82 | K53: 5.162
A54: 4.587 | B54: 5.991 | C54: 2.914 | E54: 2.2865 | G54: 4.58 | I54: 2.6255 | J54: 14.933 | K54: 4.757
A55: 4.001 | B55: 11.7 | C55: 4.158 | E55: 2.3825 | G55: 6.1785 | I55: 2.485 | J55: 17.947 | K55: 5.197
B56: 10.817 | C56: 3.268 | E56: 2.2885 | G56: 2.869 | I56: 4.1245 | J56: 10.975
B57: 16.127 | C57: 3.556 | E57: 2.3415 | G57: 4.6355 | I57: 2.6715 | J57: 12.186
B58: 14.914 | C58: 3.595 | E58: 1.965 | G58: 4.7855 | I58: 2.4215 | J58: 19.577
B59: 15.739 | C59: 2.213 | E59: 1.828 | G59: 4.411 | I59: 3.4245 | J59: 11.923
B60: 12.708 | C60: 2.532 | E60: 2.262 | G60: 4.1735 | I60: 4.061 | J60: 11.674
B61: 14.929 | C61: 2.957 | E61: 1.598 | G61: 4.248 | J61: 12.856
B62: 11.4282 | C62: 5.077 | E62: 1.8215 | G62: 4.131
B63: 13.4484 | C63: 3.596 | E63: 4.686 | G63: 3.075
B64: 14.8302 | C64: 4.635 | E64: 4.038 | G64: 3.5195
B65: 14.462 | C65: 3.815 | E65: 4.45 | G65: 4.444
C66: 2.793 | E66: 4.679 | G66: 3.4585
C67: 2.686 | E67: 4.583 | G67: 3.707
E68: 5.148 | G68: 2.93
E69: 3.1665 | G69: 2.7705
G70: 3.5405
G71: 3.5035
G72: 2.1035
G73: 3.4175

Sheet S3A n=3 Average
A1: -KBrO3 | B1: +KBrO3 | C1: +KBrO3 +NAC
A2: =AVERAGE(S3A!A3:A73) -> 2.913434 | B2: =AVERAGE(S3A!B3:B73) -> 13.115711 | C2: =AVERAGE(S3A!C3:C73) -> 3.816
A3: =AVERAGE(S3A!E3:E73) -> 2.9512687 | B3: =AVERAGE(S3A!F3:F73) -> 13.735776 | C3: =AVERAGE(S3A!G3:G73) -> 4.0635211
A4: =AVERAGE(S3A!I3:I73) -> 3.2783276 | B4: =AVERAGE(S3A!J3:J73) -> 14.011763 | C4: =AVERAGE(S3A!K3:K73) -> 4.4333962

Sheet S3B
A1: Replicate 1 | F1: Replicate 2 | K1: Replicate 3
A2: without pre-extraction | C2: with pre-extraction | F2: without pre-extraction | H2: with pre-extraction | K2: without pre-extraction | M2: with pre-extraction
A3: DMSO | B3: Auranofin | C3: DMSO | D3: Auranofin | F3: 14.8752 | G3: 17.04148 | H3: 1.405 | I3: 1.5664 | K3: 10.8672 | L3: 6.96388 | M3: 3.106 | N3: 1.1736
A4: 4.9752 | B4: 13.46036 | C4: 2.602 | D4: 2.0096 | F4: 12.3504 | G4: 16.99512 | H4: 1.622 | I4: 1.6888 | K4: 14.5408 | L4: 6.42048 | M4: 3.122 | N4: 1.0712
A5: 4.944 | B5: 14.29864 | C5: 2.324 | D5: 2.528 | F5: 11.1208 | G5: 14.22644 | H5: 2.256 | I5: 1.572 | K5: 12.824 | L5: 6.8476 | M5: 3.559 | N5: 1.7712
A6: 5.6928 | B6: 12.198 | C6: 2.905 | D6: 2.1296 | F6: 13.2576 | G6: 15.45308 | H6: 2.165 | I6: 2.3528 | K6: 14.0928 | L6: 5.1452 | M6: 3.237 | N6: 1.4888
A7: 4.8104 | B7: 13.57284 | C7: 2.928 | D7: 2.5592 | F7: 12.496 | G7: 14.402 | H7: 1.98 | I7: 1.8048 | K7: 14.8616 | L7: 6.20312 | M7: 3.986 | N7: 1.564
A8: 6.9232 | B8: 13.0112 | C8: 3.497 | D8: 2.5472 | F8: 9.532 | G8: 11.06408 | H8: 1.569 | I8: 1.6504 | K8: 15.0072 | L8: 5.80184 | M8: 3.839 | N8: 1.7464
