Workbook

Sheet 1B
A1: Fold increase in luminescence
A2: 2.1723584
A3: 2.0960119
A4: 2.0751458
A5: 2.0657324
A6: 1.9209311
A7: 1.9192245
A8: 1.8528221
A9: 1.8455005
A10: 1.833873
A11: 1.8264057
A12: 1.8240122
A13: 1.7889652
... A2580: 0.001565

Sheet 1C_BRCT 7-8-PHF8-C
B1: Gilteritinib (ASP2215) | C1: Toremifene Citrate | D1: Lapatinib (GW-572016) Ditosylate | E1: Pazopanib HCl (GW786034 HCl) | F1: Escin | G1: Mefloquine HCl | H1: Calcein-AM 10mM | I1: CB-5083 | J1: Nintedanib Ethanesulfonate Salt | K1: Quinacrine 2HCl | L1: Lomitapide Mesylate | M1: Bifonazole | N1: Digoxigenin | O1: Regorafenib | P1: Sunitinib | Q1: Sunitinib Malate | R1: Lomitapide | S1: Rilpivirine | T1: Digoxin | U1: Anlotinib (AL3818) dihydrochloride | V1: Sorafenib | W1: Regorafenib Monohydrate | X1: Benidipine HCl | Y1: Dronedarone | Z1: Lapatinib | AA1: Lacidipine | AB1: Sorafenib Tosylate | AC1: Manidipine | AD1: Cilnidipine | AE1: Penfluridol | AF1: Octenidine Dihydrochloride | AG1: Saikosaponin D | AH1: Terfenadine | AI1: Verteporfin | AJ1: Ceritinib (LDK378) | AK1: Saikosaponin A | AL1: Tegaserod Maleate | AM1: Mitoxantrone 2HCl | AN1: Proflavine Hemisulfate | AO1: Etravirine (TMC125) | AP1: Homoharringtonine | AQ1: Halofuginone | AR1: Harringtonine | AS1: Ponatinib (AP24534) | AT1: Auranofin | AU1: Sanguinarine | AV1: Zinc Pyrithione | AW1: Sanguinarine chloride
A2: Repeat1 | B2: 0.531889 | C2: 0.344731 | D2: 0.481748 | E2: 0.620033 | F2: 0.485283 | G2: 0.483594 | H2: 0.494076 | I2: 0.454418 | J2: 0.473785 | K2: 0.416296 | L2: 0.239565 | M2: 0.434114 | N2: 0.289348 | O2: 0.296677 | P2: 0.253841 | Q2: 0.289548 | R2: 0.216625 | S2: 0.233267 | T2: 0.336831 | U2: 0.226178 | V2: 0.25668 | W2: 0.222529 | X2: 0.245451 | Y2: 0.158017 | Z2: 0.240274 | AA2: 0.152849 | AB2: 0.222574 | AC2: 0.217689 | AD2: 0.236124 | AE2: 0.108962 | AF2: 0.073705 | AG2: 0.122388 | AH2: 0.127504 | AI2: 0.080637 | AJ2: 0.07952 | AK2: 0.072589 | AL2: 0.064892 | AM2: 0.086507 | AN2: 0.040917 | AO2: 0.026366 | AP2: 0.008715 | AQ2: 0.003918 | AR2: 0.00605 | AS2: 0.007469 | AT2: 0.003378 | AU2: 0.000795 | AV2: 0.001084 | AW2: 0.000753
A3: Repeat2 | B3: 0.592687 | C3: 0.586762 | D3: 0.532054 | E3: 0.321333 | F3: 0.362057 | G3: 0.499777 | H3: 0.534812 | I3: 0.397944 | J3: 0.38789 | K3: 0.297235 | L3: 0.382596 | M3: 0.298087 | N3: 0.234328 | O3: 0.217381 | P3: 0.248969 | Q3: 0.219216 | R3: 0.354064 | S3: 0.288715 | T3: 0.153147 | U3: 0.308181 | V3: 0.163011 | W3: 0.218772 | X3: 0.245839 | Y3: 0.226037 | Z3: 0.253314 | AA3: 0.29422 | AB3: 0.163957 | AC3: 0.200866 | AD3: 0.164939 | AE3: 0.206595 | AF3: 0.18068 | AG3: 0.203528 | AH3: 0.16963 | AI3: 0.125649 | AJ3: 0.104894 | AK3: 0.125908 | AL3: 0.099089 | AM3: 0.051198 | AN3: 0.022399 | AO3: 0.021244 | AP3: 0.005454 | AQ3: 0.003297 | AR3: 0.006769 | AS3: 0.007205 | AT3: 0.003724 | AU3: 0.002845 | AV3: 0.001219 | AW3: 0.001205
A4: Repeat3 | B4: 0.666612 | C4: 0.617847 | D4: 0.535327 | E4: 0.570912 | F4: 0.630666 | G4: 0.472395 | H4: 0.388278 | I4: 0.385576 | J4: 0.336236 | K4: 0.312302 | L4: 0.396615 | M4: 0.280972 | N4: 0.403983 | O4: 0.373794 | P4: 0.366837 | Q4: 0.351281 | R4: 0.281655 | S4: 0.305694 | T4: 0.333699 | U4: 0.255023 | V4: 0.358498 | W4: 0.321633 | X4: 0.256739 | Y4: 0.328629 | Z4: 0.210505 | AA4: 0.256217 | AB4: 0.312851 | AC4: 0.234041 | AD4: 0.151896 | AE4: 0.183887 | AF4: 0.2352 | AG4: 0.143725 | AH4: 0.160843 | AI4: 0.166767 | AJ4: 0.172707 | AK4: 0.092214 | AL4: 0.087758 | AM4: 0.070266 | AN4: 0.029832 | AO4: 0.034858 | AP4: 0.019769 | AQ4: 0.022476 | AR4: 0.014399 | AS4: 0.010908 | AT4: 0.007928 | AU4: 0.006003 | AV4: 0.002663 | AW4: 0.002602

Sheet 1C_BRCT 7-8-FANCJ-C
B1: Saikosaponin D | C1: Terfenadine | D1: Octenidine Dihydrochloride | E1: Saikosaponin A | F1: Mitoxantrone 2HCl | G1: Homoharringtonine | H1: Escin | I1: Digoxin | J1: Digoxigenin | K1: Gilteritinib (ASP2215) | L1: Dronedarone | M1: Toremifene Citrate | N1: CB-5083 | O1: Verteporfin | P1: Pazopanib HCl (GW786034 HCl) | Q1: Regorafenib Monohydrate | R1: Sorafenib Tosylate | S1: Quinacrine 2HCl | T1: Lapatinib (GW-572016) Ditosylate | U1: Harringtonine | V1: Regorafenib | W1: Tegaserod Maleate | X1: Lomitapide Mesylate | Y1: Proflavine Hemisulfate | Z1: Rilpivirine | AA1: Sorafenib | AB1: Lomitapide | AC1: Mefloquine HCl | AD1: Halofuginone | AE1: Sunitinib Malate | AF1: Sunitinib | AG1: Anlotinib (AL3818) dihydrochloride | AH1: Nintedanib Ethanesulfonate Salt | AI1: Bifonazole | AJ1: Lapatinib | AK1: Penfluridol | AL1: Calcein-AM 10mM | AM1: Manidipine | AN1: Benidipine HCl | AO1: Lacidipine | AP1: Cilnidipine | AQ1: Ponatinib (AP24534) | AR1: Ceritinib (LDK378) | AS1: Zinc Pyrithione | AT1: Auranofin | AU1: Etravirine (TMC125) | AV1: Sanguinarine chloride | AW1: Sanguinarine
A2: Repeat1 | B2: 1.672089 | C2: 1.187885 | D2: 1.365939 | E2: 1.422559 | F2: 1.282389 | G2: 1.296519 | H2: 1.30091 | I2: 1.080446 | J2: 1.041745 | K2: 0.96949 | L2: 1.119069 | M2: 1.000343 | N2: 0.584539 | O2: 0.883965 | P2: 0.769695 | Q2: 0.70453 | R2: 0.708935 | S2: 0.770626 | T2: 0.721733 | U2: 0.772653 | V2: 0.605845 | W2: 0.86418 | X2: 0.560855 | Y2: 0.697303 | Z2: 0.733739 | AA2: 0.860828 | AB2: 0.592222 | AC2: 0.464386 | AD2: 0.575868 | AE2: 0.59072 | AF2: 0.572202 | AG2: 0.706748 | AH2: 0.676707 | AI2: 0.555456 | AJ2: 0.579786 | AK2: 0.452633 | AL2: 0.422392 | AM2: 0.35068 | AN2: 0.324677 | AO2: 0.242697 | AP2: 0.165481 | AQ2: 0.202015 | AR2: 0.201643 | AS2: 0.025867 | AT2: 0.016658 | AU2: 0.013242 | AV2: 0.004599 | AW2: 0.005593
A3: Repeat2 | B3: 1.227421 | C3: 1.385057 | D3: 1.273412 | E3: 1.220359 | F3: 1.24705 | G3: 1.229733 | H3: 1.080305 | I3: 1.316727 | J3: 1.244431 | K3: 1.061262 | L3: 1.0375 | M3: 0.958485 | N3: 0.903814 | O3: 1.014538 | P3: 1.047235 | Q3: 1.000539 | R3: 0.89853 | S3: 0.865821 | T3: 0.802814 | U3: 0.706295 | V3: 0.897017 | W3: 0.710048 | X3: 0.791561 | Y3: 0.760006 | Z3: 0.899514 | AA3: 0.604333 | AB3: 0.782662 | AC3: 0.820209 | AD3: 0.704342 | AE3: 0.716158 | AF3: 0.73091 | AG3: 0.597255 | AH3: 0.556492 | AI3: 0.439213 | AJ3: 0.576475 | AK3: 0.514645 | AL3: 0.365428 | AM3: 0.372564 | AN3: 0.296349 | AO3: 0.245112 | AP3: 0.245078 | AQ3: 0.16527 | AR3: 0.139959 | AS3: 0.012542 | AT3: 0.008512 | AU3: 0.018422 | AV3: 0.016018 | AW3: 0.004968
A4: Repeat3 | B4: 1.330377 | C4: 1.37717 | D4: 1.279601 | E4: 1.161477 | F4: 1.251464 | G4: 1.229733 | H4: 1.340327 | I4: 1.144361 | J4: 1.103787 | K4: 1.143263 | L4: 0.841667 | M4: 0.984161 | N4: 1.365461 | O4: 0.810143 | P4: 0.87717 | Q4: 0.895918 | R4: 0.933508 | S4: 0.882618 | T4: 0.881255 | U4: 0.87601 | V4: 0.800953 | W4: 0.701242 | X4: 0.901218 | Y4: 0.760006 | Z4: 0.576849 | AA4: 0.714898 | AB4: 0.77773 | AC4: 0.781778 | AD4: 0.767778 | AE4: 0.740973 | AF4: 0.663741 | AG4: 0.514386 | AH4: 0.442994 | AI4: 0.640399 | AJ4: 0.443297 | AK4: 0.536442 | AL4: 0.439231 | AM4: 0.280872 | AN4: 0.361314 | AO4: 0.299654 | AP4: 0.245419 | AQ4: 0.127567 | AR4: 0.080452 | AS4: 0.024723 | AT4: 0.021332 | AU4: 0.014711 | AV4: 0.004456 | AW4: 0.004936

Sheet 1D_Auranofin
A1: Time1 | B1: 12.5μM | C1: 25μM | D1: 50μM | E1: 100μM | F1: 200μM | G1: 12.5μM | H1: 25μM | I1: 50μM | J1: 100μM | K1: 200μM
B2: Data1 | C2: Data2 | D2: Data3 | E2: Data4 | F2: Data5 | G2: Fit1 | H2: Fit2 | I2: Fit3 | J2: Fit4 | K2: Fit5
A3: 330.01 | B3: 0.017054 | C3: 0.020243 | D3: 0.02861 | E3: 0.02908 | F3: 0.029874 | G3: 0 | H3: 0 | I3: 0 | J3: 0 | K3: 0
A4: 330.21 | B4: 0.020153 | C4: 0.023151 | D4: 0.0321 | E4: 0.032721 | F4: 0.034899 | G4: 0.001001 | H4: 0.001999 | I4: 0.003983 | J4: 0.007905 | K4: 0.015569
A5: 330.41 | B5: 0.022959 | C5: 0.026836 | D5: 0.036928 | E5: 0.035979 | F5: 0.040857 | G5: 0.001995 | H5: 0.003975 | I5: 0.007889 | J5: 0.015538 | K5: 0.030146
A6: 330.61 | B6: 0.02474 | C6: 0.029981 | D6: 0.04072 | E6: 0.039444 | F6: 0.047569 | G6: 0.002981 | H6: 0.005928 | I6: 0.01172 | J6: 0.02291 | K6: 0.043794
A7: 330.81 | B7: 0.028115 | C7: 0.034139 | D7: 0.045634 | E7: 0.043852 | F7: 0.055002 | G7: 0.003959 | H7: 0.007858 | I7: 0.015477 | J7: 0.030028 | K7: 0.056573
A8: 331.01 | B8: 0.03039 | C8: 0.038526 | D8: 0.050534 | E8: 0.049657 | F8: 0.063419 | G8: 0.00493 | H8: 0.009765 | I8: 0.019162 | J8: 0.036903 | K8: 0.068539
A9: 331.21 | B9: 0.032839 | C9: 0.042673 | D9: 0.055177 | E9: 0.053552 | F9: 0.071138 | G9: 0.005893 | H9: 0.011651 | I9: 0.022775 | J9: 0.043542 | K9: 0.079741
A10: 331.41 | B10: 0.034378 | C10: 0.047669 | D10: 0.058918 | E10: 0.059216 | F10: 0.077882 | G10: 0.006848 | H10: 0.013514 | I10: 0.02632 | J10: 0.049953 | K10: 0.090231
A11: 331.61 | B11: 0.03734 | C11: 0.051952 | D11: 0.06423 | E11: 0.064862 | F11: 0.084778 | G11: 0.007796 | H11: 0.015356 | I11: 0.029795 | J11: 0.056144 | K11: 0.100052
A12: 331.81 | B12: 0.040474 | C12: 0.054078 | D12: 0.068067 | E12: 0.068896 | F12: 0.090877 | G12: 0.008736 | H12: 0.017176 | I12: 0.033204 | J12: 0.062122 | K12: 0.109248
A13: 332.01 | B13: 0.042767 | C13: 0.055863 | D13: 0.071347 | E13: 0.073622 | F13: 0.096121 | G13: 0.009669 | H13: 0.018975 | I13: 0.036548 | J13: 0.067896 | K13: 0.117857
A14: 332.21 | B14: 0.045425 | C14: 0.057516 | D14: 0.073909 | E14: 0.078419 | F14: 0.101975 | G14: 0.010595 | H14: 0.020753 | I14: 0.039827 | J14: 0.073472 | K14: 0.125919
... A452: 419.81 | B452: 0.020345 | C452: 0.029453 | D452: 0.060803 | E452: 0.088453 | F452: 0.088338 | G452: 0.026852 | H452: 0.043037 | I452: 0.059286 | J452: 0.069472 | K452: 0.074077

Sheet 1D_Zinc Pyrithione
A1: Time1 | B1: 12.5μM | C1: 25μM | D1: 50μM | E1: 100μM | F1: 200μM | G1: 12.5μM | H1: 25μM | I1: 50μM | J1: 100μM | K1: 200μM
B2: Data1 | C2: Data2 | D2: Data3 | E2: Data4 | F2: Data5 | G2: Fit1 | H2: Fit2 | I2: Fit3 | J2: Fit4 | K2: Fit5
A3: 330.01 | B3: 0.05826 | C3: 0.090524 | D3: 0.127822 | E3: 0.145894 | F3: 0.134724 | G3: 0 | H3: 0 | I3: 0 | J3: 0 | K3: 0
A4: 330.21 | B4: 0.064921 | C4: 0.103259 | D4: 0.143917 | E4: 0.163184 | F4: 0.153 | G4: 0.019019 | H4: 0.037064 | I4: 0.070431 | J4: 0.127516 | K4: 0.211311
A5: 330.41 | B5: 0.073408 | C5: 0.11665 | D5: 0.160299 | E5: 0.180771 | F5: 0.172768 | G5: 0.036367 | H5: 0.069129 | I5: 0.125244 | J5: 0.207826 | K5: 0.298468
A6: 330.61 | B6: 0.08169 | C6: 0.131347 | D6: 0.177296 | E6: 0.198869 | F6: 0.194139 | G6: 0.05219 | H6: 0.096869 | I6: 0.167903 | J6: 0.258405 | K6: 0.334416
A7: 330.81 | B7: 0.091363 | C7: 0.147006 | D7: 0.195542 | E7: 0.216953 | F7: 0.21532 | G7: 0.066623 | H7: 0.120868 | I7: 0.201101 | J7: 0.290261 | K7: 0.349243
A8: 331.01 | B8: 0.100779 | C8: 0.16243 | D8: 0.212667 | E8: 0.234186 | F8: 0.235564 | G8: 0.079787 | H8: 0.141629 | I8: 0.226938 | J8: 0.310323 | K8: 0.355359
A9: 331.21 | B9: 0.110818 | C9: 0.176895 | D9: 0.229118 | E9: 0.25141 | F9: 0.255733 | G9: 0.091794 | H9: 0.15959 | I9: 0.247045 | J9: 0.322958 | K9: 0.357881
A10: 331.41 | B10: 0.121665 | C10: 0.191297 | D10: 0.243669 | E10: 0.267341 | F10: 0.273842 | G10: 0.102747 | H10: 0.175128 | I10: 0.262694 | J10: 0.330916 | K10: 0.358922
A11: 331.61 | B11: 0.130465 | C11: 0.20333 | D11: 0.256195 | E11: 0.279957 | F11: 0.289103 | G11: 0.112736 | H11: 0.18857 | I11: 0.274872 | J11: 0.335928 | K11: 0.359351
A12: 331.81 | B12: 0.138398 | C12: 0.212924 | D12: 0.266006 | E12: 0.289742 | F12: 0.299927 | G12: 0.121848 | H12: 0.200199 | I12: 0.28435 | J12: 0.339085 | K12: 0.359528
A13: 332.01 | B13: 0.145288 | C13: 0.220462 | D13: 0.272886 | E13: 0.297194 | F13: 0.307824 | G13: 0.130159 | H13: 0.21026 | I13: 0.291726 | J13: 0.341073 | K13: 0.359601
A14: 332.21 | B14: 0.149697 | C14: 0.225958 | D14: 0.275772 | E14: 0.300283 | F14: 0.311372 | G14: 0.13774 | H14: 0.218964 | I14: 0.297466 | J14: 0.342325 | K14: 0.359631
... A452: 419.81 | B452: -0.03149 | C452: -0.02074 | D452: -0.00978 | E452: -0.0059 | F452: 0.003877 | G452: 1.83e-06 | H452: 2.32e-06 | I452: 2.68e-06 | J452: 2.91e-06 | K452: 3.03e-06

Sheet 1D_Sanguinarine
A1: Time1 | B1: 12.5μM | C1: 25μM | D1: 50μM | E1: 100μM | F1: 200μM | G1: 12.5μM | H1: 25μM | I1: 50μM | J1: 100μM | K1: 200μM
B2: Data1 | C2: Data2 | D2: Data3 | E2: Data4 | F2: Data5 | G2: Fit1 | H2: Fit2 | I2: Fit3 | J2: Fit4 | K2: Fit5
A3: 330.01 | B3: 0.028602 | C3: 0 | D3: 0.036206 | E3: 0 | F3: 0.095174 | G3: 0 | H3: 0.172189 | I3: 0 | J3: 0.367034 | K3: 0
A4: 330.21 | B4: 0.031357 | C4: 0.007754 | D4: 0.042382 | E4: 0.015464 | F4: 0.102805 | G4: 0.030755 | H4: 0.188353 | I4: 0.060825 | J4: 0.380956 | K4: 0.118971
A5: 330.41 | B5: 0.033799 | C5: 0.01459 | D5: 0.049598 | E5: 0.029019 | F5: 0.111871 | G5: 0.057405 | H5: 0.205271 | I5: 0.112334 | J5: 0.397262 | K5: 0.215193
A6: 330.61 | B6: 0.035684 | C6: 0.020616 | D6: 0.057249 | E6: 0.040901 | F6: 0.122003 | G6: 0.080499 | H6: 0.223597 | I6: 0.155954 | J6: 0.414627 | K6: 0.293016
A7: 330.81 | B7: 0.037819 | C7: 0.025929 | D7: 0.065243 | E7: 0.051316 | F7: 0.131888 | G7: 0.100511 | H7: 0.24258 | I7: 0.192894 | J7: 0.43277 | K7: 0.355958
A8: 331.01 | B8: 0.040582 | C8: 0.030613 | D8: 0.07276 | E8: 0.060446 | F8: 0.141133 | G8: 0.117852 | H8: 0.260755 | I8: 0.224176 | J8: 0.450804 | K8: 0.406865
A9: 331.21 | B9: 0.042125 | C9: 0.034743 | D9: 0.079945 | E9: 0.068449 | F9: 0.15092 | G9: 0.132878 | H9: 0.278206 | I9: 0.250667 | J9: 0.468718 | K9: 0.448038
A10: 331.41 | B10: 0.044857 | C10: 0.038384 | D10: 0.087648 | E10: 0.075463 | F10: 0.160294 | G10: 0.145899 | H10: 0.293988 | I10: 0.273101 | J10: 0.485341 | K10: 0.481338
A11: 331.61 | B11: 0.047808 | C11: 0.041593 | D11: 0.093126 | E11: 0.081612 | F11: 0.16871 | G11: 0.157183 | H11: 0.308123 | I11: 0.2921 | J11: 0.500513 | K11: 0.50827
A12: 331.81 | B12: 0.050192 | C12: 0.044423 | D12: 0.09779 | E12: 0.087002 | F12: 0.175634 | G12: 0.16696 | H12: 0.319024 | I12: 0.308188 | J12: 0.513409 | K12: 0.530053
A13: 332.01 | B13: 0.052609 | C13: 0.046918 | D13: 0.101459 | E13: 0.091727 | F13: 0.180843 | G13: 0.175433 | H13: 0.327154 | I13: 0.321812 | J13: 0.523349 | K13: 0.547671
A14: 332.21 | B14: 0.054312 | C14: 0.049117 | D14: 0.103186 | E14: 0.095868 | F14: 0.184315 | G14: 0.182775 | H14: 0.331167 | I14: 0.33335 | J14: 0.530092 | K14: 0.56192
... A452: 419.81 | B452: 0.014135 | C452: 0 | D452: 0.011534 | E452: 0 | F452: 0.010662 | G452: 0 | H452: 0.014077 | I452: 0 | J452: 0.003839 | K452: 0

Sheet 1D_Sanguinarine chloride
A1: Time1 | B1: 12.5μM | C1: 25μM | D1: 50μM | E1: 100μM | F1: 200μM | G1: 12.5μM | H1: 25μM | I1: 50μM | J1: 100μM | K1: 200μM
B2: Data1 | C2: Data2 | D2: Data3 | E2: Data4 | F2: Data5 | G2: Fit1 | H2: Fit2 | I2: Fit3 | J2: Fit4 | K2: Fit5
A3: 330.01 | B3: 0.03426 | C3: 0 | D3: 0.042844 | E3: 0 | F3: 0.13097 | G3: 0 | H3: 0.286696 | I3: 0 | J3: 0.316396 | K3: 0
A4: 330.21 | B4: 0.039022 | C4: 0.016014 | D4: 0.052953 | E4: 0.031731 | F4: 0.143687 | G4: 0.062295 | H4: 0.303618 | I4: 0.120098 | J4: 0.339115 | K4: 0.223515
A5: 330.41 | B5: 0.043951 | C5: 0.029703 | D5: 0.064374 | E5: 0.05834 | F5: 0.157941 | G5: 0.112572 | H5: 0.322061 | I5: 0.209873 | J5: 0.363547 | K5: 0.366843
A6: 330.61 | B6: 0.048322 | C6: 0.041405 | D6: 0.076459 | E6: 0.080655 | F6: 0.172356 | G6: 0.153149 | H6: 0.342015 | I6: 0.27698 | J6: 0.388385 | K6: 0.458752
A7: 330.81 | B7: 0.052748 | C7: 0.051409 | D7: 0.088971 | E7: 0.099369 | F7: 0.186356 | G7: 0.185897 | H7: 0.362308 | I7: 0.327144 | J7: 0.413872 | K7: 0.517688
A8: 331.01 | B8: 0.05869 | C8: 0.05996 | D8: 0.100474 | E8: 0.115062 | F8: 0.200469 | G8: 0.212328 | H8: 0.382078 | I8: 0.364641 | J8: 0.43963 | K8: 0.55548
A9: 331.21 | B9: 0.062702 | C9: 0.06727 | D9: 0.11083 | E9: 0.128223 | F9: 0.214259 | G9: 0.233659 | H9: 0.401466 | I9: 0.392671 | J9: 0.464197 | K9: 0.579714
A10: 331.41 | B10: 0.067367 | C10: 0.073519 | D10: 0.121587 | E10: 0.13926 | F10: 0.227207 | G10: 0.250875 | H10: 0.418863 | I10: 0.413624 | J10: 0.48616 | K10: 0.595255
A11: 331.61 | B11: 0.070908 | C11: 0.07886 | D11: 0.130099 | E11: 0.148515 | F11: 0.23868 | G11: 0.26477 | H11: 0.434778 | I11: 0.429286 | J11: 0.504671 | K11: 0.60522
A12: 331.81 | B12: 0.074218 | C12: 0.083427 | D12: 0.136207 | E12: 0.156277 | F12: 0.247477 | G12: 0.275983 | H12: 0.447933 | I12: 0.440993 | J12: 0.518917 | K12: 0.61161
A13: 332.01 | B13: 0.076945 | C13: 0.08733 | D13: 0.140135 | E13: 0.162786 | F13: 0.252675 | G13: 0.285034 | H13: 0.457592 | I13: 0.449745 | J13: 0.528994 | K13: 0.615707
A14: 332.21 | B14: 0.077696 | C14: 0.090667 | D14: 0.141421 | E14: 0.168245 | F14: 0.25696 | G14: 0.292338 | H14: 0.463933 | I14: 0.456287 | J14: 0.533772 | K14: 0.618335
... A452: 419.81 | B452: 0.014006 | C452: 0 | D452: 0.012329 | E452: 0 | F452: 0.011876 | G452: 0 | H452: -0.00863 | I452: 0 | J452: -0.06564 | K452: 0

Sheet 1E_BRCT 7-8-APS
A1: Time1 | B1: 30μM | D1: 15μM | F1: 7.5μM | H1: 3.75μM | J1: 1.875μM | L1: DMSO
B2: Data1 | C2: Fit1 | D2: Data2 | E2: Fit2 | F2: Data3 | G2: Fit3 | H2: Data4 | I2: Fit4 | J2: Data5 | K2: Fit5 | L2: Data6 | M2: Fit6
A3: 210 | B3: -0.01768 | C3: 0 | D3: -0.00499 | E3: 0 | F3: -0.00419 | G3: 0 | H3: 0.000861 | I3: 0 | J3: -0.00152 | K3: 0 | L3: 0.00934 | M3: 0
A4: 210.2 | B4: -0.01593 | C4: 0.000449 | D4: -0.00302 | E4: 0.000776 | F4: -0.00171 | G4: 0.000922 | H4: 0.003543 | I4: 0.001296 | J4: 0.001837 | K4: 0.001195 | L4: 0.014573 | M4: 0.002184
A5: 210.4 | B5: -0.01414 | C5: 0.000897 | D5: -0.00077 | E5: 0.00155 | F5: 0.001575 | G5: 0.001842 | H5: 0.007022 | I5: 0.002589 | J5: 0.005866 | K5: 0.002387 | L5: 0.020351 | M5: 0.00436
A6: 210.6 | B6: -0.01214 | C6: 0.001345 | D6: 0.001728 | E6: 0.002323 | F6: 0.005132 | G6: 0.002761 | H6: 0.010416 | I6: 0.003879 | J6: 0.009629 | K6: 0.003577 | L6: 0.026319 | M6: 0.00653
A7: 210.8 | B7: -0.00952 | C7: 0.001792 | D7: 0.004097 | E7: 0.003094 | F7: 0.008626 | G7: 0.003678 | H7: 0.013897 | I7: 0.005167 | J7: 0.014168 | K7: 0.004766 | L7: 0.032728 | M7: 0.008693
A8: 211 | B8: -0.00705 | C8: 0.002238 | D8: 0.006629 | E8: 0.003864 | F8: 0.012387 | G8: 0.004594 | H8: 0.017446 | I8: 0.006451 | J8: 0.018873 | K8: 0.005952 | L8: 0.039057 | M8: 0.010849
A9: 211.2 | B9: -0.00478 | C9: 0.002684 | D9: 0.009275 | E9: 0.004632 | F9: 0.015996 | G9: 0.005508 | H9: 0.021349 | I9: 0.007732 | J9: 0.023469 | K9: 0.007135 | L9: 0.045755 | M9: 0.012998
A10: 211.4 | B10: -0.00275 | C10: 0.00313 | D10: 0.011971 | E10: 0.005399 | F10: 0.019648 | G10: 0.00642 | H10: 0.025056 | I10: 0.009011 | J10: 0.028139 | K10: 0.008317 | L10: 0.051937 | M10: 0.01514
A11: 211.6 | B11: -0.0008 | C11: 0.003574 | D11: 0.014496 | E11: 0.006164 | F11: 0.023014 | G11: 0.007331 | H11: 0.028614 | I11: 0.010286 | J11: 0.032249 | K11: 0.009497 | L11: 0.057797 | M11: 0.017275
A12: 211.8 | B12: 0.001482 | C12: 0.004019 | D12: 0.016879 | E12: 0.006928 | F12: 0.025906 | G12: 0.00824 | H12: 0.032204 | I12: 0.011558 | J12: 0.036234 | K12: 0.010674 | L12: 0.062951 | M12: 0.019403
A13: 212 | B13: 0.00311 | C13: 0.004462 | D13: 0.019174 | E13: 0.00769 | F13: 0.028112 | G13: 0.009148 | H13: 0.034942 | I13: 0.012828 | J13: 0.039421 | K13: 0.011849 | L13: 0.067357 | M13: 0.021525
A14: 212.2 | B14: 0.004219 | C14: 0.004905 | D14: 0.020857 | E14: 0.008451 | F14: 0.030003 | G14: 0.010054 | H14: 0.037223 | I14: 0.014095 | J14: 0.041922 | K14: 0.013022 | L14: 0.070846 | M14: 0.023639
... A1202: 449.81 | B1202: 0.171744 | C1202: 0.1678 | D1202: 0.252662 | E1202: 0.250491 | F1202: 0.338356 | G1202: 0.309961 | H1202: 0.387211 | I1202: 0.37997 | J1202: 0.41925 | K1202: 0.38414 | L1202: 0.503421 | M1202: 0.489033

Sheet 1E_BRCT 7-8-pFANCJ
A1: Time1 | B1: 50μM | D1: 25μM | F1: 12.5μM | H1: 6.25μM | J1: 3.125μM | L1: DMSO
B2: Data1 | C2: Fit1 | D2: Data2 | E2: Fit2 | F2: Data3 | G2: Fit3 | H2: Data4 | I2: Fit4 | J2: Data5 | K2: Fit5 | L2: Data6 | M2: Fit6
A3: 210 | B3: 0.009581 | C3: 0.009581 | D3: 0.014622 | E3: 0.014622 | F3: 0.007583 | G3: 0.007583 | H3: 0.007807 | I3: 0.007807 | J3: 0.005165 | K3: 0.005165 | L3: 1.98e-06 | M3: 1.98e-06
A4: 210.2 | B4: 0.010215 | C4: 0.010896 | D4: 0.015869 | E4: 0.016976 | F4: 0.009423 | G4: 0.01125 | H4: 0.010388 | I4: 0.012436 | J4: 0.008773 | K4: 0.011215 | L4: 0.004213 | M4: 0.009673
A5: 210.4 | B5: 0.01137 | C5: 0.012204 | D5: 0.017531 | E5: 0.01931 | F5: 0.011731 | G5: 0.014877 | H5: 0.013615 | I5: 0.017005 | J5: 0.013092 | K5: 0.017169 | L5: 0.009626 | M5: 0.01914
A6: 210.6 | B6: 0.0122 | C6: 0.013504 | D6: 0.019255 | E6: 0.021627 | F6: 0.014678 | G6: 0.018465 | H6: 0.016984 | I6: 0.021514 | J6: 0.017871 | K6: 0.023028 | L6: 0.015245 | M6: 0.028408
A7: 210.8 | B7: 0.013229 | C7: 0.014798 | D7: 0.021095 | E7: 0.023925 | F7: 0.018286 | G7: 0.022015 | H7: 0.021263 | I7: 0.025963 | J7: 0.023006 | K7: 0.028794 | L7: 0.021966 | M7: 0.03748
A8: 211 | B8: 0.01456 | C8: 0.016084 | D8: 0.023503 | E8: 0.026205 | F8: 0.021718 | G8: 0.025526 | H8: 0.02592 | I8: 0.030354 | J8: 0.028591 | K8: 0.034468 | L8: 0.029217 | M8: 0.04636
A9: 211.2 | B9: 0.015985 | C9: 0.017364 | D9: 0.026379 | E9: 0.028468 | F9: 0.025734 | G9: 0.029 | H9: 0.030841 | I9: 0.034687 | J9: 0.034577 | K9: 0.040052 | L9: 0.037043 | M9: 0.055054
A10: 211.4 | B10: 0.017616 | C10: 0.018637 | D10: 0.029024 | E10: 0.030713 | F10: 0.029972 | G10: 0.032436 | H10: 0.035774 | I10: 0.038963 | J10: 0.040684 | K10: 0.045547 | L10: 0.045132 | M10: 0.063564
A11: 211.6 | B11: 0.019118 | C11: 0.019902 | D11: 0.031498 | E11: 0.03294 | F11: 0.034282 | G11: 0.035835 | H11: 0.040531 | I11: 0.043183 | J11: 0.046795 | K11: 0.050954 | L11: 0.053542 | M11: 0.071894
A12: 211.8 | B12: 0.020524 | C12: 0.021161 | D12: 0.034094 | E12: 0.03515 | F12: 0.03859 | G12: 0.039198 | H12: 0.0453 | I12: 0.047347 | J12: 0.052652 | K12: 0.056276 | L12: 0.061894 | M12: 0.080049
A13: 212 | B13: 0.022469 | C13: 0.022414 | D13: 0.036823 | E13: 0.037343 | F13: 0.042857 | G13: 0.042525 | H13: 0.050491 | I13: 0.051457 | J13: 0.058279 | K13: 0.061512 | L13: 0.070534 | M13: 0.088032
A14: 212.2 | B14: 0.02477 | C14: 0.023659 | D14: 0.040032 | E14: 0.039519 | F14: 0.047374 | G14: 0.045816 | H14: 0.055569 | I14: 0.055512 | J14: 0.063896 | K14: 0.066666 | L14: 0.078727 | M14: 0.095846
... A602: 329.8 | B602: 0.139367 | C602: 0.139266 | D602: 0.163803 | E602: 0.16265 | F602: 0.157878 | G602: 0.160217 | H602: 0.128485 | I602: 0.130607 | J602: 0.113013 | K602: 0.118925 | L602: 0.085211 | M602: 0.0896

Sheet 2A_BRCT7-8-PHF8-C
A1: Auranofin | B1: 0 | E1: 0.5 | H1: 1 | K1: 2 | N1: 4 | Q1: 8
A2: Fold of luminescence score | B2: 1 | C2: 1 | D2: 1 | E2: 0.712308 | F2: 0.782787 | G2: 0.911166 | H2: 0.370744 | I2: 0.531611 | J2: 0.579118 | K2: 0.273122 | L2: 0.383443 | M2: 0.3733 | N2: 0.129924 | O2: 0.176528 | P2: 0.134362 | Q2: 0.032585 | R2: 0.03613 | S2: 0.039527

Sheet 2A_BRCT7-8-FANCJ-C
A1: Auranofin | B1: 0 | E1: 0.5 | H1: 1 | K1: 2 | N1: 4 | Q1: 8
A2: Fold of luminescence score | B2: 1 | C2: 1 | D2: 1 | E2: 0.926006 | F2: 0.954884 | G2: 0.998861 | H2: 0.625091 | I2: 0.629891 | J2: 0.745517 | K2: 0.367422 | L2: 0.408996 | M2: 0.569974 | N2: 0.141571 | O2: 0.206553 | P2: 0.222052 | Q2: 0.095424 | R2: 0.089358 | S2: 0.060467

Sheet 2G_BRCT 7-8-Wt-Auranofin
A1: Time1 | B1: 25μM | C1: 50μM | D1: 100μM | E1: 200μM | F1: 25μM | G1: 50μM | H1: 100μM | I1: 200μM
B2: Data1 | C2: Data2 | D2: Data3 | E2: Data4 | F2: Fit1 | G2: Fit2 | H2: Fit3 | I2: Fit4
A3: 330.01 | B3: 0.012027 | C3: 0.018638 | D3: 0.001929 | E3: 0.016877 | F3: 0 | G3: 0 | H3: 0 | I3: 0
A4: 330.21 | B4: 0.013593 | C4: 0.018477 | D4: 0.005888 | E4: 0.021799 | F4: 0.001054 | G4: 0.002103 | H4: 0.004191 | I4: 0.00832
A5: 330.41 | B5: 0.014732 | C5: 0.019598 | D5: 0.010788 | E5: 0.027696 | F5: 0.0021 | G5: 0.004184 | H5: 0.008305 | I5: 0.016365
A6: 330.61 | B6: 0.017177 | C6: 0.021249 | D6: 0.015655 | E6: 0.034382 | F6: 0.003138 | G6: 0.006241 | H6: 0.012344 | I6: 0.024145
A7: 330.81 | B7: 0.018749 | C7: 0.022829 | D7: 0.021495 | E7: 0.041583 | F7: 0.004169 | G7: 0.008276 | H7: 0.016308 | I7: 0.031667
A8: 331.01 | B8: 0.020669 | C8: 0.024966 | D8: 0.027427 | E8: 0.049982 | F8: 0.005192 | G8: 0.010289 | H8: 0.020199 | I8: 0.038942
A9: 331.21 | B9: 0.022868 | C9: 0.02781 | D9: 0.033094 | E9: 0.057363 | F9: 0.006208 | G9: 0.012279 | H9: 0.024019 | I9: 0.045976
A10: 331.41 | B10: 0.025576 | C10: 0.030463 | D10: 0.038471 | E10: 0.065551 | F10: 0.007217 | G10: 0.014247 | H10: 0.027769 | I10: 0.052779
A11: 331.61 | B11: 0.028072 | C11: 0.033678 | D11: 0.043321 | E11: 0.073209 | F11: 0.008218 | G11: 0.016194 | H11: 0.031449 | I11: 0.059356
A12: 331.81 | B12: 0.030105 | C12: 0.036162 | D12: 0.0476 | E12: 0.081925 | F12: 0.009212 | G12: 0.01812 | H12: 0.035062 | I12: 0.065717
A13: 332.01 | B13: 0.032145 | C13: 0.040271 | D13: 0.05071 | E13: 0.089389 | F13: 0.010199 | G13: 0.020024 | H13: 0.038609 | I13: 0.071868
A14: 332.21 | B14: 0.033625 | C14: 0.042812 | D14: 0.053238 | E14: 0.096203 | F14: 0.011178 | G14: 0.021908 | H14: 0.04209 | I14: 0.077815
... A452: 419.81 | B452: 0.061303 | C452: 0.063614 | D452: 0.089306 | E452: 0.101863 | F452: 0.033466 | G452: 0.053769 | H452: 0.074224 | I452: 0.086893

Sheet 2G_BRCT 7-8-F1411-Auranofin
A1: Time1 | B1: 25μM | D1: 50μM | F1: 100μM | H1: 200μM
B2: Data1 | C2: Fit1 | D2: Data2 | E2: Fit2 | F2: Data3 | G2: Fit3 | H2: Data4 | I2: Fit4
A3: 330.01 | B3: 0.002634 | C3: 0.00391 | D3: 0.000552 | E3: 0.013151 | F3: 0 | G3: 0 | H3: 0 | I3: 0
A4: 330.21 | B4: 0.003323 | C4: 0.003899 | D4: 0.001589 | E4: 0.012407 | F4: 0.001037 | G4: 0.002073 | H4: 0.004146 | I4: 0.008291
A5: 330.41 | B5: 0.003291 | C5: 0.003926 | D5: 0.002598 | E5: 0.012685 | F5: 0.002032 | G5: 0.004063 | H5: 0.008126 | I5: 0.016251
A6: 330.61 | B6: 0.003907 | C6: 0.003848 | D6: 0.004594 | E6: 0.014304 | F6: 0.002988 | G6: 0.005975 | H6: 0.011949 | I6: 0.023894
A7: 330.81 | B7: 0.003986 | C7: 0.004234 | D7: 0.006562 | E7: 0.016448 | F7: 0.003906 | G7: 0.007811 | H7: 0.015619 | I7: 0.031232
A8: 331.01 | B8: 0.00503 | C8: 0.005261 | D8: 0.009322 | E8: 0.019722 | F8: 0.004788 | G8: 0.009573 | H8: 0.019144 | I8: 0.038278
A9: 331.21 | B9: 0.005805 | C9: 0.007248 | D9: 0.011684 | E9: 0.024573 | F9: 0.005634 | G9: 0.011266 | H9: 0.022528 | I9: 0.045043
A10: 331.41 | B10: 0.006493 | C10: 0.008903 | D10: 0.015235 | E10: 0.031054 | F10: 0.006447 | G10: 0.012891 | H10: 0.025778 | I10: 0.051538
A11: 331.61 | B11: 0.00814 | C11: 0.009644 | D11: 0.019106 | E11: 0.03816 | F11: 0.007228 | G11: 0.014452 | H11: 0.028899 | I11: 0.057774
A12: 331.81 | B12: 0.008351 | C12: 0.010901 | D12: 0.02209 | E12: 0.045943 | F12: 0.007978 | G12: 0.015951 | H12: 0.031896 | I12: 0.063762
A13: 332.01 | B13: 0.009505 | C13: 0.012037 | D13: 0.026163 | E13: 0.054215 | F13: 0.008698 | G13: 0.017391 | H13: 0.034773 | I13: 0.069511
A14: 332.21 | B14: 0.010531 | C14: 0.012409 | D14: 0.029071 | E14: 0.063739 | F14: 0.00939 | G14: 0.018773 | H14: 0.037536 | I14: 0.075031
... A452: 419.81 | B452: -0.00846 | C452: 0.004219 | D452: -0.00075 | E452: -0.0019 | F452: 1.4e-07 | G452: 2.9e-07 | H452: 5.8e-07 | I452: 1.15e-06

Sheet 3A
A1: Replicate 1 | L1: Replicate 2 | W1: Replicate 3
A2: DMSO | B2: Auranofin | C2: Auranofin+NAC | D2: PMX464 | E2: Piperlongumine | F2: CPT | G2: CPT+Auranofin | H2: CPT+Auranofin+NAC | I2: CPT+PMX464 | J2: CPT+Piperlongumine | L2: DMSO | M2: Auranofin | N2: Auranofin+NAC | O2: PMX464 | P2: Piperlongumine | Q2: CPT | R2: CPT+Auranofin | S2: CPT+Auranofin+NAC | T2: CPT+PMX464 | U2: CPT+Piperlongumine | W2: DMSO | X2: Auranofin | Y2: Auranofin+NAC | Z2: PMX464 | AA2: Piperlongumine | AB2: CPT | AC2: CPT+Auranofin | AD2: CPT+Auranofin+NAC | AE2: CPT+PMX464 | AF2: CPT+Piperlongumine
A3: 1.89 | B3: 2.533 | C3: 2.352 | D3: 2.977 | E3: 2.222 | F3: 16.289 | G3: 2.842 | H3: 4.371 | I3: 12.714 | J3: 11.524 | L3: 2.966 | M3: 3.535 | N3: 1.715 | O3: 2.664 | P3: 2.556 | Q3: 11.2 | R3: 3.847 | S3: 2.952 | T3: 18.473 | U3: 11.085 | W3: 4.694 | X3: 3.21 | Y3: 3.493 | Z3: 3.65 | AA3: 3.332 | AB3: 10.06 | AC3: 8.917 | AD3: 8.636 | AE3: 13.093 | AF3: 19.783
A4: 2.216 | B4: 2.759 | C4: 2.291 | D4: 1.017 | E4: 2.244 | F4: 16.183 | G4: 2.172 | H4: 4.021 | I4: 12.974 | J4: 12.629 | L4: 3.047 | M4: 3.815 | N4: 2.616 | O4: 4.569 | P4: 2.778 | Q4: 9.594 | R4: 1.591 | S4: 1.899 | T4: 9.273 | U4: 12.336 | W4: 3.647 | X4: 2.513 | Y4: 2.703 | Z4: 1.96 | AA4: 2.224 | AB4: 9.545 | AC4: 4.862 | AD4: 3.515 | AE4: 12.312 | AF4: 20.938
A5: 3.086 | B5: 1.344 | C5: 2.373 | D5: 3.631 | E5: 2.324 | F5: 17.541 | G5: 2.178 | H5: 4.239 | I5: 14.863 | J5: 8.536 | L5: 2.421 | M5: 3.576 | N5: 2.207 | O5: 3.056 | P5: 2.689 | Q5: 19.041 | R5: 8.695 | S5: 2.498 | T5: 14.431 | U5: 13.704 | W5: 3.593 | X5: 3.144 | Y5: 2.307 | Z5: 2.36 | AA5: 0.889 | AB5: 12.96 | AC5: 2.195 | AD5: 4.674 | AE5: 14.455 | AF5: 10.838
A6: 2.833 | B6: 1.53 | C6: 2.444 | D6: 1.495 | E6: 2.224 | F6: 7.111 | G6: 4.31 | H6: 4.861 | I6: 15.682 | J6: 10.673 | L6: 3.599 | M6: 2.622 | N6: 3.683 | O6: 3.556 | P6: 2.55 | Q6: 11.021 | R6: 2.126 | S6: 2.386 | T6: 17.696 | U6: 12.524 | W6: 3.788 | X6: 2.645 | Y6: 2.03 | Z6: 2.35 | AA6: 1.325 | AB6: 12.76 | AC6: 3.359 | AD6: 4.19 | AE6: 17.37 | AF6: 10.521
A7: 2.255 | B7: 3.572 | C7: 2.924 | D7: 3.826 | E7: 2.53 | F7: 7.658 | G7: 2.39 | H7: 5.192 | I7: 8.095 | J7: 11.554 | L7: 3.048 | M7: 4.335 | N7: 1.84 | O7: 2.221 | P7: 3.024 | Q7: 15.417 | R7: 4.775 | S7: 9.211 | T7: 17.416 | U7: 13.589 | W7: 3.869 | X7: 3.427 | Y7: 3.433 | Z7: 4.02 | AA7: 2.564 | AB7: 10.459 | AC7: 5.999 | AD7: 5.067 | AE7: 17.546 | AF7: 9.914
A8: 3.466 | B8: 1.063 | C8: 3.827 | D8: 1.771 | E8: 2.587 | F8: 7.366 | G8: 5.502 | H8: 5.279 | I8: 18.693 | J8: 13.351 | L8: 1.567 | M8: 2.764 | N8: 2.548 | O8: 3.262 | P8: 2.698 | Q8: 10.422 | R8: 5.396 | S8: 9.705 | T8: 15.838 | U8: 8.75 | W8: 3.677 | X8: 3.027 | Y8: 2.516 | Z8: 2.55 | AA8: 2.665 | AB8: 15.134 | AC8: 3.469 | AD8: 4.82 | AE8: 13.16 | AF8: 16.606
A9: 2.79 | B9: 3.817 | C9: 2.932 | D9: 1.327 | E9: 2.456 | F9: 9.277 | G9: 2.995 | H9: 4.36 | I9: 6.804 | J9: 11.875 | L9: 2.169 | M9: 4.295 | N9: 2.594 | O9: 4.315 | P9: 4.22 | Q9: 16.866 | R9: 2.895 | S9: 8.597 | T9: 15.306 | U9: 11.108 | W9: 3.331 | X9: 2.635 | Y9: 3.159 | Z9: 1.36 | AA9: 3.241 | AB9: 15.928 | AC9: 5.506 | AD9: 4.559 | AE9: 14.27 | AF9: 15.487
A10: 2.863 | B10: 2.693 | C10: 1.978 | D10: 1.875 | E10: 2.004 | F10: 5.083 | G10: 2.949 | H10: 5.427 | I10: 18.438 | J10: 12.603 | L10: 1.571 | M10: 3.445 | N10: 2.307 | O10: 3.021 | P10: 1.56 | Q10: 7.345 | R10: 7.899 | S10: 7.71 | T10: 12.406 | U10: 11.169 | W10: 0.696 | X10: 2.133 | Y10: 2.67 | Z10: 0.996 | AA10: 3.021 | AB10: 11.158 | AC10: 5.246 | AD10: 4.409 | AE10: 6.359 | AF10: 7.055
A11: 3.22 | B11: 2.058 | C11: 1.197 | D11: 1.17 | E11: 1.22 | F11: 7.815 | G11: 2.028 | H11: 4.706 | I11: 11.006 | J11: 11.243 | L11: 4.432 | M11: 3.764 | N11: 4.633 | O11: 1.226 | P11: 2.33 | Q11: 15.085 | R11: 5.892 | S11: 3.356 | T11: 14.84 | U11: 12.565 | W11: 0.955 | X11: 2.632 | Y11: 3.796 | Z11: 3.54 | AA11: 3.221 | AB11: 16.421 | AC11: 5.223 | AD11: 2.299 | AE11: 8.331 | AF11: 10.336
A12: 3.351 | B12: 3.435 | C12: 1.153 | D12: 1.991 | E12: 1.58 | F12: 7.158 | G12: 4.67 | H12: 4.523 | I12: 9.648 | J12: 11.905 | L12: 1.579 | M12: 4.51 | N12: 3.46 | O12: 0.54 | P12: 1.25 | Q12: 18.462 | R12: 4.062 | S12: 5.879 | T12: 14.034 | U12: 11.349 | W12: 1.94 | X12: 2.287 | Y12: 4.853 | Z12: 3.565 | AA12: 4.02 | AB12: 7.327 | AC12: 6.94 | AD12: 4.544 | AE12: 20.267 | AF12: 10.993
A13: 3.206 | B13: 3.056 | C13: 1.052 | D13: 1.947 | E13: 1.22 | F13: 7.763 | G13: 2.161 | H13: 4.449 | I13: 9.515 | J13: 10.443 | L13: 1.403 | M13: 3.959 | N13: 1.87 | O13: 2.56 | P13: 2.333 | Q13: 16.24 | R13: 2.999 | S13: 5.261 | T13: 11.319 | U13: 15.96 | W13: 1.428 | X13: 3.007 | Y13: 2.684 | Z13: 2.36 | AA13: 2.22 | AB13: 10.623 | AC13: 5.344 | AD13: 4.766 | AE13: 9.465 | AF13: 17.164
A14: 1.809 | B14: 2.985 | C14: 1.37 | D14: 1.845 | E14: 2.22 | F14: 5.436 | G14: 6.579 | H14: 3.331 | I14: 13.623 | J14: 10.362 | L14: 2.614 | M14: 1.099 | N14: 2.328 | O14: 2.654 | P14: 4.55 | Q14: 18.952 | R14: 6.623 | S14: 4.661 | T14: 4.254 | U14: 17.185 | W14: 1.388 | X14: 2.175 | Y14: 4.251 | Z14: 3.21 | AA14: 3.15 | AB14: 10.116 | AC14: 5.059 | AD14: 1.921 | AE14: 18.845 | AF14: 12.6
... A62: 3.277 | B62: 1.847 | C62: 2.57 | D62: 2.33 | E62: 2.055 | F62: 5.923 | G62: 7.65 | H62: 5.292 | I62: 17.495 | J62: 17.385 | L62: 1.012 | M62: 2.557 | N62: 2.426 | O62: 4.348 | P62: 2.336 | Q62: 17.737 | R62: 5.816 | S62: 2.983 | T62: 12.835 | U62: 12.137 | W62: 1.355 | X62: 3.636 | Y62: 2.421 | Z62: 4.662 | AA62: 1.67 | AB62: 16.709 | AC62: 3.767 | AD62: 6.587 | AE62: 17.026 | AF62: 11.626
A63: 3.565 | B63: 2.059 | C63: 2.701 | D63: 1.56 | E63: 2.112 | F63: 9.998 | G63: 4.865 | H63: 4.73 | I63: 11.547 | J63: 6.926 | L63: 1.383 | M63: 1.737 | N63: 2.69 | O63: 1.0556 | P63: 3.665 | Q63: 16.262 | R63: 2.961 | S63: 2.192 | T63: 13.039 | U63: 14.974 | W63: 1.751 | X63: 3.306 | Y63: 2.066 | Z63: 3.778 | AA63: 2.22 | AC63: 6.313 | AD63: 4.062 | AE63: 17.733 | AF63: 18.105
B64: 2.054 | C64: 3.056 | D64: 1.78 | E64: 3.221 | F64: 7.55 | G64: 8.529 | H64: 4.168 | I64: 14.529 | J64: 16.727 | L64: 1.505 | M64: 1.633 | N64: 3.634 | O64: 2.0546 | P64: 2.564 | Q64: 18.811 | R64: 5.027 | S64: 2.182 | T64: 14.101 | U64: 15.615 | W64: 5.387 | X64: 2.365 | Y64: 2.039 | Z64: 3.524 | AA64: 2.057 | AC64: 9.799 | AE64: 4.844 | AF64: 12.334
C65: 2.386 | E65: 2.004 | F65: 11.016 | G65: 6.519 | H65: 5.655 | I65: 12.362 | J65: 16.428 | L65: 1.155 | M65: 1.15 | N65: 3.045 | O65: 2.065 | P65: 2.354 | Q65: 19.816 | R65: 2.992 | S65: 2.592 | T65: 10.046 | U65: 15.14 | W65: 1.47 | X65: 2.147 | Y65: 2.391 | Z65: 3.554 | AA65: 1.652 | AC65: 6.047 | AE65: 8.038 | AF65: 18.808
C66: 2.486 | E66: 1.256 | F66: 7.623 | G66: 6.741 | H66: 7.081 | I66: 12.355 | J66: 14.688 | L66: 1.971 | M66: 3.284 | N66: 2.059 | O66: 4.336 | P66: 1.326 | Q66: 22.494 | S66: 9.124 | T66: 5.209 | U66: 13.626 | W66: 3.772 | X66: 4.121 | Y66: 1.559 | Z66: 3.245 | AA66: 1.559 | AC66: 6.337 | AE66: 9.643 | AF66: 8.988
C67: 2.627 | E67: 2.55 | F67: 15.847 | G67: 4.881 | H67: 2.512 | J67: 20.851 | L67: 1.328 | M67: 3.567 | N67: 2.47 | O67: 0.884 | P67: 1.224 | Q67: 19.243 | S67: 8.957 | T67: 13.959 | U67: 15.887 | W67: 2.701 | X67: 3.016 | Y67: 1.802 | Z67: 4.554 | AA67: 0.665 | AC67: 4.737 | AE67: 17.475
E68: 2.223 | G68: 2.102 | H68: 9.561 | J68: 14.472 | L68: 1.604 | M68: 1.159 | N68: 2.24 | O68: 1.326 | P68: 3.33 | Q68: 17.497 | S68: 4.982 | T68: 7.722 | U68: 16.541 | W68: 1.557 | X68: 2.036 | Y68: 3.2 | Z68: 2.564 | AA68: 3.664 | AC68: 6.584 | AE68: 9.941
G69: 3.256 | H69: 4.693 | J69: 13.399 | L69: 1.625 | M69: 3.919 | N69: 2.287 | P69: 2.36 | Q69: 15.594 | S69: 2.366 | T69: 9.501 | U69: 16.57 | W69: 3.061 | X69: 2.242 | Y69: 2.696 | Z69: 1.565 | AA69: 4.332 | AC69: 2.794 | AE69: 11.463
J70: 13.599 | L70: 2.213 | M70: 1.364 | N70: 2.913 | Q70: 15.659 | S70: 3.361 | T70: 16.351 | U70: 15.592 | W70: 1.8 | Y70: 2.494 | Z70: 1.987 | AA70: 2.336 | AC70: 6.946 | AE70: 8.012
J71: 16.628 | M71: 1.453 | N71: 4.01 | Q71: 9.079 | S71: 2.83 | T71: 10.901 | U71: 14.786 | W71: 2.848 | Y71: 1.974 | Z71: 2.36 | AA71: 1.235 | AC71: 2.8
J72: 14.855 | M72: 2.186 | N72: 2.137 | Q72: 8.773 | S72: 3.705 | T72: 14.209 | U72: 15.687 | W72: 3.423 | Z72: 3.665 | AA72: 0.98 | AC72: 2.03
J73: 16.853 | M73: 2.193 | Q73: 0.172 | S73: 3.124 | T73: 8.93 | U73: 15.439 | W73: 3.899 | Z73: 4.56 | AA73: 1.256 | AC73: 2.585
J74: 14.832 | M74: 3.685 | Q74: 9.543 | S74: 9.965 | T74: 17.314 | W74: 3.118 | Z74: 2.336 | AC74: 2.334
J75: 17.371 | M75: 2.963 | Q75: 16.125 | S75: 7.892 | T75: 9.991 | W75: 4.946 | Z75: 4.03 | AC75: 6.816
J76: 14.31 | M76: 3.086 | Q76: 17.626 | S76: 2.571 | T76: 14.057 | W76: 4.556
J77: 13.16 | M77: 3.155 | Q77: 16.331 | T77: 12.345 | W77: 2.036
T78: 5.531
T79: 10.285
T80: 12.322

Sheet 3A n=3 average
A1: DMSO | B1: Auranofin | C1: Auranofin+NAC | D1: PMX464 | E1: Piperlongumine | F1: CPT | G1: CPT+Auranofin | H1: CPT+Auranofin+NAC | I1: CPT+PMX464 | J1: CPT+Piperlongumine
A2: =AVERAGE('3A'!A3:A80) -> 2.714082 | B2: =AVERAGE('3A'!B3:B80) -> 2.4892581 | C2: =AVERAGE('3A'!C3:C80) -> 2.1362 | D2: =AVERAGE('3A'!D3:D80) -> 2.4712258 | E2: =AVERAGE('3A'!E3:E80) -> 2.1573485 | F2: =AVERAGE('3A'!F3:F80) -> 11.891538 | G2: =AVERAGE('3A'!G3:G80) -> 4.6526866 | H2: =AVERAGE('3A'!H3:H80) -> 4.6371791 | ... J2: =AVERAGE('3A'!J3:J80) -> 12.109733
A3: =AVERAGE('3A'!L3:L80) -> 2.8194118 | B3: =AVERAGE('3A'!M3:M80) -> 2.8135467 | C3: =AVERAGE('3A'!N3:N80) -> 2.6703571 | D3: =AVERAGE('3A'!O3:O80) -> 2.5623606 | E3: =AVERAGE('3A'!P3:P80) -> 2.6075373 | F3: =AVERAGE('3A'!Q3:Q80) -> 14.873867 | G3: =AVERAGE('3A'!R3:R80) -> 4.477254 | H3: =AVERAGE('3A'!S3:S80) -> 4.5837297 | ... J3: =AVERAGE('3A'!U3:U80) -> 14.027986
A4: =AVERAGE('3A'!W3:W80) -> 2.1466267 | B4: =AVERAGE('3A'!X3:X80) -> 2.8688657 | C4: =AVERAGE('3A'!Y3:Y80) -> 2.6761014 | D4: =AVERAGE('3A'!Z3:Z80) -> 2.828137 | E4: =AVERAGE('3A'!AA3:AA80) -> 2.6610704 | F4: =AVERAGE('3A'!AB3:AB80) -> 13.247883 | G4: =AVERAGE('3A'!AC3:AC80) -> 4.4821918 | H4: =AVERAGE('3A'!AD3:AD80) -> 5.6059672 | ... J4: =AVERAGE('3A'!AF3:AF80) -> 13.301312

Sheet 3E_Fork Length
A1: Replicate 1 | F1: Replicate 2 | K1: Replicate 3
A2: DMSO | B2: Auranofin | C2: Auranofin+NAC | D2: VE-821 | F2: DMSO | G2: Auranofin | H2: Auranofin+NAC | I2: VE-821 | K2: DMSO | L2: Auranofin | M2: Auranofin+NAC | N2: VE-821
A3: 3.103 | B3: 1.6 | C3: 2.54 | D3: 1.343 | F3: 4.19705 | G3: 2.2698 | H3: 1.6636 | I3: 1.6072 | K3: 5.634 | L3: 2.06 | M3: 1.796 | N3: 2.594
A4: 4.568 | B4: 1.884 | C4: 2.693 | D4: 2.163 | F4: 2.6624 | G4: 2.6127 | H4: 0.9536 | I4: 2.09335 | K4: 4.02 | L4: 2.673 | M4: 1.67 | N4: 1.099
A5: 6.68 | B5: 3.516 | C5: 1.19 | D5: 1.59 | F5: 5.8071 | G5: 2.7507 | H5: 1.5464 | I5: 1.6639 | K5: 4.471 | L5: 2.664 | M5: 1.545 | N5: 1.008
A6: 6.615 | B6: 1.933 | C6: 1.466 | D6: 1.284 | F6: 4.9829 | G6: 2.256 | H6: 0.8008 | I6: 3.41355 | K6: 4.276 | L6: 0.917 | M6: 2.35 | N6: 2.893
A7: 3.729 | B7: 3.029 | C7: 1.616 | D7: 1.888 | F7: 2.9731 | G7: 2.463 | H7: 1.1544 | I7: 1.9915 | K7: 4.705 | L7: 1.515 | M7: 4.063 | N7: 1.106
A8: 3.666 | B8: 2.774 | C8: 2.491 | D8: 2.21 | F8: 5.8695 | G8: 3.6726 | H8: 1.5964 | I8: 1.9285 | K8: 4.265 | L8: 2.82 | M8: 0.443 | N8: 1.417
A9: 3.885 | B9: 3.074 | C9: 1.494 | D9: 2.822 | F9: 5.9904 | G9: 4.2831 | H9: 1.3064 | I9: 2.67365 | K9: 3.15 | L9: 2.773 | M9: 2.567 | N9: 1.19
A10: 3.016 | B10: 2.039 | C10: 1.361 | D10: 1.693 | F10: 7.1695 | G10: 1.7442 | H10: 2.236 | I10: 2.10035 | K10: 3.478 | L10: 1.834 | M10: 1.587 | N10: 0.961
A11: 4.564 | B11: 1.552 | C11: 2.019 | D11: 2.559 | F11: 7.748 | G11: 2.9361 | H11: 1.3216 | I11: 1.76645 | K11: 3.739 | L11: 2.636 | M11: 1.462 | N11: 2.959
A12: 7.279 | B12: 3.437 | C12: 2.212 | D12: 1.27 | F12: 4.8906 | G12: 1.4898 | H12: 2.4856 | I12: 2.3667 | K12: 4.729 | L12: 2.136 | M12: 1.95 | N12: 2.179
A13: 8.584 | B13: 3.151 | C13: 1.634 | D13: 4.233 | F13: 4.20615 | G13: 0.9981 | H13: 3.7788 | I13: 1.6373 | K13: 4.185 | L13: 2.352 | M13: 1.922 | N13: 1.864
A14: 4.69 | B14: 3.131 | C14: 2.126 | D14: 1.34 | F14: 1.79855 | G14: 2.9349 | H14: 3.1316 | I14: 1.1662 | K14: 5.775 | L14: 3.26 | M14: 3.748 | N14: 1.596
... A99: 4.927 | B99: 2.02 | C99: 1.196 | D99: 1.093 | F99: 4.39855 | G99: 2.079 | H99: 1.7004 | I99: 2.9918 | K99: 6.23 | L99: 0.778 | M99: 0.9536 | N99: 0.952
A100: 3.297 | D100: 2.802 | F100: 4.07225 | G100: 2.3583 | H100: 5.5136 | I100: 2.57215 | K100: 3.4073 | L100: 2.2938 | M100: 1.6676 | N100: 1.2656
D101: 0.898 | F101: 6.1425 | G101: 2.5791 | H101: 5.8012 | K101: 2.9575 | L101: 2.9619 | M101: 1.1592 | N101: 1.4658
D102: 2.449 | F102: 3.55615 | G102: 1.4169 | H102: 2.1084 | K102: 2.84375 | L102: 2.3676 | M102: 0.99 | N102: 2.3646
D103: 1.447 | F103: 2.48495 | G103: 1.5546 | H103: 3.3552 | K103: 3.40275 | L103: 3.1572 | M103: 0.396 | N103: 2.42095
D104: 1.62785 | F104: 4.32055 | G104: 2.181 | H104: 1.7396 | K104: 5.01215 | L104: 2.9325 | M104: 1.3608 | N104: 0.5754
D105: 3.4153 | F105: 5.5874 | G105: 2.4645 | H105: 4.349 | K105: 4.36475 | L105: 1.8921 | M105: 0.84 | N105: 3.89445
D106: 2.55535 | F106: 4.18925 | G106: 8.215 | K106: 4.018 | M106: 1.089
D107: 2.63865 | F107: 6.445 | G107: 2.458 | M107: 1.307
D108: 2.408 | F108: 3.407 | G108: 3.76 | M108: 2.213
D109: 1.268 | F109: 3.381 | G109: 3.368 | M109: 1.771
D110: 0.721 | F110: 4.888 | G110: 2.101 | M110: 1.89
F111: 3.753 | G111: 2.605 | M111: 1.691
G112: 1.183

Sheet 3E_Fork Length n=3 Average
A1: DMSO | B1: Auranofin | C1: Auranofin+NAC | D1: VE-821
A2: =AVERAGE('3E_Fork Length'!A3:A113) -> 4.7337959 | B2: =AVERAGE('3E_Fork Length'!B3:B113) -> 2.6388866 | C2: =AVERAGE('3E_Fork Length'!C3:C113) -> 2.0199794 | D2: =AVERAGE('3E_Fork Length'!D3:D113) -> 1.690381
A3: =AVERAGE('3E_Fork Length'!K3:K113) -> 4.62305 | B3: =AVERAGE('3E_Fork Length'!L3:L113) -> 1.9907194 | C3: =AVERAGE('3E_Fork Length'!M3:M113) -> 2.1652037 | D3: =AVERAGE('3E_Fork Length'!N3:N113) -> 1.9729301
A4: =AVERAGE('3E_Fork Length'!F3:F113) -> 5.0266798 | B4: =AVERAGE('3E_Fork Length'!G3:G113) -> 2.1780209 | C4: =AVERAGE('3E_Fork Length'!H3:H113) -> 2.5182699 | D4: =AVERAGE('3E_Fork Length'!I3:I113) -> 2.0109536

Sheet 3E_Fork events
B1: Stalled forks | E1: Restarted forks
A2: DMSO | B2: 22.2 | C2: 20.1 | D2: 24.1 | E2: 77.8 | F2: 79.9 | G2: 75.9
A3: Auranofin | B3: 36.1 | C3: 40.2 | D3: 37.2 | E3: 64 | F3: 59.8 | G3: 62.8
A4: Auranofin+NAC | B4: 37 | C4: 39.7 | D4: 42.2 | E4: 63 | F4: 60.3 | G4: 57.8
A5: VE-821 | B5: 40.2 | C5: 38.7 | D5: 44.2 | E5: 59.8 | F5: 61.3 | G5: 56.8

Sheet 3F_Fork Length
A1: Replicate 1 | F1: Replicate 2 | K1: Replicate 3
A2: DMSO | C2: Auranofin | F2: DMSO | H2: Auranofin | K2: DMSO | M2: Auranofin
A3: Wt | B3: F1411A | C3: Wt | D3: F1411A | F3: 4.828 | G3: 1.7 | H3: 2.95412 | I3: 2.962 | K3: 5.078 | L3: 2.849 | M3: 1.397 | N3: 1.407
A4: 4.759 | B4: 2.627 | C4: 2.849 | D4: 2.269 | F4: 5.469 | G4: 2.992 | H4: 1.91786 | I4: 3.76438 | K4: 2.548 | L4: 2.707 | M4: 2.173 | N4: 2.029
A5: 5.832 | B5: 2.804 | C5: 1.975 | D5: 1.112 | F5: 5.198 | G5: 3.089 | H5: 2.75348 | I5: 2.07163 | K5: 3.282 | L5: 1.703 | M5: 1.816 | N5: 2.901
A6: 5.038 | B6: 2.002 | C6: 1.76 | D6: 1 | F6: 6.745 | G6: 2.519 | H6: 3.1996 | I6: 1.25467 | K6: 2.788 | L6: 2.865 | M6: 2.421 | N6: 3.297
A7: 3.5 | B7: 3.718 | C7: 2.373 | D7: 1.888 | F7: 6.958 | G7: 2.236 | H7: 1.80082 | I7: 2.92744 | K7: 3.659 | L7: 1.62 | M7: 2.558 | N7: 2.865
A8: 5.259 | B8: 1.827 | C8: 1.901 | D8: 0.917 | F8: 5.251 | G8: 1.888 | H8: 2.3693 | I8: 1.77785 | K8: 2.012 | L8: 1.641 | M8: 3.383 | N8: 3.24
A9: 2.127 | B9: 3.692 | C9: 2.457 | D9: 1.328 | F9: 7.865 | G9: 2.173 | H9: 2.47304 | I9: 2.64143 | K9: 5.641 | L9: 2.913 | M9: 2.09 | N9: 3.099
A10: 4.184 | B10: 2.87 | C10: 2.051 | D10: 1.692 | F10: 6.622 | G10: 1.668 | H10: 1.49872 | I10: 2.78092 | K10: 3.755 | L10: 3.431 | M10: 1.922 | N10: 2.983
A11: 2.87 | B11: 2.148 | C11: 2.67 | D11: 1.694 | F11: 6.175 | G11: 2.191 | H11: 2.3693 | I11: 2.70433 | K11: 2.329 | L11: 2.256 | M11: 2.462 | N11: 2.703
A12: 2.83 | B12: 1.955 | C12: 2.688 | D12: 1.703 | F12: 4.11 | G12: 1.493 | H12: 2.0539 | I12: 4.73748 | K12: 3.091 | L12: 3.089 | M12: 2.421 | N12: 1.641
A13: 2.429 | B13: 1.656 | C13: 3.065 | D13: 1.607 | F13: 3.526 | G13: 3.24 | H13: 2.76488 | I13: 1.55104 | K13: 4.184 | L13: 2.323 | M13: 1.592 | N13: 2.012
A14: 2.488 | B14: 2.314 | C14: 1.794 | D14: 1.703 | F14: 6.065 | G14: 3.533 | H14: 2.72194 | I14: 1.04599 | K14: 2.185 | L14: 1.791 | M14: 2.051 | N14: 1.353
A15: 3.011 | B15: 2.051 | C15: 1.763 | D15: 1.297 | F15: 3.089 | G15: 2.02419 | H15: 2.0539 | I15: 1.89218 | K15: 3.186 | L15: 1.694 | M15: 1.794 | N15: 3.936
... A109: 3.588 | B109: 2.015 | C109: 2.323 | D109: 2.134 | F109: 4.8916 | G109: 2.40678 | H109: 2.27658 | I109: 2.17338 | K109: 5.993 | L109: 3.091 | M109: 1.604 | N109: 2.382
A110: 3.886 | B110: 1.425 | C110: 2.849 | D110: 2.386 | F110: 2.7321 | G110: 1.65375 | I110: 1.94842 | K110: 5.87 | L110: 2.308 | M110: 1.182 | N110: 1.198
A111: 3.431 | B111: 2.849 | C111: 2.462 | D111: 1.692 | F111: 3.1668 | G111: 1.25631 | I111: 2.22037 | K111: 4.888 | L111: 1.955 | M111: 1.543
A112: 2.928 | B112: 1.703 | C112: 1.99 | D112: 2.896 | F112: 4.0985 | G112: 1.34109 | I112: 1.8833 | K112: 3.782 | L112: 2.051 | M112: 1.506
A113: 4.512 | B113: 1.99 | C113: 1.791 | D113: 2.607 | F113: 5.2122 | G113: 1.9386 | I113: 2.425 | K113: 5.314 | L113: 2.898 | M113: 2.26252
A114: 3.296 | B114: 2.329 | D114: 2.545 | F114: 5.2955 | G114: 1.30518 | I114: 3.694 | K114: 6.572 | L114: 2.099 | M114: 2.25226
A115: 5.973 | B115: 2.439 | D115: 2.078 | F115: 6.1208 | G115: 2.1249 | I115: 3.425 | K115: 4.5843 | M115: 3.435
A116: 7.6909 | B116: 1.35702 | F116: 1.7731 | G116: 1.53063 | I116: 1.297 | K116: 4.0369 | M116: 1.62
A117: 6.7151 | B117: 0.89154 | F117: 3.4244 | G117: 1.93347 | K117: 2.2638
A118: 2.7048 | B118: 1.51713 | F118: 4.494 | G118: 1.5363
A119: 2.5501 | F119: 2.2701 | G119: 2.55366
F120: 8.6765 | G120: 1.05462
F121: 8.0661
F122: 3.5077
F123: 2.9057

Sheet 3F_Fork Length n=3 Average
A1: DMSO | C1: Auranofin
A2: Wt | B2: F1411A | C2: Wt | D2: F1411A
A3: =AVERAGE('3F_Fork Length'!A4:A124) -> 4.2265509 | B3: =AVERAGE('3F_Fork Length'!B4:B124) -> 2.2586669 | C3: =AVERAGE('3F_Fork Length'!C4:C124) -> 2.4564273 | D3: =AVERAGE('3F_Fork Length'!D4:D124) -> 1.9738661
A4: =AVERAGE('3F_Fork Length'!F3:F124) -> 5.0224124 | B4: =AVERAGE('3F_Fork Length'!G3:G124) -> 1.6672312 | C4: =AVERAGE('3F_Fork Length'!H3:H124) -> 2.3398234 | D4: =AVERAGE('3F_Fork Length'!I3:I124) -> 2.1396139
A5: =AVERAGE('3F_Fork Length'!K3:K124) -> 4.3794783 | B5: =AVERAGE('3F_Fork Length'!L3:L124) -> 2.1860982 | C5: =AVERAGE('3F_Fork Length'!M3:M124) -> 2.3284893 | D5: =AVERAGE('3F_Fork Length'!N3:N124) -> 2.2297593

Sheet 3F_Fork events
B1: Stalled forks | E1: Restarted forks
A2: Wt/DMSO | B2: 20.4 | C2: 25.1 | D2: 21.8 | E2: 79.6 | F2: 74.9 | G2: 78.2
A3: F1411A/DMSO | B3: 34.5 | C3: 38.4 | D3: 40.5 | E3: 65.5 | F3: 61.6 | G3: 59.5
A4: Wt/Auranofin | B4: 36.5 | C4: 33.5 | D4: 37.4 | E4: 63.5 | F4: 66.5 | G4: 62.6
A5: Auranofin | B5: 40.5 | C5: 36.8 | D5: 37.5 | E5: 59.5 | F5: 63.2 | G5: 62.5

Sheet 4A
A1: Replicate 1 | E1: Replicate 2 | I1: Replicate 3
A2: DMSO | B2: Auranofin | C2: 1,6-HD | E2: DMSO | F2: Auranofin | G2: 1,6-HD | I2: DMSO | J2: Auranofin | K2: 1,6-HD
A3: 1.131928 | B3: 0.12577 | C3: 0.50308 | E3: 0.880388 | F3: 0.37731 | G3: 0.25154 | I3: 1.509238 | J3: 0.50308 | K3: 0.25154
A4: 0.50308 | B4: 0.027292 | C4: 0.06823 | E4: 1.131928 | F4: 0.50308 | G4: 0.25154 | I4: 1.383468 | J4: 0.50308 | K4: 0.25154
A5: 1.131928 | B5: 1.006158 | C5: 0.754618 | E5: 1.509238 | F5: 0.50308 | G5: 0.25154 | I5: 0.50308 | J5: 0.50308 | K5: 0.12577
A6: 0.081876 | B6: 0.25154 | C6: 0.37731 | E6: 1.509238 | F6: 0.040938 | G6: 0.37731 | I6: 0.37731 | J6: 0.37731 | K6: 0.25154
A7: 0.880388 | B7: 0.754618 | C7: 0.12577 | E7: 0.754618 | F7: 0.013646 | G7: 0.754618 | I7: 0.62885 | J7: 0.12577 | K7: 0.054584
A8: 1.006158 | B8: 1.257698 | C8: 0.12577 | E8: 0.62885 | F8: 0.37731 | G8: 0.37731 | I8: 0.880388 | J8: 0.62885 | K8: 0.37731
A9: 0.62885 | B9: 0.62885 | C9: 0.122826 | E9: 0.880388 | F9: 0.25154 | G9: 0.25154 | I9: 1.635008 | J9: 0.06823 | K9: 0.754618
A10: 1.509238 | B10: 0.10918 | C10: 0.25154 | E10: 1.060742 | F10: 0.12577 | G10: 0.50308 | I10: 0.754618 | J10: 0.50308 | K10: 0.50308
A11: 0.50308 | B11: 0.62885 | C11: 0.25154 | E11: 1.142618 | F11: 0.25154 | G11: 0.50308 | I11: 1.635008 | J11: 0.62885 | K11: 0.25154
A12: 0.754618 | B12: 0.37731 | C12: 0.12577 | E12: 0.754618 | F12: 0.25154 | G12: 0.054584 | I12: 1.635008 | J12: 0.50308 | K12: 0.37731
A13: 1.509238 | B13: 0.25154 | C13: 0.25154 | E13: 1.091808 | F13: 0.25154 | G13: 0.027292 | I13: 0.754618 | J13: 0.37731 | K13: 0.054584
A14: 1.383468 | B14: 1.509238 | C14: 0.25154 | E14: 0.50308 | F14: 0.25154 | G14: 0.754618 | I14: 1.509238 | J14: 0.12577 | K14: 0.37731
... A79: 1.383468 | B79: 0.25154 | C79: 0.25154 | E79: 0.50308 | F79: 0.12577 | G79: 0.25154 | I79: 0.37731 | J79: 0.25154 | K79: 0.25154
A80: 0.37731 | C80: 0.10918 | E80: 0.50308 | F80: 0.50308 | G80: 0.25154 | I80: 1.509238 | J80: 0.754618 | K80: 0.37731
E81: 0.37731 | F81: 0.50308 | G81: 0.25154 | I81: 1.383468 | J81: 0.62885 | K81: 0.37731
E82: 0.62885 | F82: 0.12577 | G82: 0.25154 | I82: 1.383468 | J82: 0.37731 | K82: 0.37731
E83: 0.50308 | F83: 0.12577 | G83: 0.054584 | I83: 1.94 | J83: 0.37731 | K83: 0.25154
E84: 1.383468 | F84: 0.12577 | G84: 0.081876 | I84: 0.62885 | J84: 0.25154 | K84: 0.37731
E85: 0.50308 | F85: 0.12577 | G85: 0.37731 | I85: 2.641166 | J85: 0.880388 | K85: 0.25154
E86: 1.509238 | F86: 0.25154 | G86: 0.25154 | J86: 0.25154
E87: 0.754618 | G87: 0.12577 | J87: 0.37731
E88: 1.635008 | G88: 0.25154 | J88: 0.37731
E89: 1.760778 | G89: 0.25154 | J89: 0.25154
E90: 1.803538 | G90: 1.131928 | J90: 0.62885

Sheet 4A n=3 Average
A1: DMSO | B1: Auranofin | C1: 1,6-HD
A2: =AVERAGE('4A'!A3:A90) -> 0.92705626 | B2: =AVERAGE('4A'!B3:B90) -> 0.57556626 | C2: =AVERAGE('4A'!C3:C90) -> 0.3021351
A3: =AVERAGE('4A'!E3:E90) -> 1.1069959 | B3: =AVERAGE('4A'!F3:F90) -> 0.33228662 | C3: =AVERAGE('4A'!G3:G90) -> 0.33879648
A4: =AVERAGE('4A'!I3:I90) -> 1.0334917 | B4: =AVERAGE('4A'!J3:J90) -> 0.3831482 | C4: =AVERAGE('4A'!K3:K90) -> 0.31498877

Sheet 4B
A1: Replicate 1 | D1: Replicate 2 | G1: Replicate 3
A2: Wt | B2: F1411A | D2: Wt | E2: F1411A | G2: Wt | H2: F1411A
A3: 1.635008 | B3: 0.37731 | D3: 0.62885 | E3: 0.25154 | G3: 0.50308 | H3: 0.37731
A4: 0.50308 | B4: 0.50308 | D4: 1.509238 | E4: 0.754618 | G4: 0.880388 | H4: 0.25154
A5: 0.50308 | B5: 0.50308 | D5: 0.62885 | E5: 0.25154 | G5: 0.37731 | H5: 0.50308
A6: 2.138086 | B6: 0.081876 | D6: 1.635008 | E6: 0.25154 | G6: 1.886548 | H6: 0.37731
A7: 1.760778 | B7: 0.37731 | D7: 1.509238 | E7: 0.37731 | G7: 1.509238 | H7: 0.37731
A8: 0.50308 | B8: 0.25154 | D8: 1.509238 | E8: 0.37731 | G8: 2.766936 | H8: 0.25154
A9: 0.50308 | B9: 0.25154 | D9: 0.50308 | E9: 0.37731 | G9: 1.509238 | H9: 0.50308
A10: 0.37731 | B10: 0.10918 | D10: 1.509238 | E10: 0.50308 | G10: 0.62885 | H10: 0.25154
A11: 0.50308 | B11: 0.62885 | D11: 1.509238 | E11: 0.25154 | G11: 1.383468 | H11: 0.25154
A12: 1.364602 | B12: 0.50308 | D12: 0.37731 | E12: 0.37731 | G12: 1.509238 | H12: 0.37731
A13: 0.50308 | B13: 0.37731 | D13: 0.213808 | E13: 0.040938 | G13: 1.635008 | H13: 0.12577
A14: 0.754618 | B14: 0.095522 | D14: 1.364602 | E14: 0.12577 | G14: 1.803538 | H14: 0.62885
... A80: 2.485966 | B80: 0.25154 | D80: 2.389626 | E80: 0.754618 | G80: 0.880388 | H80: 0.37731
A81: 1.509238 | E81: 0.054584 | G81: 1.509238 | H81: 0.027292
A82: 1.803538 | E82: 0.62885 | G82: 0.754618 | H82: 1.006158
A83: 1.635008 | E83: 0.12577 | G83: 1.635008 | H83: 0.12577
A84: 2.641166 | E84: 0.37731 | G84: 0.37731 | H84: 0.25154
A85: 0.37731 | G85: 1.635008 | H85: 0.122826
A86: 0.754618 | H86: 0.50308
A87: 0.25154 | H87: 0.37731
A88: 1.886548 | H88: 0.37731
A89: 2.263856 | H89: 0.62885
A90: 1.131928 | H90: 0.095522
H91: 0.62885

Sheet 4B n=3 Average
A1: Wt | B1: F1411A
A2: =AVERAGE('4B'!A3:A91) -> 1.0777654 | B2: =AVERAGE('4B'!B3:B91) -> 0.41456654
A3: =AVERAGE('4B'!D3:D91) -> 1.1720619 | B3: =AVERAGE('4B'!E3:E91) -> 0.41474671
A4: =AVERAGE('4B'!G3:G91) -> 0.93870439 | B4: =AVERAGE('4B'!H3:H91) -> 0.36895948

Sheet 4C_mCherry-LacI-TOPBP1
A1: Replicate 1 | D1: Replicate 2 | G1: Replicate 3
A2: 0s | B2: 90s | D2: 0s | E2: 90s | G2: 0s | H2: 90s
A3: 50.914 | B3: 23.957 | D3: 45.072 | E3: 20.624 | G3: 62.261 | H3: 21.316
A4: 40.793 | B4: 26 | D4: 48.158 | E4: 21.675 | G4: 49.921 | H4: 14.558
A5: 43.982 | B5: 23.304 | D5: 67.813 | E5: 21 | G5: 51.749 | H5: 18.799
A6: 37.696 | B6: 21.73 | D6: 33.518 | E6: 16.422 | G6: 59.765 | H6: 20.748
A7: 36.811 | B7: 12.947 | D7: 22.081 | E7: 20.619 | G7: 55.1
G8: 64.38

Sheet 4C_mCherry-LacI-TOPBP1 Average
A1: 0s | B1: 90s
A2: =AVERAGE('4C_mCherry-LacI-TOPBP1'!A3:A7) -> 42.0392 | B2: =AVERAGE('4C_mCherry-LacI-TOPBP1'!B3:B7) -> 21.5876
A3: =AVERAGE('4C_mCherry-LacI-TOPBP1'!D3:D7) -> 43.3284 | B3: =AVERAGE('4C_mCherry-LacI-TOPBP1'!E3:E7) -> 20.068
A4: =AVERAGE('4C_mCherry-LacI-TOPBP1'!G3:G8) -> 57.196 | B4: =AVERAGE('4C_mCherry-LacI-TOPBP1'!H3:H8) -> 18.85525

Sheet 4C_mCherry-LacI
A1: Replicate 1 | D1: Replicate 2 | G1: Replicate 3
A2: 0s | B2: 90s | D2: 0s | E2: 90s | G2: 0s | H2: 90s
A3: 29.667 | B3: 28.287 | D3: 43.774 | E3: 74.139 | G3: 45.14 | H3: 64.621
A4: 75.411 | B4: 77.44 | D4: 37.226 | E4: 34.706 | G4: 52.048 | H4: 53.681
A5: 67.14 | B5: 45.458 | D5: 31.024 | E5: 55.553 | G5: 62.028 | H5: 60.774
A6: 42.065 | B6: 48.961 | D6: 45.118 | E6: 16.933 | G6: 51.276 | H6: 37.771
A7: 25.406 | B7: 46.886 | D7: 51.66 | E7: 42.2 | G7: 59.903 | H7: 53.214
A8: 47.557 | B8: 42.908 | D8: 76.634 | E8: 55.952 | G8: 35.943 | H8: 61.867
A9: 43.987 | B9: 43.85 | G9: 54.648
G10: 59.919

Sheet 4C_mCherry-LacI Average
A1: 0s | B1: 90s
A2: =AVERAGE('4C_mCherry-LacI'!A3:A9) -> 47.319 | B2: =AVERAGE('4C_mCherry-LacI'!B3:B9) -> 47.684286
A3: =AVERAGE('4C_mCherry-LacI'!D3:D8) -> 47.572667 | B3: =AVERAGE('4C_mCherry-LacI'!E3:E8) -> 46.5805
A4: =AVERAGE('4C_mCherry-LacI'!G3:G10) -> 52.613125 | B4: =AVERAGE('4C_mCherry-LacI'!H3:H10) -> 55.321333

Sheet 4D
A1: Replicate 1 | H1: Replicate 2 | O1: Replicate 3
A2: Vehicle | B2: Vehicle+AF | C2: Wt | D2: Wt+AF | E2: F1411A | F2: F1411A+AF | H2: Vehicle | I2: Vehicle+AF | J2: Wt | K2: Wt+AF | L2: F1411A | M2: F1411A+AF | O2: Vehicle | P2: Vehicle+AF | Q2: Wt | R2: Wt+AF | S2: F1411A | T2: F1411A+AF
A3: 0.005672 | B3: 0.006459 | C3: 0.018463 | D3: 0.012046 | E3: 0.001158 | F3: 0.006111 | H3: 0.00311 | I3: 0.013521 | J3: 0.023784 | K3: 0.007657 | L3: 0.008296 | M3: 0.00578 | O3: 0.00814 | P3: 0.008811 | Q3: 0.038555 | R3: 0.002428 | S3: 0.012488 | T3: 0.002675
A4: 0.006038 | B4: 0.014335 | C4: 0.018735 | D4: 0.006578 | E4: 0.004725 | F4: 0.018667 | H4: 0.007464 | I4: 0.007045 | J4: 0.015847 | K4: 0.014817 | L4: 0.009566 | M4: 0.002578 | O4: 0.008103 | P4: 0.010893 | Q4: 0.028762 | R4: 0.007981 | S4: 0.009505 | T4: 0.011354
A5: 0.004746 | B5: 0.007764 | C5: 0.019623 | D5: 0.00297 | E5: 0.003684 | F5: 0.01284 | H5: 0.01738 | I5: 0.010332 | J5: 0.043505 | K5: 0.015645 | L5: 0.009712 | M5: 0.003784 | O5: 0.011297 | P5: 0.005556 | Q5: 0.045836 | R5: 0.019294 | S5: 0.011258 | T5: 0.009231
A6: 0.007472 | B6: 0.015843 | C6: 0.021744 | D6: 0.008612 | E6: 0.008283 | F6: 0.004068 | H6: 0.008798 | I6: 0.017419 | J6: 0.03776 | K6: 0.019186 | L6: 0.010626 | M6: 0.01126 | O6: 0.002259 | P6: 0.006891 | Q6: 0.039453 | R6: 0.012672 | S6: 0.012959 | T6: 0.006838
A7: 0.007261 | B7: 0.0098 | C7: 0.022583 | D7: 0.005708 | E7: 0.001081 | F7: 0.008157 | H7: 0.009246 | I7: 0.006445 | J7: 0.034889 | K7: 0.008305 | L7: 0.005217 | M7: 0.009901 | O7: 0.008173 | P7: 0.005316 | Q7: 0.040024 | R7: 0.009715 | S7: 0.009649 | T7: 0.014756
A8: 0.004476 | B8: 0.007891 | C8: 0.024841 | D8: 0.006673 | E8: 0.003097 | F8: 0.011622 | H8: 0.005901 | I8: 0.022345 | J8: 0.016136 | K8: 0.002926 | L8: 0.006754 | M8: 0.005668 | O8: 0.004049 | P8: 0.012605 | Q8: 0.021198 | R8: 0.006796 | S8: 0.026372 | T8: 0.010147
A9: 0.008516 | B9: 0.007858 | C9: 0.021809 | D9: 0.003704 | E9: 0.002499 | F9: 0.013022 | H9: 0.004867 | I9: 0.013444 | J9: 0.02646 | K9: 0.004124 | L9: 0.006637 | M9: 0.01274 | O9: 0.003225 | P9: 0.004385 | Q9: 0.019059 | R9: 0.006403 | S9: 0.021108 | T9: 0.005137
A10: 0.006958 | B10: 0.005003 | C10: 0.01968 | D10: 0.00553 | E10: 0.004642 | F10: 0.012876 | H10: 0.005024 | I10: 0.007561 | J10: 0.02654 | K10: 0.003842 | L10: 0.003482 | M10: 0.001553 | O10: 0.005313 | P10: 0.007547 | Q10: 0.020293 | R10: 0.021442 | S10: 0.015045 | T10: 0.008512
A11: 0.005769 | B11: 0.01007 | C11: 0.019332 | D11: 0.005892 | E11: 0.009384 | F11: 0.010159 | H11: 0.008319 | I11: 0.007231 | J11: 0.023073 | K11: 0.00661 | L11: 0.014149 | M11: 0.011599 | O11: 0.007328 | P11: 0.005758 | Q11: 0.034636 | R11: 0.004375 | S11: 0.014995 | T11: 0.011335
A12: 0.002268 | B12: 0.006096 | C12: 0.01382 | D12: 0.006655 | E12: 0.00416 | F12: 0.009029 | H12: 0.006751 | I12: 0.006024 | J12: 0.019691 | K12: 0.006993 | L12: 0.006585 | M12: 0.004618 | O12: 0.00736 | P12: 0.010803 | Q12: 0.029976 | R12: 0.008388 | S12: 0.020535 | T12: 0.008851
A13: 0.003499 | B13: 0.002526 | C13: 0.03042 | D13: 0.011911 | E13: 0.008447 | F13: 0.008982 | H13: 0.004862 | I13: 0.004924 | J13: 0.035546 | K13: 0.010185 | L13: 0.013251 | M13: 0.002136 | O13: 0.010226 | P13: 0.004823 | Q13: 0.045977 | R13: 0.002515 | S13: 0.015943 | T13: 0.016942
A14: 0.008725 | B14: 0.002885 | C14: 0.013553 | D14: 0.009366 | E14: 0.017806 | F14: 0.008547 | H14: 0.009875 | I14: 0.009513 | J14: 0.018814 | K14: 0.009963 | L14: 0.010249 | M14: 0.009581 | O14: 0.00561 | P14: 0.001246 | Q14: 0.017999 | R14: 0.004386 | S14: 0.007791 | T14: 0.006036
... A19: 0.006608 | B19: 0.00587 | C19: 0.035128 | D19: 0.011245 | E19: 0.016272 | F19: 0.005532 | H19: 0.022159 | I19: 0.001577 | J19: 0.023623 | K19: 0.009759 | L19: 0.009005 | M19: 0.009624 | O19: 0.010256 | P19: 0.002522 | Q19: 0.026036 | R19: 0.009226 | S19: 0.006956 | T19: 0.005242
A20: 0.009125 | C20: 0.02581 | D20: 0.002929 | F20: 0.003757 | H20: 0.009747 | I20: 0.005759 | J20: 0.016678 | K20: 0.009596 | L20: 0.006506 | M20: 0.004332 | O20: 0.004321 | P20: 0.006711 | Q20: 0.02045 | R20: 0.011148 | S20: 0.013027 | T20: 0.009375
C21: 0.027237 | F21: 0.010148 | H21: 0.009819 | J21: 0.017146 | K21: 0.009383 | L21: 0.007036 | M21: 0.007098 | O21: 0.014148 | P21: 0.005464 | R21: 0.007674 | T21: 0.008681
C22: 0.021823 | F22: 0.007744 | H22: 0.004962 | K22: 0.014542 | L22: 0.007032 | M22: 0.010958 | P22: 0.010525 | R22: 0.010767 | T22: 0.012846
F23: 0.007252 | H23: 0.012446 | L23: 0.008352 | M23: 0.016525 | R23: 0.009482 | T23: 0.005272
F24: 0.008861 | H24: 0.015184 | M24: 0.007207
F25: 0.015946 | M25: 0.006593
F26: 0.009833 | M26: 0.020074
M27: 0.004225
M28: 0.011566
M29: 0.011326
M30: 0.004243

Sheet 4D n=3 Average
A1: Vehicle | B1: Vehicle+AF | C1: Wt | D1: Wt+AF | E1: F1411A | F1: F1411A+AF
A2: =AVERAGE('4D'!A3:A30) -> 0.0061425556 | B2: =AVERAGE('4D'!B3:B30) -> 0.0075487647 | C2: =AVERAGE('4D'!C3:C30) -> 0.0241304 | D2: =AVERAGE('4D'!D3:D30) -> 0.0076667778 | E2: =AVERAGE('4D'!E3:E30) -> 0.0079814118 | F2: =AVERAGE('4D'!F3:F30) -> 0.00999525
A3: =AVERAGE('4D'!H3:H30) -> 0.009387 | B3: =AVERAGE('4D'!I3:I30) -> 0.010134333 | C3: =AVERAGE('4D'!J3:J30) -> 0.026372947 | D3: =AVERAGE('4D'!K3:K30) -> 0.00983935 | E3: =AVERAGE('4D'!L3:L30) -> 0.0098881905 | F3: =AVERAGE('4D'!M3:M30) -> 0.0082807143
A4: =AVERAGE('4D'!O3:O30) -> 0.0072659474 | B4: =AVERAGE('4D'!P3:P30) -> 0.0076971 | C4: =AVERAGE('4D'!Q3:Q30) -> 0.032097722 | D4: =AVERAGE('4D'!R3:R30) -> 0.009139 | E4: =AVERAGE('4D'!S3:S30) -> 0.012684333 | F4: =AVERAGE('4D'!T3:T30) -> 0.0089788095

Sheet 4E
B1: off | D1: 10s | F1: 20s | I1: 30s | K1: 40s
B2: Average | C2: SD | D2: Average | E2: SD | F2: Average | G2: SD | I2: Average | J2: SD | K2: Average | L2: SD
A3: Vector/DMSO | B3: 0.23529412 | C3: 0.42733632 | D3: 0.24242424 | E3: 0.43183352 | F3: 0.24242424 | G3: 0.43183352 | I3: 0.25 | J3: 0.43643578 | K3: 0.24242424 | L3: 0.43183352
A4: Vector/Auranofin | B4: 0.26315789 | C4: 0.44625835 | D4: 0.26315789 | E4: 0.44625835 | F4: 0.36842105 | G4: 0.58913829 | I4: 1.2631579 | J4: 3.4144701 | K4: 1.8421053 | L4: 5.1387574
A5: TOPBP1/Wt/DMSO | B5: 0.24242424 | C5: 0.43549417 | D5: 0.75757576 | E5: 2.2600062 | F5: 3.8181818 | G5: 6.7038799 | I5: 9.1212121 | J5: 10.428715 | K5: 11.363636 | L5: 10.991875
A6: TOPBP1/Wt/Auranofin | B6: 0.23529412 | C6: 0.43802573 | D6: 0.29411765 | E6: 0.42141825 | F6: 0.35294118 | G6: 0.45722407 | I6: 0.70588235 | J6: 0.96639035 | K6: 1.5882353 | L6: 2.0601107
A7: TOPBP1/F1411A/DMSO | B7: 0.18518519 | C7: 0.3920952 | D7: 0.18518519 | E7: 0.3920952 | F7: 0.48148148 | G7: 1.5630249 | I7: 0.81481481 | J7: 2.5482075 | K7: 1.7407407 | L7: 4.1626605
A8: TOPBP1/F1411A/Auranofin | B8: 0.47058824 | C8: 0.4586762 | D8: 0.38235294 | E8: 0.44340087 | F8: 0.52941176 | G8: 1.3501239 | I8: 0.61764706 | J8: 4.1997082 | K8: 0.85294118 | L8: 5.3521649
B84: 1 | C84: 1 | D84: 1 | E84: 1 | F84: 1
B85: 0 | C85: 0 | D85: 0 | E85: 0 | F85: 0

Sheet 4F
A1: Replicate 1 | H1: Replicate 2 | O1: Replicate 3
A2: Vehicle-DMSO | B2: Vehicle-Afuranofin | C2: Vehicle-1,6-HD | D2: HU-DMSO | E2: HU-Auranofin | F2: HU-1,6-HD | H2: Vehicle-DMSO | I2: Vehicle-Afuranofin | J2: Vehicle-1,6-HD | K2: HU-DMSO | L2: HU-Auranofin | M2: HU-1,6-HD | O2: Vehicle-DMSO | P2: Vehicle-Afuranofin | Q2: Vehicle-1,6-HD | R2: HU-DMSO | S2: HU-Auranofin | T2: HU-1,6-HD
